Workbook

Sheet горизонтально
Z1: Додаток до програми підтримки ВОЗ
M2: затвердженої розпорядженням керівника Слов’янської міської військово-цивільної адміністрації 23.11.2023 № 2207 (в редакції розпорядження начальника Слов’янської міської військової адміністрації від __.12.2025 №____) нова редакція | Z2: затвердженої розпорядженням керівника Слов’янської міської військово-цивільної адміністрації 23.11.2023 № 2207 (в редакції розпорядження начальника Слов’янської міської військової адміністрації від __.12.2025 №____) нова редакція
A4: Порівняльна таблиця змін завдань і заходів Програми підтримки та розвитку галузі охорони здоров’я Слов’янської міської територіальної громади на 2024-2026 роки
A5: № і назва завдання Стратегії розвитку Донецької області на період до 2027 року | B5: № з/п | C5: Зміст заходу | D5: Термін виконання | E5: Виконавець | F5: Витрати на реалізацію, тис.грн | L5: Очікуваний результат | N5: № і назва завдання Стратегії розвитку Донецької області на період до 2027 року | O5: № з/п | P5: Зміст заходу | Q5: Термін виконання | R5: Виконавець | S5: Витрати на реалізацію, тис.грн | Y5: Очікуваний результат
F6: Всього | G6: у тому числі за рахунок коштів: | S6: Всього | T6: у тому числі за рахунок коштів:
G7: Держав- ного бюджету | H7: місцевих бюджетів | J7: підпри- ємств | K7: інших джерел | L7: найменування показника | M7: значення показника | T7: Держав- ного бюджету | U7: місцевих бюджетів | W7: підпри- ємств | X7: інших джерел | Y7: найменування показника | Z7: значення показника
H8: обласного бюджету | I8: бюджету територіальної громади | U8: обласного бюджету | V8: бюджету територіальної громади
A9: 1 | B9: 2 | C9: 3 | D9: 4 | E9: 5 | F9: 6 | G9: 7 | H9: 8 | I9: 9 | J9: 10 | K9: 11 | L9: 12 | M9: 13 | N9: 1 | O9: 2 | P9: 3 | Q9: 4 | R9: 5 | S9: 6 | T9: 7 | U9: 8 | V9: 9 | W9: 10 | X9: 11 | Y9: 12 | Z9: 13
A10: було | N10: стало
N11: додати завдання 2.2.1. захід 1:
N12: 2.2.1. Підтримка релокованих закладів освіти, охорони здоров'я, культури, спорту, соціального захисту населення, центрів надання адміністративних послуг та відновлення їх діяльності на території області після завешення бойових дій | O12: 1 | P12: Надання фінансової підтримки КНП СМР "Центр первинної медико-санітарної допомоги м. Слов'янська" на виконання заходів із забезпечення функціонування (діяльності) закладу переміщеного до більш безпечного регіону України (видатки на оплату праці,видатки на енергоносії, закупівля предметів, матеріалів, оплата послуг крім комунальних). | Q12: 2024
Q13: 2025
Q14: 2026 | R14: Відділ охорони здоров'я, КНП СМР "ЦПМСД" | S14: =T14+U14+V14+W14+X14 -> 3020.344 | T14: 0 | U14: 0 | V14: 3020.344 | W14: 0 | X14: 0 | Y14: кількість підприємств | Z14: 1
A15: РАЗОМ | D15: 2024 | F15: =G15+H15+I15+J15+K15 -> 97696.2 | G15: 4509 | H15: 0 | I15: 74720.2 | J15: 3901 | K15: 14566 | N15: РАЗОМ | Q15: 2024 | S15: =T15+U15+V15+W15+X15 -> 97696.2 | T15: 4509 | U15: 0 | V15: 74720.2 | W15: 3901 | X15: 14566
D16: 2025 | F16: =G16+H16+I16+J16+K16 -> 101965.92 | G16: 4555 | H16: 0 | I16: 78780.92 | J16: 4031 | K16: 14599 | Q16: 2025 | S16: =T16+U16+V16+W16+X16 -> 101965.92 | T16: 4555 | U16: 0 | V16: 78780.92 | W16: 4031 | X16: 14599
D17: 2026 | F17: =G17+H17+I17+J17+K17 -> 83397.95 | G17: 0 | H17: 0 | I17: 66503.35 | J17: 0 | K17: 16894.6 | Q17: 2026 | S17: =T17+U17+V17+W17+X17 -> 86418.294 | T17: 0 | U17: 0 | V17: =66503.35+3020.344 -> 69523.694 | W17: 0 | X17: 16894.6
D18: 2024-2026 | F18: =G18+H18+I18+J18+K18 -> 283060.07 | G18: =G15+G16+G17 -> 9064 | H18: =H15+H16+H17 -> 0 | I18: =I15+I16+I17 -> 220004.47 | J18: =J15+J16+J17 -> 7932 | K18: =K15+K16+K17 -> 46059.6 | Q18: 2024-2026 | S18: =T18+U18+V18+W18+X18 -> 286080.41 | T18: =T15+T16+T17 -> 9064 | U18: =U15+U16+U17 -> 0 | V18: =V15+V16+V17 -> 223024.81 | W18: =W15+W16+W17 -> 7932 | X18: =X15+X16+X17 -> 46059.6
A19: 11. Фізичне виховання та спорт | N19: 11. Фізичне виховання та спорт
A20: 2.3.3 Підтримка спорту вищих досягнень, дитячо-юнацького і резервного спорту | C20: Проведення та участь у спортивно-масових заходах | N20: 2.3.3 Підтримка спорту вищих досягнень, дитячо-юнацького і резервного спорту | P20: Проведення та участь у спортивно-масових заходах
B21: 1 | C21: Проведення навчально-тренувальних зборів, змагань, турнірів, спортивно-масових, урочистих заходів тощо; забезпечення участі спортсменів, команд та організацій у міських, регіональних, обласних, всеукраїнських та міжнародних змаганнях з олімпійських, неолімпійських та національних видів спорту; проведення фізкультурно-масових заходів серед населення | D21: 2026 | E21: Відділ у справах сім'ї, молоді, фізичної культури та спорту | F21: =G21+H21+I21+J21+K21 -> 137 | I21: 137 | L21: кількість учасників спортивних заходів, змагань | M21: 1000 осіб | O21: 1 | P21: Проведення навчально-тренувальних зборів, змагань, турнірів, спортивно-масових, урочистих заходів тощо; забезпечення участі спортсменів, команд та організацій у міських, регіональних, обласних, всеукраїнських та міжнародних змаганнях з олімпійських, неолімпійських та національних видів спорту; проведення фізкультурно-масових заходів серед населення | Q21: 2026 | R21: Відділ у справах сім'ї, молоді, фізичної культури та спорту | S21: =T21+U21+V21+W21+X21 -> 137 | V21: 137 | Y21: кількість учасників спортивних заходів, змагань | Z21: 1000 осіб
B22: 2 | C22: Проведення навчально-тренувальних зборів, змагань, турнірів, спортивно-масових, урочистих заходів тощо; забезпечення участі спортсменів, команд та організацій у міських, регіональних, обласних, всеукраїнських та міжнародних змаганнях з видів спорту серед людей з інвалідністю | D22: 2026 | E22: Відділ у справах сім'ї, молоді, фізичної культури та спорту | F22: =G22+H22+I22+J22+K22 -> 5 | I22: 5 | L22: кількість учасників спортивних заходів, змагань | M22: 20 од. | O22: 2 | P22: Проведення навчально-тренувальних зборів, змагань, турнірів, спортивно-масових, урочистих заходів тощо; забезпечення участі спортсменів, команд та організацій у міських, регіональних, обласних, всеукраїнських та міжнародних змаганнях з видів спорту серед людей з інвалідністю | Q22: 2026 | R22: Відділ у справах сім'ї, молоді, фізичної культури та спорту | S22: =T22+U22+V22+W22+X22 -> 5 | V22: 5 | Y22: кількість учасників спортивних заходів, змагань | Z22: 20 од.
C23: Надання фінансової допомоги провідним спортсменам в т.ч.: | P23: Надання фінансової допомоги провідним спортсменам в т.ч.:
B24: 1 | C24: Стипендія провідним та перспективним спортсменам Слов'янської міської територіальної громади | D24: 2026 | E24: Відділ у справах сім'ї, молоді, фізичної культури та спорту | F24: =G24+H24+I24+J24+K24 -> 200 | I24: 200 | L24: кількість спортсменів | M24: 20 осіб | O24: 1 | P24: Стипендія провідним та перспективним спортсменам Слов'янської міської територіальної громади | Q24: 2026 | R24: Відділ у справах сім'ї, молоді, фізичної культури та спорту | S24: =T24+U24+V24+W24+X24 -> 200 | V24: 200 | Y24: кількість спортсменів | Z24: 20 осіб
B25: 2 | C25: Виплата одноразових винагород, премій спортсменам та їх тренерам за досягнення високих спортивних результатів | D25: 2026 | E25: Відділ у справах сім'ї, молоді, фізичної культури та спорту | F25: =G25+H25+I25+J25+K25 -> 280 | I25: 280 | L25: кількість отримувачів винагород, премій | M25: 40 осіб | O25: 2 | P25: Виплата одноразових винагород, премій спортсменам та їх тренерам за досягнення високих спортивних результатів | Q25: 2026 | R25: Відділ у справах сім'ї, молоді, фізичної культури та спорту | S25: =T25+U25+V25+W25+X25 -> 280 | V25: 280 | Y25: кількість отримувачів винагород, премій | Z25: 40 осіб
C26: Придбання спортивного обладнання та інвентарю, в т.ч. за установами або закладами | P26: Придбання спортивного обладнання та інвентарю, в т.ч. за установами або закладами
C27: Заходи щодо підтримки об’єктів комунальної власності (утримання ДЮСШ, спортивних споруд та «пристосованих приміщень») | P27: Заходи щодо підтримки об’єктів комунальної власності (утримання ДЮСШ, спортивних споруд та «пристосованих приміщень»)
C28: КЗ "ДЮСШ м. Слов'янська" | P28: КЗ "ДЮСШ м. Слов'янська"
B29: 1 | C29: Утримання КЗ "ДЮСШ м.Слов'янська", в тому числі оренда нерухомого майна (у нежитловій будівлі) "Будинок зв'язку", вул. Свободи для організації навчально-тренувального процесу | D29: 2026 | E29: Відділ у справах сім'ї, молоді, фізичної культури та спорту | F29: =G29+H29+I29+J29+K29 -> 1900 | I29: 1900 | L29: утримання закладу | M29: 1 од. | O29: 1 | P29: Утримання КЗ "ДЮСШ м.Слов'янська", в тому числі оренда нерухомого майна (у нежитловій будівлі) "Будинок зв'язку", вул. Свободи для організації навчально-тренувального процесу | Q29: 2026 | R29: Відділ у справах сім'ї, молоді, фізичної культури та спорту | S29: =T29+U29+V29+W29+X29 -> 1900 | V29: 1900 | Y29: утримання закладу | Z29: 1 од.
C30: КПНЗ "Міська КДЮСШ" | P30: КПНЗ "Міська КДЮСШ"
B31: 1 | C31: Утримання КПНЗ "Міська КДЮСШ" | D31: 2026 | E31: Відділ у справах сім'ї, молоді, фізичної культури та спорту | F31: =G31+H31+I31+J31+K31 -> 2800 | I31: 2800 | L31: утримання закладу | M31: 1 од. | O31: 1 | P31: Утримання КПНЗ "Міська КДЮСШ" | Q31: 2026 | R31: Відділ у справах сім'ї, молоді, фізичної культури та спорту | S31: =T31+U31+V31+W31+X31 -> 2800 | V31: 2800 | Y31: утримання закладу | Z31: 1 од.
C32: КЗ "Центр фізичного здоров’я населення "Спорт для всіх" | P32: КЗ "Центр фізичного здоров’я населення "Спорт для всіх"
B33: 1 | C33: Утримання центру фізичного здоров’я населення "Спорт для всіх" | D33: 2026 | E33: Відділ у справах сім'ї, молоді, фізичної культури та спорту | F33: =G33+H33+I33+J33+K33 -> 800 | I33: 800 | L33: утримання закладу | M33: 1 од. | O33: 1 | P33: Утримання центру фізичного здоров’я населення "Спорт для всіх" | Q33: 2026 | R33: Відділ у справах сім'ї, молоді, фізичної культури та спорту | S33: =T33+U33+V33+W33+X33 -> 800 | V33: 800 | Y33: утримання закладу | Z33: 1 од.
C34: КЗ "Фізкультурно-оздоровчий комплекс м. Слов'янська" | P34: КЗ "Фізкультурно-оздоровчий комплекс м. Слов'янська"
B35: 1 | C35: Утримання КЗ "Фізкультурно-оздоровчий комплекс м.Слов'янська" | D35: 2026 | E35: Відділ у справах сім'ї, молоді, фізичної культури та спорту | F35: =G35+H35+I35+J35+K35 -> 3350 | I35: 3100 | J35: 250 | L35: утримання закладу | M35: 1 заклад | O35: 1 | P35: Утримання КЗ "Фізкультурно-оздоровчий комплекс м.Слов'янська" | Q35: 2026 | R35: Відділ у справах сім'ї, молоді, фізичної культури та спорту | S35: =T35+U35+V35+W35+X35 -> 3350 | V35: 3100 | W35: 250 | Y35: утримання закладу | Z35: 1 заклад
B36: 2 | C36: Обслуговування системи з дезінфекції води (придбання фільтрів, реагентів; колб для системи дезінфекції Aquatrons systems і8000 тощо) | D36: 2026 | E36: КЗ "Фізкультурно-оздоровчий комплекс м.Слов'янська" | F36: =G36+H36+I36+J36+K36 -> 250 | I36: 250 | L36: кількість матеріалів, витратних засобів | M36: 20 од. | O36: 2 | P36: Обслуговування системи з дезінфекції води (придбання фільтрів, реагентів; колб для системи дезінфекції Aquatrons systems і8000 тощо) | Q36: 2026 | R36: КЗ "Фізкультурно-оздоровчий комплекс м.Слов'янська" | S36: =T36+U36+V36+W36+X36 -> 250 | V36: 250 | Y36: кількість матеріалів, витратних засобів | Z36: 20 од.
C37: КЗ "Спортивний клуб за місцем проживання "Культурно-спортивний центр" | P37: КЗ "Спортивний клуб за місцем проживання "Культурно-спортивний центр"
B38: 1 | C38: Утримання КЗ "Спортивний клуб за місцем проживання "Культурно-спортивний центр" | D38: 2026 | E38: Відділ у справах сім'ї, молоді, фізичної культури та спорту | F38: =G38+H38+I38+J38+K38 -> 1300 | I38: 1300 | L38: утримання закладу | M38: 1 заклад | O38: 1 | P38: Утримання КЗ "Спортивний клуб за місцем проживання "Культурно-спортивний центр" | Q38: 2026 | R38: Відділ у справах сім'ї, молоді, фізичної культури та спорту | S38: =T38+U38+V38+W38+X38 -> 1300 | V38: 1300 | Y38: утримання закладу | Z38: 1 заклад
B39: 2 | C39: Заходи щодо сприяння розвитку футболу в Слов'янську: підтримка ФК "Слов'янськ"; інших аматорських футбольних команд (які виступають у офіційних заходах згідно календаря Федерації футболу Донецької області); придбання спортивного інвентарю, обладнання; спортивної форми | D39: 2026 | E39: КЗ "Спортивний клуб за місцем проживання школа «Культурно-спортивний центр" | F39: =G39+H39+I39+J39+K39 -> 75 | I39: 75 | L39: кількість зборів, змагань | M39: 25 од. | O39: 2 | P39: Заходи щодо сприяння розвитку футболу в Слов'янську: підтримка ФК "Слов'янськ"; інших аматорських футбольних команд (які виступають у офіційних заходах згідно календаря Федерації футболу Донецької області); придбання спортивного інвентарю, обладнання; спортивної форми | Q39: 2026 | R39: КЗ "Спортивний клуб за місцем проживання школа «Культурно-спортивний центр" | S39: =T39+U39+V39+W39+X39 -> 75 | V39: 75 | Y39: кількість зборів, змагань | Z39: 25 од.
C40: Усього по Розділу 11 | F40: =G40+H40+I40+J40+K40 -> 11097 | G40: =SUM(G21:G39) -> 0 | H40: =SUM(H21:H39) -> 0 | I40: =SUM(I21:I39) -> 10847 | J40: =SUM(J21:J39) -> 250 | K40: =SUM(K21:K39) -> 0 | P40: Усього по Розділу 11 | S40: =T40+U40+V40+W40+X40 -> 11097 | T40: =SUM(T21:T39) -> 0 | U40: =SUM(U21:U39) -> 0 | V40: =SUM(V21:V39) -> 10847 | W40: =SUM(W21:W39) -> 250 | X40: =SUM(X21:X39) -> 0
A41: 12. Культура і туризм | N41: 12. Культура і туризм
...

Sheet зміни згідно р1670 від 14.04.26
K1: Додаток до розпорядження начальника Слов'янської міської військової адміністрації від 14.04.2026 № 1670
A4: Зміни завдань і заходів Програми підтримки та розвитку галузі охорони здоров’я Слов’янської міської територіальної громади на 2024-2026 роки
A5: № і назва завдання Стратегії розвитку Донецької області на період до 2027 року | B5: № з/п | C5: Зміст заходу | D5: Термін виконання | E5: Виконавець | F5: Витрати на реалізацію, тис.грн | L5: Очікуваний результат
F6: Всього | G6: у тому числі за рахунок коштів:
G7: Держав- ного бюджету | H7: місцевих бюджетів | J7: підпри- ємств | K7: інших джерел | L7: найменування показника | M7: значення показника
H8: обласного бюджету | I8: бюджету територіальної громади
A9: 1 | B9: 2 | C9: 3 | D9: 4 | E9: 5 | F9: 6 | G9: 7 | H9: 8 | I9: 9 | J9: 10 | K9: 11 | L9: 12 | M9: 13
A10: 1. У розділ Перелік завдань і заходів Програми підтримки та розвитку галузі охорони здоров’я Слов’янської міської територіальної громади на 2024-2026 роки внести такі зміни:
A11: 1) додати завдання 2.2.1. "Підтримка релокованих закладів освіти, охорони здоров'я, культури, спорту, соціального захисту населення, центрів надання адміністративних послуг та відновлення їх діяльності на території області після завешення бойових дій" захід 1 "Надання фінансової підтримки КНП СМР "Центр первинної медико-санітарної допомоги м. Слов'янська" на виконання заходів із забезпечення функціонування (діяльності) закладу переміщеного до більш безпечного регіону України (видатки на оплату праці,видатки на енергоносії, закупівля предметів, матеріалів, оплата послуг крім комунальних)."
A12: 2.2.1. Підтримка релокованих закладів освіти, охорони здоров'я, культури, спорту, соціального захисту населення, центрів надання адміністративних послуг та відновлення їх діяльності на території області після завешення бойових дій | B12: 1 | C12: Надання фінансової підтримки КНП СМР "Центр первинної медико-санітарної допомоги м. Слов'янська" на виконання заходів із забезпечення функціонування (діяльності) закладу переміщеного до більш безпечного регіону України (видатки на оплату праці,видатки на енергоносії, закупівля предметів, матеріалів, оплата послуг крім комунальних). | D12: 2024
D13: 2025
D14: 2026 | E14: Відділ охорони здоров'я, КНП СМР "ЦПМСД" | F14: =G14+H14+I14+J14+K14 -> 3020.344 | G14: 0 | H14: 0 | I14: 3020.344 | J14: 0 | K14: 0 | L14: кількість підприємств | M14: 1
A15: 2) Рядок «РАЗОМ» викласти в такій редакції:
A16: РАЗОМ | D16: 2024 | F16: =G16+H16+I16+J16+K16 -> 97696.2 | G16: 4509 | H16: 0 | I16: 74720.2 | J16: 3901 | K16: 14566
D17: 2025 | F17: =G17+H17+I17+J17+K17 -> 101965.92 | G17: 4555 | H17: 0 | I17: 78780.92 | J17: 4031 | K17: 14599
D18: 2026 | F18: =G18+H18+I18+J18+K18 -> 86418.294 | G18: 0 | H18: 0 | I18: =66503.35+3020.344 -> 69523.694 | J18: 0 | K18: 16894.6
D19: 2024-2026 | F19: =G19+H19+I19+J19+K19 -> 286080.41 | G19: =G16+G17+G18 -> 9064 | H19: =H16+H17+H18 -> 0 | I19: =I16+I17+I18 -> 223024.81 | J19: =J16+J17+J18 -> 7932 | K19: =K16+K17+K18 -> 46059.6
A21: Начальник відділу охорони здоров'я Слов'янської міської ВА | G21: Марина ПОРОХНЯК

Sheet Лист1
M1: Додаток
M2: до Програми
A4: Перелік завдань і заходів Програми підтримки та розвитку галузі охорони здоров’я Слов’янської міської територіальної громади на 2024-2026 роки
A5: Чинна редакція
A6: № і назва завдання Стратегії розвитку Донецької області на період до 2027 року | B6: № з/п | C6: Зміст заходу | D6: Термін виконання | E6: Виконавець | F6: Витрати на реалізацію, тис.грн | L6: Очікуваний результат
F7: Всього | G7: у тому числі за рахунок коштів:
G8: Держав- ного бюджету | H8: місцевих бюджетів | J8: підпри- ємств | K8: інших джерел | L8: найменування показника | M8: значення показника
H9: обласного бюджету | I9: бюджету територіальної громади
A10: 1 | B10: 2 | C10: 3 | D10: 4 | E10: 5 | F10: 6 | G10: 7 | H10: 8 | I10: 9 | J10: 10 | K10: 11 | L10: 12 | M10: 13
A11: 2.2.1 Підвищення якості та загальної доступності медичних послуг у містах та сільській місцевості
A12: 2.2.2 Посилення профілактичних заходів з упередження захворюваності населення
A13: 2.2.3 Підвищення якості та загальної доступності медичних послуг у містах та сільській місцевості
A18: Нова редакція
A19: № і назва завдання Стратегії розвитку Донецької області на період до 2027 року | B19: № з/п | C19: Зміст заходу | D19: Термін виконання | E19: Виконавець | F19: Витрати на реалізацію, тис.грн | L19: Очікуваний результат
F20: Всього | G20: у тому числі за рахунок коштів:
G21: Держав- ного бюджету | H21: місцевих бюджетів | J21: підпри- ємств | K21: інших джерел | L21: найменування показника | M21: значення показника
H22: обласного бюджету | I22: бюджету територіальної громади
A23: 1 | B23: 2 | C23: 3 | D23: 4 | E23: 5 | F23: 6 | G23: 7 | H23: 8 | I23: 9 | J23: 10 | K23: 11 | L23: 12 | M23: 13
A24: 2.1.2. Забезпечення доступності медичних, спортивних, культурних послуг для населення з урахуванням безпекових викликів

Sheet мкл
M1: Додаток 2
M2: до Програми
A4: ЗАХОДИ З РЕАЛІЗАЦІЇ ПРОГРАМИ
A5: № і назва завдання Стратегії розвитку Донецької області на період до 2027 року | B5: № з/п | C5: Зміст заходу | D5: Термін виконан- ня | E5: Виконавець | F5: Витрати на реалізацію, тис.грн | L5: Очікуваний результат
F6: Всього | G6: у тому числі за рахунок коштів:
G7: Держав- ного бюджету | H7: місцевих бюджетів | J7: підпри- ємств | K7: інших джерел | L7: найменування показника | M7: значення показника
H8: обласного бюджету | I8: бюджету територіальної громади
A9: 1 | B9: 2 | C9: 3 | D9: 4 | E9: 5 | F9: 6 | G9: 7 | H9: 8 | I9: 9 | J9: 10 | K9: 11 | L9: 12 | M9: 13
A10: 2.2.1 Підвищення якості та загальної доступності медичних послуг у містах та сільській місцевості | C10: Удосконалення кадрової політики | P10: цпмсд | Q10: мкл | R10: гб1
B11: 1 | C11: Перепідготовка кадрів для центру первинної медико-санітарної допомоги, комунальних некомерційних підприємств | D11: 2024 | E11: Відділ охорони здоров'я | F11: =G11+H11+I11+J11+K11 -> 132 | I11: 72 | K11: 60 | L11: кількість лікарів, середніх медпрацівників | M11: ( 1 лікар - навчання на курсах спеціалізації дитяча анестезіологія, 3 лікаря - навчання на курсах спеціалізації терапія) | Q11: Лікарів-1 | R11: 0
D12: 2025 | E12: Відділ охорони здоров'я | F12: =G12+H12+I12+J12+K12 -> 60 | K12: 60 | L12: кількість лікарів, середніх медпрацівників | M12: спеціалізація фізична та реабілітаційна медицина 2 медсестри.
D13: 2026 | E13: Відділ охорони здоров'я | F13: =G13+H13+I13+J13+K13 -> 60 | K13: 60 | L13: кількість лікарів, середніх медпрацівників
B14: 2 | C14: Щомісячні доплати до заробітної плати медичним працівникам (лікарям), що надають первинну медичну допомогу | D14: 2024 | E14: Відділ охорони здоров'я | F14: =G14+H14+I14+J14+K14 -> 0 | L14: кількість лікарів
D15: 2025 | E15: Відділ охорони здоров'я | F15: =G15+H15+I15+J15+K15 -> 0 | L15: кількість лікарів
D16: 2026 | E16: Відділ охорони здоров'я | F16: =G16+H16+I16+J16+K16 -> 0 | L16: кількість лікарів
B17: 3 | C17: Впровадження та розвиток єдиної медичної інформаційної системи охорони здоров'я | D17: 2024 | E17: Відділ охорони здоров'я | F17: =G17+H17+I17+J17+K17 -> 400 | I17: 400 | L17: кількість комп'ютерного оснащення, робочих місць | M17: 20 робочих місць | N17: 4 | P17: 28 раб.места Хелсі, інтернет, придбано 2 ноутбука
D18: 2025 | E18: Відділ охорони здоров'я | F18: =G18+H18+I18+J18+K18 -> 28 | I18: 28 | L18: кількість комп'ютерного оснащення, робочих місць | M18: 20 робочих місць
D19: 2026 | E19: Відділ охорони здоров'я | F19: =G19+H19+I19+J19+K19 -> 0 | I19: 0 | L19: кількість комп'ютерного оснащення, робочих місць | M19: 20 робочих місць
B20: 4 | C20: Підтримка комунальних некомерційних підприємств охорони здоров'я (понад кошти НСЗУ) : - оплата комунальних послуг та енергоносіїв; - медикаментозне та матеріально-технічне забезпечення з урахуванням потреб населення. Закупівля лікарських засобів та перев’язувальних матеріалів; виробів медичного призначення; технічних засобів; дезінфікуючих засобів, проведення поточних ремонтів тощо; -забезпечення проведення харчування на відповідному рівні в умовах стаціонару; -забезпечення закладів охорони здоров’я видатками на оплату праці відповідно до встановлених чинним законодавством умов оплати праці (забезпечення роботи медичної комісії для проведення медичного огляду призовників, працівників бюджетної сфери; утримання штатних посад лікарів-інтернів; забезпечення роботи фізіотерапевтичних поліклінічних відділень та кабінетів; забезпечення роботи «Клініки дружньої до молоді»; забезпечення роботи трансфузіологічного відділення, виплата муніципальної доплати до заробітної плати медичним та іншим працівникам, які безпосередньо зайняті на роботах з ліквідації захворювання серед людей на коронавірусну хворобу (COVID-19)); -безкоштовне надання стоматологічної допомоги дитячому населенню громади; -безкоштовне надання стоматологічних медичних послуг пільговим категоріям населення громади; -забезпечення відшкодування пільгових пенсій при достроковому виході на пенсію | D20: 2024 | E20: Відділ охорони здоров'я | F20: =G20+H20+I20+J20+K20 -> 25027.4 | I20: 25027.4 | L20: кількість підприємств | M20: ЗП та нарахування - 5 458,5 т.грн, пердмети, обл та інвентар - 599,7 т.грн, медикаменти - 1794,2 т.грн, продукти харчування - 1720,6т.грн, оплата послуг крім комунальних - 2878,6т.грн, видатки на відр 50,0т.грн , оплата комун послуг - 11 937,4 т.грн, послуги з проф підготовки спеціалістів з вид сертифікатів - 8,4т.грн, виплата льготної пенсії - 780,0т.грн.) | N20: 5 | R20: Всього ставок :31,75, з них : лікарі - 3,5; середній медпресонал - 20,75; молодший медперсонал - 4,75; фахівці - 1,5; інші - 1,25. КЕКВ 2270 - 857,7; КЕКВ 2220 - 990,1; КЕКВ 2230 - 449,9; КЕКВ 2111 - 1273,5; КЕКВ 2120 - 314,3
D21: 2025 | E21: Відділ охорони здоров'я | F21: =G21+H21+I21+J21+K21 -> 26784.09 | I21: 26784.09 | L21: кількість підприємств | M21: ЗП та нарахування - 5 709,6 т.грн, пердмети, обл та інвентар - 635,68 т.грн, медикаменти - 1901,85 т.грн, продукти харчування - 1823,84т.грн, оплата послуг крім комунальних - 3051,32т.грн, видатки на відр 53,0т.грн , оплата комун послуг - 12773,1 т.грн, послуги з проф підготовки спеціалістів з вид сертифікатів - 8,9т.грн, виплата льготної пенсії - 826,8т.грн.)
D22: 2026 | E22: Відділ охорони здоров'я | F22: =G22+H22+I22+J22+K22 -> 32290 | I22: 32290 | L22: кількість підприємств | M22: ЗП та нарахування - 5 840,6 т.грн, пердмети, обл та інвентар - 641,68 т.грн, медикаменти - 1919,79 т.грн, продукти харчування - 1841,04т.грн, оплата послуг крім комунальних - 3080,1т.грн, видатки на відр 53,5т.грн , оплата комун послуг - 12784 т.грн, послуги з проф підготовки спеціалістів з вид сертифікатів - 8,98т.грн, виплата льготної пенсії - 834,6т.грн.)
B23: 5 | C23: протипожежна безпека | D23: 2024 | E23: Відділ охорони здоров'я | F23: =G23+H23+I23+J23+K23 -> 55.1 | I23: 55.1 | L23: кількість закладів | M23: пожежні крани, рукави - 10шт, обслуговування вогнегасників - 80шт, верифікація вет.кранів - 16шт, перевірка контура заземлення, навчання з питань пожежної безпеки - 6 осіб | N23: 6
D24: 2025 | E24: Відділ охорони здоров'я | F24: =G24+H24+I24+J24+K24 -> 0 | L24: кількість закладів | M24: пожежні крани, рукави - 10шт, обслуговування вогнегасників - 80шт, верифікація вет.кранів - 16шт, перевірка контура заземлення, навчання з питань пожежної безпеки - 6 осіб
D25: 2026 | E25: Відділ охорони здоров'я | F25: =G25+H25+I25+J25+K25 -> 20 | I25: 20 | L25: кількість закладів | M25: пожежні крани, рукави - 10шт, обслуговування вогнегасників - 80шт, верифікація вет.кранів - 16шт, перевірка контура заземлення, навчання з питань пожежної безпеки - 6 осіб
A26: 2.2.2 Посилення профілактичних заходів з упередження захворюваності населення | C26: Забезпечення хворих на ВІЛ-інфекцію і СНІД та профілактика ВІЛ-інфекції
B27: 1 | C27: Придбання тест/систем, реактивів та систем відбору крові задля добровільного консультування і тестування на ВІЛ-інфекцію та обстеження ВІЛ-інфікованих пацієнтів, що перебувають під медичним наглядом | D27: 2024 | E27: Відділ охорони здоров'я | F27: =G27+H27+I27+J27+K27 -> 60 | G27: 20 | I27: 10 | J27: 10 | K27: 20 | L27: кількість | M27: 780 осіб | P27: 270 осіб | R27: 0
D28: 2025 | E28: Відділ охорони здоров'я | F28: =G28+H28+I28+J28+K28 -> 50 | G28: 20 | I28: 0 | J28: 10 | K28: 20 | L28: кількість | M28: 780 осіб
D29: 2026 | E29: Відділ охорони здоров'я | F29: =G29+H29+I29+J29+K29 -> 20 | I29: 0 | K29: 20 | L29: кількість | M29: 780 осіб
B30: 2 | C30: Придбання лікарських засобів задля профілактики та лікування опортуністичних інфекцій, супутніх станів та захворювань у ВІЛ-інфікованих та хворих на СНІД | D30: 2024 | E30: Відділ охорони здоров'я | F30: =G30+H30+I30+J30+K30 -> 100 | I30: 100 | L30: загальна кількість пацієнтів
D31: 2025 | E31: Відділ охорони здоров'я | F31: =G31+H31+I31+J31+K31 -> 0 | I31: 0 | L31: загальна кількість пацієнтів
D32: 2026 | E32: Відділ охорони здоров'я | F32: =G32+H32+I32+J32+K32 -> 0 | I32: 0 | L32: загальна кількість пацієнтів
C33: Забезпечення хворих на туберкульоз та профілактика захворювання | D33: 2026
B34: 1 | C34: Забезпечувати безкоштовною рентген плівкою, реактивами для проведення профоглядів на ТБ осіб з визначених груп "ризику" (в першу чергу - ВІЛ-інфікованих, звільнених з місць позбавлення волі, контактних з вогнищ ТБ, безпритульних) | D34: 2024 | E34: Відділ охорони здоров'я | F34: =G34+H34+I34+J34+K34 -> 0 | L34: кількість рентгенологічних досліджень, бактеріологічних досліджень | R34: 1354 осіб / 6 досліджень
D35: 2025 | E35: Відділ охорони здоров'я | F35: =G35+H35+I35+J35+K35 -> 11 | I35: 11 | L35: кількість рентгенологічних досліджень, бактеріологічних досліджень | P35: 0
D36: 2026 | E36: Відділ охорони здоров'я | F36: =G36+H36+I36+J36+K36 -> 0 | L36: кількість рентгенологічних досліджень, бактеріологічних досліджень
B37: 2 | C37: Забезпечення продовольчими пакетами на амбулаторному лікуванні | D37: 2024 | E37: Відділ охорони здоров'я | F37: =G37+H37+I37+J37+K37 -> 0 | L37: кількість забезпечених | R37: 1354 осіб / 6 досліджень
D38: 2025 | E38: Відділ охорони здоров'я | F38: =G38+H38+I38+J38+K38 -> 0 | L38: кількість забезпечених | P38: 0
D39: 2026 | E39: Відділ охорони здоров'я | F39: =G39+H39+I39+J39+K39 -> 0 | L39: кількість забезпечених
B40: 3 | C40: Забезпечити своєчасне щеплення населення новонароджених від туберкульозу (БЦЖ) | D40: 2024 | E40: Відділ охорони здоров'я | F40: =G40+H40+I40+J40+K40 -> 60 | G40: 50 | K40: 10 | L40: кількість дітей | M40: 300 дітей | P40: 132 | Q40: 130
D41: 2025 | E41: Відділ охорони здоров'я | F41: =G41+H41+I41+J41+K41 -> 60 | G41: 50 | K41: 10 | L41: кількість дітей | M41: 300 дітей
...

Sheet гб1
M1: Додаток 2
M2: до Програми
A4: ЗАХОДИ З РЕАЛІЗАЦІЇ ПРОГРАМИ
A5: № і назва завдання Стратегії розвитку Донецької області на період до 2027 року | B5: № з/п | C5: Зміст заходу | D5: Термін виконан- ня | E5: Виконавець | F5: Витрати на реалізацію, тис.грн | L5: Очікуваний результат
F6: Всього | G6: у тому числі за рахунок коштів:
G7: Держав- ного бюджету | H7: місцевих бюджетів | J7: підпри- ємств | K7: інших джерел | L7: найменування показника | M7: значення показника
H8: обласного бюджету | I8: бюджету територіальної громади
A9: 1 | B9: 2 | C9: 3 | D9: 4 | E9: 5 | F9: 6 | G9: 7 | H9: 8 | I9: 9 | J9: 10 | K9: 11 | L9: 12 | M9: 13
A10: 2.2.1 Підвищення якості та загальної доступності медичних послуг у містах та сільській місцевості | C10: Удосконалення кадрової політики | P10: цпмсд | Q10: мкл | R10: гб1
B11: 1 | C11: Перепідготовка кадрів для центру первинної медико-санітарної допомоги, комунальних некомерційних підприємств | D11: 2024 | E11: Відділ охорони здоров'я | F11: =G11+H11+I11+J11+K11 -> 169.3 | I11: 169.3 | L11: кількість лікарів, середніх медпрацівників | M11: М/б - 1 лікар, 14 середній м/п; НСЗУ : середній м/п - 23. | Q11: Лікарів-1 | R11: 0
D12: 2025 | E12: Відділ охорони здоров'я | F12: =G12+H12+I12+J12+K12 -> 0 | L12: кількість лікарів, середніх медпрацівників | M12: М/б - 1 лікар, 14 середній м/п; НСЗУ : середній м/п - 25.
D13: 2026 | E13: Відділ охорони здоров'я | F13: =G13+H13+I13+J13+K13 -> 0 | L13: кількість лікарів, середніх медпрацівників | M13: М/б - 1 лікар, 14 середній м/п; НСЗУ : середній м/п - 43.
B14: 2 | C14: Щомісячні доплати до заробітної плати медичним працівникам (лікарям), що надають первинну медичну допомогу | D14: 2024 | E14: Відділ охорони здоров'я | F14: =G14+H14+I14+J14+K14 -> 0 | L14: кількість лікарів
D15: 2025 | E15: Відділ охорони здоров'я | F15: =G15+H15+I15+J15+K15 -> 0 | L15: кількість лікарів
D16: 2026 | E16: Відділ охорони здоров'я | F16: =G16+H16+I16+J16+K16 -> 0 | L16: кількість лікарів
B17: 3 | C17: Впровадження та розвиток єдиної медичної інформаційної системи охорони здоров'я | D17: 2024 | E17: Відділ охорони здоров'я | F17: =G17+H17+I17+J17+K17 -> 0 | L17: кількість комп'ютерного оснащення, робочих місць | N17: 4 | P17: 28 раб.места Хелсі, інтернет, придбано 2 ноутбука
D18: 2025 | E18: Відділ охорони здоров'я | F18: =G18+H18+I18+J18+K18 -> 0 | L18: кількість комп'ютерного оснащення, робочих місць
D19: 2026 | E19: Відділ охорони здоров'я | F19: =G19+H19+I19+J19+K19 -> 0 | L19: кількість комп'ютерного оснащення, робочих місць
B20: 4 | C20: Підтримка комунальних некомерційних підприємств охорони здоров'я (понад кошти НСЗУ) : - оплата комунальних послуг та енергоносіїв; - медикаментозне та матеріально-технічне забезпечення з урахуванням потреб населення. Закупівля лікарських засобів та перев’язувальних матеріалів; виробів медичного призначення; технічних засобів; дезінфікуючих засобів, проведення поточних ремонтів тощо; -забезпечення проведення харчування на відповідному рівні в умовах стаціонару; -забезпечення закладів охорони здоров’я видатками на оплату праці відповідно до встановлених чинним законодавством умов оплати праці (забезпечення роботи медичної комісії для проведення медичного огляду призовників, працівників бюджетної сфери; утримання штатних посад лікарів-інтернів; забезпечення роботи фізіотерапевтичних поліклінічних відділень та кабінетів; забезпечення роботи «Клініки дружньої до молоді»; забезпечення роботи трансфузіологічного відділення, виплата муніципальної доплати до заробітної плати медичним та іншим працівникам, які безпосередньо зайняті на роботах з ліквідації захворювання серед людей на коронавірусну хворобу (COVID-19)); -безкоштовне надання стоматологічної допомоги дитячому населенню громади; -безкоштовне надання стоматологічних медичних послуг пільговим категоріям населення громади; -забезпечення відшкодування пільгових пенсій при достроковому виході на пенсію | D20: 2024 | E20: Відділ охорони здоров'я | F20: =G20+H20+I20+J20+K20 -> 14000 | I20: 14000 | L20: кількість підприємств | M20: Всього ставок :24,25, з них : лікарі - 2,25; середній медпресонал - 17,25; молодший медперсонал - 3,0; фахівці - 1,5; інші - 0,25. КЕКВ 2111 - 4925,7; КЕКВ 2120 - 1083,6 КЕКВ 2210 -608,5; КЕКВ 2220 - 1940,0; КЕКВ 2230 - 920,0; КЕКВ 2240 - 650,0; КЕКВ 2270 - 7883,0; КЕКВ 2282 -10,0; КЕКВ - 2710 - 139,8; КЕКВ 2730 - 32,0 | N20: 5 | R20: Всього ставок :31,75, з них : лікарі - 3,5; середній медпресонал - 20,75; молодший медперсонал - 4,75; фахівці - 1,5; інші - 1,25. КЕКВ 2270 - 857,7; КЕКВ 2220 - 990,1; КЕКВ 2230 - 449,9; КЕКВ 2111 - 1273,5; КЕКВ 2120 - 314,3
D21: 2025 | E21: Відділ охорони здоров'я | F21: =G21+H21+I21+J21+K21 -> 15000 | I21: 15000 | L21: кількість підприємств | M21: Всього ставок :24,25, з них : лікарі - 2,25; середній медпресонал - 17,25; молодший медперсонал - 3,0; фахівці - 1,5; інші - 0,25. КЕКВ 2111 - 5462,6; КЕКВ 2120 -1201,8 КЕКВ 2210 -660,8; КЕКВ 2220 - 2328,0; КЕКВ 2230 - 1012,0; КЕКВ 2240 - 715,0; КЕКВ 2270 - 856,9; КЕКВ 2282 -11,0; КЕКВ - 2710 - 151,9; КЕКВ 2730 - 34,8
D22: 2026 | E22: Відділ охорони здоров'я | F22: =G22+H22+I22+J22+K22 -> 0 | L22: кількість підприємств | M22: Всього ставок :24,25, з них : лікарі - 2,25; середній медпресонал - 17,25; молодший медперсонал - 3,0; фахівці - 1,5; інші - 0,25. КЕКВ 2111 - 5844,9; КЕКВ 2120 -1285,9 КЕКВ 2210 -707,7; КЕКВ 2220 - 2560,8; КЕКВ 2230 - 1113,2; КЕКВ 2240 - 786,5; КЕКВ 2270 - 916,9; КЕКВ 2282 -12,0; КЕКВ - 2710 - 162,7; КЕКВ 2730 - 37,2
B23: 5 | C23: Підтримка комунальних закладів охорони здоров'я, які належать територіальній громаді (Комунальне некомерційне підприємство Слов'янської міської ради «Міська клінічна лікарня м.Слов'янська») | D23: 2024 | E23: Відділ охорони здоров'я | F23: =G23+H23+I23+J23+K23 -> 155.5 | I23: 155.5 | L23: кількість закладів | N23: 6
D24: 2025 | E24: Відділ охорони здоров'я | F24: =G24+H24+I24+J24+K24 -> 0 | L24: кількість закладів
D25: 2026 | E25: Відділ охорони здоров'я | F25: =G25+H25+I25+J25+K25 -> 0 | L25: кількість закладів
A26: 2.2.2 Посилення профілактичних заходів з упередження захворюваності населення | C26: Забезпечення хворих на ВІЛ-інфекцію і СНІД та профілактика ВІЛ-інфекції
B27: 1 | C27: Придбання тест/систем, реактивів та систем відбору крові задля добровільного консультування і тестування на ВІЛ-інфекцію та обстеження ВІЛ-інфікованих пацієнтів, що перебувають під медичним наглядом | D27: 2024 | E27: Відділ охорони здоров'я | F27: =G27+H27+I27+J27+K27 -> 120 | I27: 120 | L27: кількість | M27: 50 | P27: 270 осіб | R27: 0
D28: 2025 | E28: Відділ охорони здоров'я | F28: =G28+H28+I28+J28+K28 -> 0 | L28: кількість | M28: 50
D29: 2026 | E29: Відділ охорони здоров'я | F29: =G29+H29+I29+J29+K29 -> 0 | L29: кількість | M29: 50
B30: 2 | C30: Придбання лікарських засобів задля профілактики та лікування опортуністичних інфекцій, супутніх станів та захворювань у ВІЛ-інфікованих та хворих на СНІД | D30: 2024 | E30: Відділ охорони здоров'я | F30: =G30+H30+I30+J30+K30 -> 0 | L30: загальна кількість пацієнтів
D31: 2025 | E31: Відділ охорони здоров'я | F31: =G31+H31+I31+J31+K31 -> 0 | L31: загальна кількість пацієнтів
D32: 2026 | E32: Відділ охорони здоров'я | F32: =G32+H32+I32+J32+K32 -> 0 | L32: загальна кількість пацієнтів
C33: Забезпечення хворих на туберкульоз та профілактика захворювання | D33: 2026
B34: 1 | C34: Забезпечувати безкоштовною рентген плівкою, реактивами для проведення профоглядів на ТБ осіб з визначених груп "ризику" (в першу чергу - ВІЛ-інфікованих, звільнених з місць позбавлення волі, контактних з вогнищ ТБ, безпритульних) | D34: 2024 | E34: Відділ охорони здоров'я | F34: =G34+H34+I34+J34+K34 -> 16.8 | I34: 16.8 | L34: кількість рентгенологічних досліджень, бактеріологічних досліджень | M34: рентг. - 5000; бак.досліджень - 20 | R34: 1354 осіб / 6 досліджень
D35: 2025 | E35: Відділ охорони здоров'я | F35: =G35+H35+I35+J35+K35 -> 0 | L35: кількість рентгенологічних досліджень, бактеріологічних досліджень | M35: рентг. - 5000; бак.досліджень - 20 | P35: 0
D36: 2026 | E36: Відділ охорони здоров'я | F36: =G36+H36+I36+J36+K36 -> 0 | L36: кількість рентгенологічних досліджень, бактеріологічних досліджень | M36: рентг. - 5000; бак.досліджень - 20
B37: 2 | C37: Забезпечити своєчасне щеплення населення новонароджених від туберкульозу (БЦЖ) | D37: 2024 | E37: Відділ охорони здоров'я | F37: =G37+H37+I37+J37+K37 -> 0 | L37: кількість дітей | R37: 1354 осіб / 6 досліджень
D38: 2025 | E38: Відділ охорони здоров'я | F38: =G38+H38+I38+J38+K38 -> 0 | L38: кількість дітей | P38: 0
D39: 2026 | E39: Відділ охорони здоров'я | F39: =G39+H39+I39+J39+K39 -> 0 | L39: кількість дітей
B40: 3 | C40: Забезпечити туберкуліном та витратними матеріалами для обов'язкової щорічної туберкулінодіагностики дітям 1-14 років, в першу чергу – з груп "ризику" | D40: 2024 | E40: Відділ охорони здоров'я | F40: =G40+H40+I40+J40+K40 -> 0 | L40: кількість дітей, яким встановлено пробу Манту | P40: 132 | Q40: 130
D41: 2025 | E41: Відділ охорони здоров'я | F41: =G41+H41+I41+J41+K41 -> 0 | L41: кількість дітей, яким встановлено пробу Манту
...

Sheet цпмсд
M1: Додаток 2
M2: до Програми
A4: ЗАХОДИ З РЕАЛІЗАЦІЇ ПРОГРАМИ
A5: № і назва завдання Стратегії розвитку Донецької області на період до 2027 року | B5: № з/п | C5: Зміст заходу | D5: Термін виконан- ня | E5: Виконавець | F5: Витрати на реалізацію, тис.грн | L5: Очікуваний результат
F6: Всього | G6: у тому числі за рахунок коштів:
G7: Держав- ного бюджету | H7: місцевих бюджетів | J7: підпри- ємств | K7: інших джерел | L7: найменування показника | M7: значення показника
H8: обласного бюджету | I8: бюджету територіальної громади
A9: 1 | B9: 2 | C9: 3 | D9: 4 | E9: 5 | F9: 6 | G9: 7 | H9: 8 | I9: 9 | J9: 10 | K9: 11 | L9: 12 | M9: 13
A10: 2.2.1 Підвищення якості та загальної доступності медичних послуг у містах та сільській місцевості | C10: Удосконалення кадрової політики | P10: цпмсд | Q10: мкл | R10: гб1
B11: 1 | C11: Перепідготовка кадрів для центру первинної медико-санітарної допомоги, комунальних некомерційних підприємств | D11: 2024 | E11: Відділ охорони здоров'я | F11: =G11+H11+I11+J11+K11 -> 176 | I11: 176 | L11: кількість лікарів, середніх медпрацівників | M11: 15 20 | Q11: Лікарів-1 | R11: 0
D12: 2025 | E12: Відділ охорони здоров'я | F12: =G12+H12+I12+J12+K12 -> 94.2 | I12: 94.2 | L12: кількість лікарів, середніх медпрацівників | M12: 20 35
D13: 2026 | E13: Відділ охорони здоров'я | F13: =G13+H13+I13+J13+K13 -> 0 | I13: 0 | L13: кількість лікарів, середніх медпрацівників | M13: 25 45
B14: 2 | C14: Щомісячні доплати до заробітної плати медичним працівникам, що надають первинну медичну допомогу | D14: 2024 | E14: Відділ охорони здоров'я | F14: =G14+H14+I14+J14+K14 -> 922 | I14: 922 | L14: кількість лікарів | M14: 62 129
D15: 2025 | E15: Відділ охорони здоров'я | F15: =G15+H15+I15+J15+K15 -> 5124 | I15: 5124 | L15: кількість лікарів | M15: 62 129
D16: 2026 | E16: Відділ охорони здоров'я | F16: =G16+H16+I16+J16+K16 -> 5763.5 | I16: 5763.5 | L16: кількість лікарів | M16: 62 129
B17: 3 | C17: Впровадження та розвиток єдиної медичної інформаційної системи охорони здоров'я | D17: 2024 | E17: Відділ охорони здоров'я | F17: =G17+H17+I17+J17+K17 -> 759 | I17: 309 | J17: 350 | K17: 100 | L17: кількість комп'ютерного оснащення, робочих місць | M17: придб.3комп., 3 БФП, 3 принтера 30 роб.місць МІС | N17: 4 | P17: 28 раб.места Хелсі, інтернет, придбано 2 ноутбука
D18: 2025 | E18: Відділ охорони здоров'я | F18: =G18+H18+I18+J18+K18 -> 822.3 | I18: 372.3 | J18: 350 | K18: 100 | L18: кількість комп'ютерного оснащення, робочих місць | M18: придб.2комп., 2 БФП, 2 принтера 40 роб.місць МІС
D19: 2026 | E19: Відділ охорони здоров'я | F19: =G19+H19+I19+J19+K19 -> 494 | I19: 394 | K19: 100 | L19: кількість комп'ютерного оснащення, робочих місць | M19: придб.2 ноутбука 60 роб.місць МІС
B20: 4 | C20: Підтримка комунальних некомерційних підприємств охорони здоров'я (понад кошти НСЗУ) : - оплата комунальних послуг та енергоносіїв; - медикаментозне та матеріально-технічне забезпечення з урахуванням потреб населення. Закупівля лікарських засобів та перев’язувальних матеріалів; виробів медичного призначення; технічних засобів; дезінфікуючих засобів, проведення поточних ремонтів тощо; -забезпечення проведення харчування на відповідному рівні в умовах стаціонару; -забезпечення закладів охорони здоров’я видатками на оплату праці відповідно до встановлених чинним законодавством умов оплати праці (забезпечення роботи медичної комісії для проведення медичного огляду призовників, працівників бюджетної сфери; утримання штатних посад лікарів-інтернів; забезпечення роботи фізіотерапевтичних поліклінічних відділень та кабінетів; забезпечення роботи «Клініки дружньої до молоді»; забезпечення роботи трансфузіологічного відділення, виплата муніципальної доплати до заробітної плати медичним та іншим працівникам, які безпосередньо зайняті на роботах з ліквідації захворювання серед людей на коронавірусну хворобу (COVID-19)); -безкоштовне надання стоматологічної допомоги дитячому населенню громади; -безкоштовне надання стоматологічних медичних послуг пільговим категоріям населення громади; -забезпечення відшкодування пільгових пенсій при достроковому виході на пенсію | D20: 2024 | E20: Відділ охорони здоров'я | F20: =G20+H20+I20+J20+K20 -> 9006.9 | I20: =8350.4+476.5 -> 8826.9 | J20: 150 | K20: 30 | L20: кількість підприємств | N20: 5 | R20: Всього ставок :31,75, з них : лікарі - 3,5; середній медпресонал - 20,75; молодший медперсонал - 4,75; фахівці - 1,5; інші - 1,25. КЕКВ 2270 - 857,7; КЕКВ 2220 - 990,1; КЕКВ 2230 - 449,9; КЕКВ 2111 - 1273,5; КЕКВ 2120 - 314,3
D21: 2025 | E21: Відділ охорони здоров'я | F21: =G21+H21+I21+J21+K21 -> 10281.9 | I21: =9500+601.9 -> 10101.9 | J21: 150 | K21: 30 | L21: кількість підприємств
D22: 2026 | E22: Відділ охорони здоров'я | F22: =G22+H22+I22+J22+K22 -> 7011.1 | I22: 6981.1 | K22: 30 | L22: кількість підприємств
B23: 5 | C23: Виконання заходів протипожежної безпеки | D23: 2024 | E23: Відділ охорони здоров'я | F23: =G23+H23+I23+J23+K23 -> 181 | I23: 141 | J23: 20 | K23: 20 | L23: кількість закладів | N23: 6
D24: 2025 | E24: Відділ охорони здоров'я | F24: =G24+H24+I24+J24+K24 -> 220 | I24: 180 | J24: 20 | K24: 20 | L24: кількість закладів
D25: 2026 | E25: Відділ охорони здоров'я | F25: =G25+H25+I25+J25+K25 -> 241.4 | I25: 221.4 | K25: 20 | L25: кількість закладів
A26: 2.2.2 Посилення профілактичних заходів з упередження захворюваності населення | C26: Забезпечення хворих на ВІЛ-інфекцію і СНІД та профілактика ВІЛ-інфекції
B27: 1 | C27: Придбання тест/систем, реактивів та систем відбору крові задля добровільного консультування і тестування на ВІЛ-інфекцію та обстеження ВІЛ-інфікованих пацієнтів, що перебувають під медичним наглядом | D27: 2024 | E27: Відділ охорони здоров'я | F27: =G27+H27+I27+J27+K27 -> 444.2 | I27: 344.2 | K27: 100 | L27: кількість | P27: 270 осіб | R27: 0
D28: 2025 | E28: Відділ охорони здоров'я | F28: =G28+H28+I28+J28+K28 -> 278.3 | I28: 178.3 | K28: 100 | L28: кількість
D29: 2026 | E29: Відділ охорони здоров'я | F29: =G29+H29+I29+J29+K29 -> 250 | I29: 150 | K29: 100 | L29: кількість
B30: 2 | C30: Придбання лікарських засобів задля профілактики та лікування опортуністичних інфекцій, супутніх станів та захворювань у ВІЛ-інфікованих та хворих на СНІД | D30: 2024 | E30: Відділ охорони здоров'я | F30: =G30+H30+I30+J30+K30 -> 0 | I30: 0 | L30: загальна кількість пацієнтів
D31: 2025 | E31: Відділ охорони здоров'я | F31: =G31+H31+I31+J31+K31 -> 20 | I31: 20 | L31: загальна кількість пацієнтів
D32: 2026 | E32: Відділ охорони здоров'я | F32: =G32+H32+I32+J32+K32 -> 0 | I32: 0 | L32: загальна кількість пацієнтів
C33: Забезпечення хворих на туберкульоз та профілактика захворювання | D33: 2026
B34: 1 | C34: Забезпечувати безкоштовною рентген плівкою, реактивами для проведення профоглядів на ТБ осіб з визначених груп "ризику" (в першу чергу - ВІЛ-інфікованих, звільнених з місць позбавлення волі, контактних з вогнищ ТБ, безпритульних) | D34: 2024 | E34: Відділ охорони здоров'я | F34: =G34+H34+I34+J34+K34 -> 0 | I34: 0 | L34: кількість рентгенологічних досліджень, бактеріологічних досліджень | R34: 1354 осіб / 6 досліджень
D35: 2025 | E35: Відділ охорони здоров'я | F35: =G35+H35+I35+J35+K35 -> 0 | I35: 0 | L35: кількість рентгенологічних досліджень, бактеріологічних досліджень | P35: 0
D36: 2026 | E36: Відділ охорони здоров'я | F36: =G36+H36+I36+J36+K36 -> 0 | I36: 0 | L36: кількість рентгенологічних досліджень, бактеріологічних досліджень
B37: 2 | C37: Забезпечення продовольчими пакетами на амбулаторному лікуванні | D37: 2024 | E37: Відділ охорони здоров'я | F37: =G37+H37+I37+J37+K37 -> 74 | I37: 74 | L37: кількість забезпечених | R37: 1354 осіб / 6 досліджень
D38: 2025 | E38: Відділ охорони здоров'я | F38: =G38+H38+I38+J38+K38 -> 35.2 | I38: 35.2 | L38: кількість забезпечених | P38: 0
D39: 2026 | E39: Відділ охорони здоров'я | F39: =G39+H39+I39+J39+K39 -> 0 | I39: 0 | L39: кількість забезпечених
B40: 3 | C40: Забезпечити своєчасне щеплення населення новонароджених від туберкульозу (БЦЖ) | D40: 2024 | E40: Відділ охорони здоров'я | F40: =G40+H40+I40+J40+K40 -> 13 | G40: 10 | I40: 0 | K40: 3 | L40: кількість дітей | P40: 132 | Q40: 130
D41: 2025 | E41: Відділ охорони здоров'я | F41: =G41+H41+I41+J41+K41 -> 13 | G41: 10 | I41: 0 | K41: 3 | L41: кількість дітей
...

Sheet стомат
M1: Додаток 2
M2: до Програми
A4: ЗАХОДИ З РЕАЛІЗАЦІЇ ПРОГРАМИ
A5: № і назва завдання Стратегії розвитку Донецької області на період до 2027 року | B5: № з/п | C5: Зміст заходу | D5: Термін виконан- ня | E5: Виконавець | F5: Витрати на реалізацію, тис.грн | L5: Очікуваний результат
F6: Всього | G6: у тому числі за рахунок коштів:
G7: Держав- ного бюджету | H7: місцевих бюджетів | J7: підпри- ємств | K7: інших джерел | L7: найменування показника | M7: значення показника
H8: обласного бюджету | I8: бюджету територіальної громади
A9: 1 | B9: 2 | C9: 3 | D9: 4 | E9: 5 | F9: 6 | G9: 7 | H9: 8 | I9: 9 | J9: 10 | K9: 11 | L9: 12 | M9: 13
A10: 2.2.1 Підвищення якості та загальної доступності медичних послуг у містах та сільській місцевості | C10: Удосконалення кадрової політики | P10: цпмсд | Q10: мкл | R10: гб1
B11: 1 | C11: Перепідготовка кадрів для центру первинної медико-санітарної допомоги, комунальних некомерційних підприємств | D11: 2024 | E11: Відділ охорони здоров'я | F11: =G11+H11+I11+J11+K11 -> 0 | L11: кількість лікарів, середніх медпрацівників | Q11: Лікарів-1 | R11: 0
D12: 2025 | E12: Відділ охорони здоров'я | F12: =G12+H12+I12+J12+K12 -> 0 | L12: кількість лікарів, середніх медпрацівників
D13: 2026 | E13: Відділ охорони здоров'я | F13: =G13+H13+I13+J13+K13 -> 0 | L13: кількість лікарів, середніх медпрацівників
B14: 2 | C14: Щомісячні доплати до заробітної плати медичним працівникам (лікарям), що надають первинну медичну допомогу | D14: 2024 | E14: Відділ охорони здоров'я | F14: =G14+H14+I14+J14+K14 -> 0 | L14: кількість лікарів
D15: 2025 | E15: Відділ охорони здоров'я | F15: =G15+H15+I15+J15+K15 -> 0 | L15: кількість лікарів
D16: 2026 | E16: Відділ охорони здоров'я | F16: =G16+H16+I16+J16+K16 -> 0 | L16: кількість лікарів
B17: 3 | C17: Впровадження та розвиток єдиної медичної інформаційної системи охорони здоров'я | D17: 2024 | E17: Відділ охорони здоров'я | F17: =G17+H17+I17+J17+K17 -> 0 | L17: кількість комп'ютерного оснащення, робочих місць | N17: 4 | P17: 28 раб.места Хелсі, інтернет, придбано 2 ноутбука
D18: 2025 | E18: Відділ охорони здоров'я | F18: =G18+H18+I18+J18+K18 -> 0 | L18: кількість комп'ютерного оснащення, робочих місць
D19: 2026 | E19: Відділ охорони здоров'я | F19: =G19+H19+I19+J19+K19 -> 0 | L19: кількість комп'ютерного оснащення, робочих місць
B20: 4 | C20: Підтримка комунальних некомерційних підприємств охорони здоров'я (понад кошти НСЗУ) : - оплата комунальних послуг та енергоносіїв; - медикаментозне та матеріально-технічне забезпечення з урахуванням потреб населення. Закупівля лікарських засобів та перев’язувальних матеріалів; виробів медичного призначення; технічних засобів; дезінфікуючих засобів, проведення поточних ремонтів тощо; -забезпечення проведення харчування на відповідному рівні в умовах стаціонару; -забезпечення закладів охорони здоров’я видатками на оплату праці відповідно до встановлених чинним законодавством умов оплати праці (забезпечення роботи медичної комісії для проведення медичного огляду призовників, працівників бюджетної сфери; утримання штатних посад лікарів-інтернів; забезпечення роботи фізіотерапевтичних поліклінічних відділень та кабінетів; забезпечення роботи «Клініки дружньої до молоді»; забезпечення роботи трансфузіологічного відділення, виплата муніципальної доплати до заробітної плати медичним та іншим працівникам, які безпосередньо зайняті на роботах з ліквідації захворювання серед людей на коронавірусну хворобу (COVID-19)); -безкоштовне надання стоматологічної допомоги дитячому населенню громади; -безкоштовне надання стоматологічних медичних послуг пільговим категоріям населення громади; -забезпечення відшкодування пільгових пенсій при достроковому виході на пенсію | D20: 2024 | E20: Відділ охорони здоров'я | F20: =G20+H20+I20+J20+K20 -> 1800 | I20: 1800 | L20: кількість підприємств | N20: 5 | R20: Всього ставок :31,75, з них : лікарі - 3,5; середній медпресонал - 20,75; молодший медперсонал - 4,75; фахівці - 1,5; інші - 1,25. КЕКВ 2270 - 857,7; КЕКВ 2220 - 990,1; КЕКВ 2230 - 449,9; КЕКВ 2111 - 1273,5; КЕКВ 2120 - 314,3
D21: 2025 | E21: Відділ охорони здоров'я | F21: =G21+H21+I21+J21+K21 -> 1900 | I21: 1900 | L21: кількість підприємств
D22: 2026 | E22: Відділ охорони здоров'я | F22: =G22+H22+I22+J22+K22 -> 1760 | I22: 1760 | L22: кількість підприємств
B23: 5 | C23: Підтримка комунальних закладів охорони здоров'я, які належать територіальній громаді (Комунальне некомерційне підприємство Слов'янської міської ради «Міська клінічна лікарня м.Слов'янська») | D23: 2024 | E23: Відділ охорони здоров'я | F23: =G23+H23+I23+J23+K23 -> 28 | I23: 28 | L23: кількість закладів | M23: перевірка вогнегасни- ків-5,0; верифікація контуру заземлення-8,0; повірка манометрів-2,0; утилізація медичних відходів-13,0 | N23: 6
D24: 2025 | E24: Відділ охорони здоров'я | F24: =G24+H24+I24+J24+K24 -> 0 | L24: кількість закладів | M24: перевірка вогнегасни- ків-5,0; верифікація контуру заземлення-9,0; повірка манометрів-2,0; утилізація медичних відходів-14,0
D25: 2026 | E25: Відділ охорони здоров'я | F25: =G25+H25+I25+J25+K25 -> 0 | I25: 0 | L25: кількість закладів | M25: перевірка вогнегасни- ків-5,0; верифікація контуру заземлення-9,0; повірка манометрів-2,0; утилізація медичних відходів-14,0
A26: 2.2.2 Посилення профілактичних заходів з упередження захворюваності населення | C26: Забезпечення хворих на ВІЛ-інфекцію і СНІД та профілактика ВІЛ-інфекції
B27: 1 | C27: Придбання тест/систем, реактивів та систем відбору крові задля добровільного консультування і тестування на ВІЛ-інфекцію та обстеження ВІЛ-інфікованих пацієнтів, що перебувають під медичним наглядом | D27: 2024 | E27: Відділ охорони здоров'я | F27: =G27+H27+I27+J27+K27 -> 0 | L27: кількість | P27: 270 осіб | R27: 0
D28: 2025 | E28: Відділ охорони здоров'я | F28: =G28+H28+I28+J28+K28 -> 0 | L28: кількість
D29: 2026 | E29: Відділ охорони здоров'я | F29: =G29+H29+I29+J29+K29 -> 0 | L29: кількість
B30: 2 | C30: Придбання лікарських засобів задля профілактики та лікування опортуністичних інфекцій, супутніх станів та захворювань у ВІЛ-інфікованих та хворих на СНІД | D30: 2024 | E30: Відділ охорони здоров'я | F30: =G30+H30+I30+J30+K30 -> 0 | L30: загальна кількість пацієнтів
D31: 2025 | E31: Відділ охорони здоров'я | F31: =G31+H31+I31+J31+K31 -> 0 | L31: загальна кількість пацієнтів
D32: 2026 | E32: Відділ охорони здоров'я | F32: =G32+H32+I32+J32+K32 -> 0 | L32: загальна кількість пацієнтів
C33: Забезпечення хворих на туберкульоз та профілактика захворювання | D33: 2026
B34: 1 | C34: Забезпечувати безкоштовною рентген плівкою, реактивами для проведення профоглядів на ТБ осіб з визначених груп "ризику" (в першу чергу - ВІЛ-інфікованих, звільнених з місць позбавлення волі, контактних з вогнищ ТБ, безпритульних) | D34: 2024 | E34: Відділ охорони здоров'я | F34: =G34+H34+I34+J34+K34 -> 0 | L34: кількість рентгенологічних досліджень, бактеріологічних досліджень | R34: 1354 осіб / 6 досліджень
D35: 2025 | E35: Відділ охорони здоров'я | F35: =G35+H35+I35+J35+K35 -> 0 | L35: кількість рентгенологічних досліджень, бактеріологічних досліджень | P35: 0
D36: 2026 | E36: Відділ охорони здоров'я | F36: =G36+H36+I36+J36+K36 -> 0 | L36: кількість рентгенологічних досліджень, бактеріологічних досліджень
B37: 2 | C37: Забезпечення продовольчими пакетами на амбулаторному лікуванні | D37: 2024 | E37: Відділ охорони здоров'я | F37: =G37+H37+I37+J37+K37 -> 0 | L37: кількість забезпечених | R37: 1354 осіб / 6 досліджень
D38: 2025 | E38: Відділ охорони здоров'я | F38: =G38+H38+I38+J38+K38 -> 0 | L38: кількість забезпечених | P38: 0
D39: 2026 | E39: Відділ охорони здоров'я | F39: =G39+H39+I39+J39+K39 -> 0 | L39: кількість забезпечених
B40: 3 | C40: Забезпечити своєчасне щеплення населення новонароджених від туберкульозу (БЦЖ) | D40: 2024 | E40: Відділ охорони здоров'я | F40: =G40+H40+I40+J40+K40 -> 0 | L40: кількість дітей | P40: 132 | Q40: 130
D41: 2025 | E41: Відділ охорони здоров'я | F41: =G41+H41+I41+J41+K41 -> 0 | L41: кількість дітей
...
