Workbook

Sheet КП "ЖЕК №4"
Q1: Додаток №2 до рішення виконавчого комітету Слов'янської міської ради від___18.07.2018_______№__438______
B2: Тарифи
A3: на послуги з утримання будинків і споруд та прибудинкової території будинків, які знаходяться на балансі КП "ЖЕК №4" м. Слов'янськ
A4: № п/п | B4: Будинок | C4: 1. Прибирання прибудинкової території | D4: 2. Прибирання підвалів та технічних приміщень | E4: 3.Технічне обслуговування ліфтів | F4: 4. Енергопостачання ліфтів | G4: 5. Поточний ремонт конструктивних елементів, інженерних систем і технічних пристроїв будинків та елементів зовнішнього благоустрою, розташованих на прибудинковій теріторії | L4: 6. Дератизація | M4: 7. Дезінсекція | N4: 8. Обслуговування димовентиляційних каналів | O4: 9. Технічне обслуговування внутнішньобудинкових систем тепло-, водопостачання, водовідведення і зливної каналізації. | R4: 10. Прибирання і вивезення снігу, посипання частини прибудинкової території призначеної для проходу та проїзду, протиожеледними сумішами | S4: 11. Освітлення місць загального користування | T4: Загальні планові витрати, без ПДВ | U4: Вартість з рентабельністю та ПДВ
G5: Поточний ремонт центрального опалення | H5: Поточний ремонт гарячого та холодного водопостачання та водовідведення | I5: Поточний ремонт електричних мереж | J5: Поточний ремонт конструктивних елементів | K5: Поточний ремонт рулонної та штферної покрівлі | O5: ТО центрального опалення | P5: ТО гарячого та холодного водопостачання та водовідведення | Q5: ТО зливової каналізації
C6: грн./м2 | D6: грн./м2 | E6: грн./м2 | F6: грн./м2 | G6: грн./м2 | H6: грн./м2 | I6: грн./м2 | J6: грн./м2 | K6: грн./м2 | L6: грн./м2 | M6: грн./м2 | N6: грн./м2 | O6: грн./м2 | P6: грн./м2 | Q6: грн./м2 | R6: грн./м2 | S6: грн./м2 | T6: грн./м2 | U6: грн./м2
A7: 1 | B7: вул. Василевського, 2 | C7: 0.8375198 | D7: 0.060483122 | E7: 0 | F7: 0 | G7: 0.24744132 | H7: 0.35516743 | I7: 0.11887041 | J7: 0.56718688 | K7: 0.30605052 | L7: 0.0099811009 | M7: 0.019194425 | N7: 0.26213082 | O7: 0.255496 | P7: 0.31261038 | Q7: 0 | R7: 0.035947177 | S7: 0.32406434 | T7: =SUM(C7:S7) -> 3.7121437 | U7: =(T7*1.1)*1.2 -> 4.9000297
A8: 2 | B8: вул. Василевського, 4 | C8: 0.96102496 | D8: 0.06709144 | E8: 0 | F8: 0 | G8: 0.19462878 | H8: 0.24072718 | I8: 0.097749325 | J8: 0.37327865 | K8: 0.58597142 | L8: 0.011071625 | M8: 0.021291586 | N8: 0.19587388 | O8: 0.20096431 | P8: 0.21188265 | Q8: 0.073441843 | R8: 0.024087481 | S8: 0.19951252 | T8: =SUM(C8:S8) -> 3.4585977 | U8: =(T8*1.1)*1.2 -> 4.5653489
A9: 3 | B9: вул. Василевського, 10 | C9: 0.52291682 | D9: 0.037102056 | E9: 0.94489671 | F9: 0.1706602 | G9: 0.224417 | H9: 0.26891037 | I9: 0.094979338 | J9: 0.38992623 | K9: 0.1707295 | L9: 0.0061226893 | M9: 0.011774402 | N9: 0.13486322 | O9: 0.23172219 | P9: 0.23668886 | Q9: 0.074725647 | R9: 0.013039184 | S9: 0.10896186 | T9: =SUM(C9:S9) -> 3.6424363 | U9: =(T9*1.1)*1.2 -> 4.8080159
A10: 4 | B10: вул. Василевського, 10 (для мешканців 1-го поверху) | C10: 0.52291682 | D10: 0.037102056 | E10: 0 | F10: 0 | G10: 0.224417 | H10: 0.26891037 | I10: 0.094979338 | J10: 0.38992623 | K10: 0.1707295 | L10: 0.0061226893 | M10: 0.011774402 | N10: 0.13486322 | O10: 0.23172219 | P10: 0.23668886 | Q10: 0.074725647 | R10: 0.013039184 | S10: 0.10896186 | T10: =SUM(C10:S10) -> 2.5268794 | U10: =(T10*1.1)*1.2 -> 3.3354807
A11: 5 | B11: вул. Василевського, 12 | C11: 0.55979051 | D11: 0.036918317 | E11: 0.85519348 | F11: 0.19121418 | G11: 0.22330563 | H11: 0.26757866 | I11: 0.094508976 | J11: 0.39184116 | K11: 0.17784962 | L11: 0.0060923682 | M11: 0.011716093 | N11: 0.13419534 | O11: 0.23057464 | P11: 0.23551672 | Q11: 0.074355587 | R11: 0.019450673 | S11: 0.077280034 | T11: =SUM(C11:S11) -> 3.587382 | U11: =(T11*1.1)*1.2 -> 4.7353442
A12: 6 | B12: вул. Василевського, 12 (для мешканців 1-го поверху) | C12: 0.55979051 | D12: 0.036918317 | E12: 0 | F12: 0 | G12: 0.22330563 | H12: 0.26757866 | I12: 0.094508976 | J12: 0.39184116 | K12: 0.17784962 | L12: 0.0060923682 | M12: 0.011716093 | N12: 0.13419534 | O12: 0.23057464 | P12: 0.23551672 | Q12: 0.074355587 | R12: 0.019450673 | S12: 0.077280034 | T12: =SUM(C12:S12) -> 2.5409743 | U12: =(T12*1.1)*1.2 -> 3.3540861
A13: 7 | B13: вул. Василевського, 14 | C13: 0.57131817 | D13: 0.03862629 | E13: 0.95051112 | F13: 0.21530117 | G13: 0.22171631 | H13: 0.26567424 | I13: 0.093836335 | J13: 0.36185526 | K13: 0.17430318 | L13: 0.0063742229 | M13: 0.012258121 | N13: 0.13324024 | O13: 0.22893359 | P13: 0.23384049 | Q13: 0.073826382 | R13: 0.018731755 | S13: 0.11180337 | T13: =SUM(C13:S13) -> 3.7121503 | U13: =(T13*1.1)*1.2 -> 4.9000383
A14: 8 | B14: вул. Василевського, 14 (для мешканців 1-го поверху) | C14: 0.57131817 | D14: 0.03862629 | E14: 0 | F14: 0 | G14: 0.22171631 | H14: 0.26567424 | I14: 0.093836335 | J14: 0.36185526 | K14: 0.17430318 | L14: 0.0063742229 | M14: 0.012258121 | N14: 0.13324024 | O14: 0.22893359 | P14: 0.23384049 | Q14: 0.073826382 | R14: 0.018731755 | S14: 0.11180337 | T14: =SUM(C14:S14) -> 2.546338 | U14: =(T14*1.1)*1.2 -> 3.3611661
A15: 9 | B15: вул. Василевського, 22 а | C15: 1.0236917 | D15: 0.062133049 | E15: 0 | F15: 0 | G15: 0.24297698 | H15: 0.3487595 | I15: 0.11672575 | J15: 0.42355362 | K15: 0.27888574 | L15: 0.010253377 | M15: 0.019718032 | N15: 0.23595134 | O15: 0.25088634 | P15: 0.30697027 | Q15: 0 | R15: 0.059624645 | S15: 0.33187465 | T15: =SUM(C15:S15) -> 3.712005 | U15: =(T15*1.1)*1.2 -> 4.8998466
A16: 10 | B16: вул. Василевського, 28 | C16: 0.45452516 | D16: 0.033106214 | E16: 0.72640823 | F16: 0.25466269 | G16: 0.20171942 | H16: 0.26027802 | I16: 0.092028942 | J16: 0.43826148 | K16: 0.14694363 | L16: 0.0054632838 | M16: 0.010506315 | N16: 0.13228714 | O16: 0.20828577 | P16: 0.22909085 | Q16: 0.075392521 | R16: 0.030603183 | S16: 0.093689866 | T16: =SUM(C16:S16) -> 3.3932527 | U16: =(T16*1.1)*1.2 -> 4.4790936
A17: 11 | B17: вул. Василевського, 28 (для мешканців 1-го поверху) | C17: 0.45452516 | D17: 0.033106214 | E17: 0 | F17: 0 | G17: 0.20171942 | H17: 0.26027802 | I17: 0.092028942 | J17: 0.43826148 | K17: 0.14694363 | L17: 0.0054632838 | M17: 0.010506315 | N17: 0.13228714 | O17: 0.20828577 | P17: 0.22909085 | Q17: 0.075392521 | R17: 0.030603183 | S17: 0.093689866 | T17: =SUM(C17:S17) -> 2.4121818 | U17: =(T17*1.1)*1.2 -> 3.18408
A18: 12 | B18: вул. Батюка, 21/83 | C18: 0.48281785 | D18: 0.042188122 | E18: 0.90253373 | F18: 0.23381114 | G18: 0.2280804 | H18: 0.27230987 | I18: 0.096180044 | J18: 0.39701897 | K18: 0.18841528 | L18: 0.0069620068 | M18: 0.013388475 | N18: 0.13223263 | O18: 0.23550484 | P18: 0.23968102 | Q18: 0.075670311 | R18: 0.028049148 | S18: 0.13737736 | T18: =SUM(C18:S18) -> 3.7122212 | U18: =(T18*1.1)*1.2 -> 4.900132
... A71: 65 | B71: вул.Кільцева, 12 | C71: 1.1613713 | D71: 0 | E71: 0 | F71: 0 | G71: 0.11273771 | H71: 0.087570997 | I71: 0.022610854 | J71: 0.28495163 | K71: 0.055048374 | L71: 0 | M71: 0 | N71: 0.012657032 | O71: 0.21763147 | P71: 0.31687631 | Q71: 0 | R71: 0.055425262 | S71: 0.29122555 | T71: =SUM(C71:S71) -> 2.6181065 | U71: =(T71*1.1)*1.2 -> 3.4559005
A72: 66 | B72: пров. Ударний, 12 | C72: 0 | D72: 0 | E72: 0 | F72: 0 | G72: 0 | H72: 0 | I72: 0 | J72: 0 | K72: 0 | L72: 0 | M72: 0 | N72: 0 | O72: 0 | P72: 0 | Q72: 0 | R72: 0 | S72: 0 | T72: 0 | U72: =(T72*1.1)*1.2 -> 0
A73: 67 | B73: пров. Ударний, 14 | C73: 0 | D73: 0 | E73: 0 | F73: 0 | G73: 0 | H73: 0 | I73: 0 | J73: 0 | K73: 0 | L73: 0 | M73: 0 | N73: 0 | O73: 0 | P73: 0 | Q73: 0 | R73: 0 | S73: 0 | T73: 0 | U73: =(T73*1.1)*1.2 -> 0
A74: 68 | B74: пров. Ударний, 16 | C74: 0 | D74: 0 | E74: 0 | F74: 0 | G74: 0 | H74: 0 | I74: 0 | J74: 0 | K74: 0 | L74: 0 | M74: 0 | N74: 0 | O74: 0 | P74: 0 | Q74: 0 | R74: 0 | S74: 0 | T74: 0 | U74: =(T74*1.1)*1.2 -> 0
A75: 69 | B75: пров. Ударний, 18 | C75: 0 | D75: 0 | E75: 0 | F75: 0 | G75: 0 | H75: 0 | I75: 0 | J75: 0 | K75: 0 | L75: 0 | M75: 0 | N75: 0 | O75: 0 | P75: 0 | Q75: 0 | R75: 0 | S75: 0 | T75: 0 | U75: =(T75*1.1)*1.2 -> 0
A76: 70 | B76: пров. Ударний, 20 | C76: 0 | D76: 0 | E76: 0 | F76: 0 | G76: 0 | H76: 0 | I76: 0 | J76: 0 | K76: 0 | L76: 0 | M76: 0 | N76: 0 | O76: 0 | P76: 0 | Q76: 0 | R76: 0 | S76: 0 | T76: 0 | U76: =(T76*1.1)*1.2 -> 0
A77: 71 | B77: ст. Машчермет, 1 | C77: 0 | D77: 0 | E77: 0 | F77: 0 | G77: 0 | H77: 0 | I77: 0 | J77: 0 | K77: 0 | L77: 0 | M77: 0 | N77: 0 | O77: 0 | P77: 0 | Q77: 0 | R77: 0 | S77: 0 | T77: 0 | U77: =(T77*1.1)*1.2 -> 0
A78: 72 | B78: вул. Карпинського, 3 | C78: 0 | D78: 0 | E78: 0 | F78: 0 | G78: 0 | H78: 0 | I78: 0 | J78: 0 | K78: 0 | L78: 0 | M78: 0 | N78: 0 | O78: 0 | P78: 0 | Q78: 0 | R78: 0 | S78: 0 | T78: 0 | U78: =(T78*1.1)*1.2 -> 0
A79: 73 | B79: вул. П. Кривоноса, 5 | C79: 0 | D79: 0 | E79: 0 | F79: 0 | G79: 0 | H79: 0 | I79: 0 | J79: 0 | K79: 0 | L79: 0 | M79: 0 | N79: 0 | O79: 0 | P79: 0 | Q79: 0 | R79: 0 | S79: 0 | T79: 0 | U79: =(T79*1.1)*1.2 -> 0
A80: 74 | B80: вул.Дарвіна, 14а | C80: 0 | D80: 0 | E80: 0 | F80: 0 | G80: 0 | H80: 0 | I80: 0 | J80: 0 | K80: 0 | L80: 0 | M80: 0 | N80: 0 | O80: 0 | P80: 0 | Q80: 0 | R80: 0 | S80: 0 | T80: 0 | U80: =(T80*1.1)*1.2 -> 0
A81: 75 | B81: вул. Кільцева, 2а | C81: 0 | D81: 0 | E81: 0 | F81: 0 | G81: 0 | H81: 0 | I81: 0 | J81: 0 | K81: 0 | L81: 0 | M81: 0 | N81: 0 | O81: 0 | P81: 0 | Q81: 0 | R81: 0 | S81: 0 | T81: 0 | U81: =(T81*1.1)*1.2 -> 0
A82: 76 | B82: вул. Олександрова Ігоря, 42а | C82: 0 | D82: 0 | E82: 0 | F82: 0 | G82: 0 | H82: 0 | I82: 0 | J82: 0 | K82: 0 | L82: 0 | M82: 0 | N82: 0 | O82: 0 | P82: 0 | Q82: 0 | R82: 0 | S82: 0 | T82: 0 | U82: =(T82*1.1)*1.2 -> 0
B83: Середній тариф | C83: =(C7+C8+C9+C11+C13+C15+C16+C18+C20+C22+C24+C26+C28+C30+C31+C33+C35+C37+C38+C40+C41+C43+C44+C45+C46+C47+C48+C49+C50+C51+C52+C53+C54+C55+C56+C57+C58+C59+C60+C61+C62+C63+C64+C65+C66+C67+C68+C69+C70+C71)/50 -> 0.63016992 | D83: =(D7+D8+D9+D11+D13+D15+D16+D18+D20+D22+D24+D26+D28+D30+D31+D33+D35+D37+D38+D40+D41+D43+D44+D45+D46+D47+D48+D49+D50+D51+D52+D53+D54+D55+D56+D57+D58+D59+D60+D61+D62+D63+D64+D65+D66+D67+D68+D69+D70+D71)/50 -> 0.039434879 | E83: =(E7+E8+E9+E11+E13+E15+E16+E18+E20+E22+E24+E26+E28+E30+E31+E33+E35+E37+E38+E40+E41+E43+E44+E45+E46+E47+E48+E49+E50+E51+E52+E53+E54+E55+E56+E57+E58+E59+E60+E61+E62+E63+E64+E65+E66+E67+E68+E69+E70+E71)/50 -> 0.26207321 | F83: =(F7+F8+F9+F11+F13+F15+F16+F18+F20+F22+F24+F26+F28+F30+F31+F33+F35+F37+F38+F40+F41+F43+F44+F45+F46+F47+F48+F49+F50+F51+F52+F53+F54+F55+F56+F57+F58+F59+F60+F61+F62+F63+F64+F65+F66+F67+F68+F69+F70+F71)/50 -> 0.063841773 | G83: =(G7+G8+G9+G11+G13+G15+G16+G18+G20+G22+G24+G26+G28+G30+G31+G33+G35+G37+G38+G40+G41+G43+G44+G45+G46+G47+G48+G49+G50+G51+G52+G53+G54+G55+G56+G57+G58+G59+G60+G61+G62+G63+G64+G65+G66+G67+G68+G69+G70+G71)/50 -> 0.25837034 | H83: =(H7+H8+H9+H11+H13+H15+H16+H18+H20+H22+H24+H26+H28+H30+H31+H33+H35+H37+H38+H40+H41+H43+H44+H45+H46+H47+H48+H49+H50+H51+H52+H53+H54+H55+H56+H57+H58+H59+H60+H61+H62+H63+H64+H65+H66+H67+H68+H69+H70+H71)/50 -> 0.2764798 | I83: =(I7+I8+I9+I11+I13+I15+I16+I18+I20+I22+I24+I26+I28+I30+I31+I33+I35+I37+I38+I40+I41+I43+I44+I45+I46+I47+I48+I49+I50+I51+I52+I53+I54+I55+I56+I57+I58+I59+I60+I61+I62+I63+I64+I65+I66+I67+I68+I69+I70+I71)/50 -> 0.11007861 | J83: =(J7+J8+J9+J11+J13+J15+J16+J18+J20+J22+J24+J26+J28+J30+J31+J33+J35+J37+J38+J40+J41+J43+J44+J45+J46+J47+J48+J49+J50+J51+J52+J53+J54+J55+J56+J57+J58+J59+J60+J61+J62+J63+J64+J65+J66+J67+J68+J69+J70+J71)/50 -> 0.34802076 | ... U83: =(U7+U8+U9+U11+U13+U15+U16+U18+U20+U22+U24+U26+U28+U30+U31+U33+U35+U37+U38+U40+U41+U43+U44+U45+U46+U47+U48+U49+U50+U51+U52+U53+U54+U55+U56+U57+U58+U59+U60+U61+U62+U63+U64+U65+U66+U67+U68+U69+U70+U71)/50 -> 4.5350142
B85: Начальник управління ЖКГ В.Г.Башкаєв
B87: Керуючий справами виконкому | P87: О.А.Огаркова

Sheet КП "ЖЕК №6"
Q1: Додаток №3 до рішення виконавчого комітету Слов'янської міської ради від___18.07.2018_____№__438______
B2: Тарифи
A3: на послуги з утримання будинків і споруд та прибудинкової території будинків, які знаходяться на балансі КП "ЖЕК №6" м. Слов'янськ
A5: № п/п | B5: Будинок | C5: 1. Прибирання прибудинкової території | D5: 2. Прибирання підвалів та технічних приміщень житлового будинку | E5: 3.Технічне обслуговування ліфтів | F5: 4. Енергопостачання ліфтів | G5: 5. Поточний ремонт конструктивних елементів, інженерних систем і технічних пристроїв будинків та елементів зовнішнього благоустрою, розташованих на прибудинковій теріторії | L5: 6. Дератизація | M5: 7. Дезінсекція | N5: 8. Обслуговування димовентиляційних каналів | O5: 9. Технічне обслуговування внутнішньобудинкових систем тепло-, водопостачання, водовідведення і зливної каналізації. | R5: 10. Прибирання і вивезення снігу, посипання частини прибудинкової території призначеної для проходу та проїзду, протиожеледними сумішами | S5: 11. Освітлення місць загального користування | T5: Загальні планові витрати, без ПДВ | U5: Вартість 1 м.кв. з рентабельністю та ПДВ
G6: Поточний ремонт центрального опалення | H6: Поточний ремонт гарячого та холодного водопостачання та водовідведення | I6: Поточний ремонт електричних мереж | J6: Поточний ремонт конструктивних елементів | K6: Поточний ремонт рулонної та штферної покрівлі | O6: ТО центрального опалення | P6: ТО гарячого та холодного водопостачання та водовідведення | Q6: ТО зливової каналізації
C7: грн./м2 | D7: грн./м2 | E7: грн./м2 | F7: грн./м2 | G7: грн./м2 | H7: грн./м2 | I7: грн./м2 | J7: грн./м2 | K7: грн./м2 | L7: грн./м2 | M7: грн./м2 | N7: грн./м2 | O7: грн./м2 | P7: грн./м2 | Q7: грн./м2 | R7: грн./м2 | S7: грн./м2 | T7: грн./м2 | U7: грн/1 м.кв
A8: 1 | B8: ул. Н.Богуна,126 | C8: 2.2806734 | D8: 0.082380066 | E8: - | F8: - | G8: 0 | H8: 0.047873249 | I8: 0.017672089 | J8: 0.12112698 | K8: 0.09539349 | L8: 0 | M8: 0 | N8: 0.044565645 | O8: 0 | P8: 0.32099449 | Q8: - | R8: 0.041928392 | S8: 0.65512821 | T8: 3.7077361 | U8: 4.8942116
A9: 2 | B9: ул. Василевская,11 | C9: 0.78490005 | D9: 0.054108003 | E9: - | F9: - | G9: 0.28416292 | H9: 0.22943937 | I9: 0.29092103 | J9: 0.69114164 | K9: 0.10617582 | L9: 0.0084144584 | M9: 0.016181651 | N9: 0.040805535 | O9: 0.23060387 | P9: 0.15384119 | Q9: - | R9: 0.0063046464 | S9: 0.1827974 | T9: 3.0797976 | U9: 4.0653328
A10: 3 | B10: ул. Василевская,15 | C10: 1.2767369 | D10: 0.038133318 | E10: - | F10: - | G10: 0.2478624 | H10: 0.1589728 | I10: 0.016246617 | J10: 0.84386258 | K10: 0.025873982 | L10: 0.0059301989 | M10: 0.011404229 | N10: 0.02831605 | O10: 0.20114527 | P10: 0.10659271 | Q10: - | R10: 0.013356367 | S10: 0.339311 | T10: 3.3137445 | U10: 4.3741427
A11: 4 | B11: ул. Василевская,23 | C11: 1.5131761 | D11: 0.18405484 | E11: - | F11: - | G11: 0.56921442 | H11: 0.047078546 | I11: 0.011402022 | J11: 0.24684397 | K11: 0.02960658 | L11: 0.010882587 | M11: 0.020928052 | N11: 0.0536339 | O11: 0.46192883 | P11: 0.31566594 | Q11: - | R11: 0.021333291 | S11: 0.20868906 | T11: 3.6944382 | U11: 4.8766584
A12: 5 | B12: ул. Василевская,25 | C12: 1.6838486 | D12: 0.090733097 | E12: - | F12: - | G12: 0.2829747 | H12: 0.13076068 | I12: 0.0182316 | J12: 0.63058923 | K12: 0.025624354 | L12: 0.01411011 | M12: 0.027134827 | N12: 0.021551544 | O12: 0.2296396 | P12: 0.087676226 | Q12: - | R12: 0.033258504 | S12: 0.13349591 | T12: 3.409629 | U12: 4.5007103
A13: 6 | B13: ул. Василевская,27 | C13: 1.1361837 | D13: 0.11110222 | E13: - | F13: - | G13: 0.30772608 | H13: 0.19736789 | I13: 0.20170498 | J13: 0.42483295 | K13: 0.032123062 | L13: 0.017277758 | M13: 0.033226457 | N13: 0.02734273 | O13: 0.24972584 | P13: 0.2365393 | Q13: - | R13: 0.016553456 | S13: 0.24317791 | T13: 3.2348844 | U13: 4.2700474
A14: 7 | B14: ул. Василевская,36 | C14: 1.0272854 | D14: 0.1481116 | E14: - | F14: - | G14: 0.665518 | H14: 0.059632611 | I14: 0.002820168 | J14: 0.070566757 | K14: 0.016108044 | L14: 0.012789114 | M14: 0.02459445 | N14: 0.078231198 | O14: 0.5400811 | P14: 0.39984208 | Q14: 0.22440836 | R14: 0.010033328 | S14: 0.22036118 | T14: 3.5003834 | U14: 4.620506
A15: 8 | B15: ул. Вокзальная,3 | C15: 0.51621718 | D15: 0.19575028 | E15: - | F15: - | G15: 0.42323946 | H15: 0.12607121 | I15: 0.028179178 | J15: 0.1053513 | K15: 0.035850958 | L15: 0 | M15: 0 | N15: 0.096903443 | O15: 0.68693449 | P15: 0.84531891 | Q15: - | R15: 0.22939298 | S15: 0.21543265 | T15: 3.504642 | U15: 4.6261275
A16: 9 | B16: ул. Вокзальная,5 | C16: 0.33419259 | D16: 0.14525003 | E16: - | F16: - | G16: 0.40734551 | H16: 0.15026669 | I16: 0.033587303 | J16: 0.12557023 | K16: 0.02660202 | L16: 0 | M16: 0 | N16: 0.092400859 | O16: 0.82642247 | P16: 1.0075518 | Q16: - | R16: 0.13791989 | S16: 0.38392699 | T16: 3.6710364 | U16: 4.8457681
A17: 10 | B17: ул. Вокзальная,7 | C17: 1.3029159 | D17: 0.19583763 | E17: - | F17: - | G17: 0.085872847 | H17: 0.062774448 | I17: 0.028191752 | J17: 0.45321272 | K17: 0.035866956 | L17: 0 | M17: 0 | N17: 0.096946684 | O17: 0.69687524 | P17: 0.42090839 | Q17: - | R17: 0.076712429 | S17: 0.08459765 | T17: 3.5407126 | U17: 4.6737406
A18: 11 | B18: ул. Вокзальная,13 | C18: 1.5326928 | D18: 0.14277524 | E18: - | F18: - | G18: 0.046086666 | H18: 0.021217596 | I18: 0.071126053 | J18: 0.45303418 | K18: 0.016947233 | L18: 0.010239201 | M18: 0.019690771 | N18: 0.089683186 | O18: 0.63925244 | P18: 0.14226591 | Q18: - | R18: 0.015818295 | S18: 0.22243722 | T18: 3.4232668 | U18: 4.5187122
A19: 12 | B19: ул. Вокзальная,21 | C19: 0.1232959 | D19: 0.10128165 | E19: - | F19: - | G19: 0.089593294 | H19: 0.206976 | I19: 0.02462019 | J19: 0.092812634 | K19: 0.023243682 | L19: 0.010293964 | M19: 0.019796085 | N19: 0.087310456 | O19: 0.96808423 | P19: 1.3877929 | Q19: - | R19: 0.060490311 | S19: 0.49646498 | T19: 3.6920563 | U19: 4.8735144
A20: 13 | B20: ул. Вокзальная,23 | C20: 0.19254329 | D20: 0.19898194 | E20: - | F20: - | G20: 0.095700552 | H20: 0.23561386 | I20: 0.029382849 | J20: 0.19761803 | K20: 0.031071588 | L20: 0.015472067 | M20: 0.029753975 | N20: 0.081044638 | O20: 0.77662903 | P20: 1.5798124 | Q20: - | R20: 0.035904277 | S20: 0.21589395 | T20: 3.7154224 | U20: 4.9043576
A21: 14 | B21: ул. Вокзальная,25 | C21: 0.15626762 | D21: 0.13976566 | E21: - | F21: - | G21: 0.15501186 | H21: 0.1445192 | I21: 0.016004488 | J21: 0.22019182 | K21: 0.032578735 | L21: 0 | M21: 0 | N21: 0.066044084 | O21: 1.2579521 | P21: 0.96901441 | Q21: - | R21: 0.040209094 | S21: 0.50479206 | T21: 3.7023512 | U21: 4.8871035
A22: 15 | B22: ул. Вокзальная,31 | C22: 0.19927536 | D22: 0.20207368 | E22: - | F22: - | G22: 0.091390374 | H22: 0.21430151 | I22: 0.020968376 | J22: 0.23204279 | K22: 0.037940644 | L22: 0 | M22: 0 | N22: 0.079317382 | O22: 0.74165108 | P22: 1.4369111 | Q22: - | R22: 0.11299979 | S22: 0.15643323 | T22: 3.5253053 | U22: 4.653403
A23: 16 | B23: ул. Городская,8 | C23: 1.9912921 | D23: 0.053818503 | E23: - | F23: - | G23: 0.36267294 | H23: 0.020212105 | I23: 0.024883463 | J23: 0.24020485 | K23: 0.014826717 | L23: 0.0083694376 | M23: 0.016095072 | N23: 0.077412891 | O23: 0.29431631 | P23: 0.135524 | Q23: 0.22085417 | R23: 0.01291207 | S23: 0.21803255 | T23: 3.6914272 | U23: 4.8726839
A24: 17 | B24: ул. Конева,2 | C24: 0.45305322 | D24: 0.15415618 | E24: - | F24: - | G24: 0.29734287 | H24: 0.024996685 | I24: 0.019257096 | J24: 0.37221417 | K24: 0.052188547 | L24: 0 | M24: 0 | N24: 0.072844097 | O24: 0.39211194 | P24: 0.16760505 | Q24: - | R24: 0.38386751 | S24: 1.2673931 | T24: 3.6570305 | U24: 4.8272802
A25: 18 | B25: ул. Конева,3 | C25: 0.78946979 | D25: 0.089717658 | E25: - | F25: - | G25: 0.32986615 | H25: 0.34288919 | I25: 0.2840225 | J25: 0.6063641 | K25: 0.02146998 | L25: 0.013952197 | M25: 0.026831147 | N25: 0.074739202 | O25: 0.19032504 | P25: 0.13645084 | Q25: - | R25: 0.007990497 | S25: 0.145363 | T25: 3.0594513 | U25: 4.0384757
A26: 19 | B26: ул. Конева,7 | C26: 0.66516767 | D26: 0.20133296 | E26: - | F26: - | G26: 0.42937529 | H26: 0.022213069 | I26: 0.025668956 | J26: 0.39410252 | K26: 0.047897414 | L26: 0 | M26: 0 | N26: 0.12946444 | O26: 0.34844659 | P26: 0.14894065 | Q26: - | R26: 0.10019291 | S26: 1.126257 | T26: 3.6390595 | U26: 4.8035585
A27: 20 | B27: ул. Конева,9 | C27: 0.48310636 | D27: 0.15344106 | E27: - | F27: - | G27: 0.42322784 | H27: 0.02189504 | I27: 0.025301448 | J27: 0.63124764 | K27: 0.047211658 | L27: 0 | M27: 0 | N27: 0.12761088 | O27: 0.34345782 | P27: 0.14680824 | Q27: - | R27: 0.17111087 | S27: 1.1101322 | T27: 3.684551 | U27: 4.8636073
A28: 21 | B28: ул. Конева,14 | C28: 1.0106318 | D28: 0.16109148 | E28: - | F28: - | G28: 0.32511919 | H28: 0.01681954 | I28: 0.019436307 | J28: 0.74602741 | K28: 0.040297223 | L28: 0 | M28: 0 | N28: 0.049014669 | O28: 0.26384069 | P28: 0.11277655 | Q28: - | R28: 0.076000424 | S28: 0.85279188 | T28: 3.6738471 | U28: 4.8494782
A29: 22 | B29: ул. Короленко,4 | C29: 1.2061829 | D29: 0.19448614 | E29: - | F29: - | G29: 0.50459466 | H29: 0.028279796 | I29: 0.033496526 | J29: 0.57035954 | K29: 0.021129198 | L29: 0.015122491 | M29: 0.029081713 | N29: 0.065929261 | O29: 0.30984638 | P29: 0.18961861 | Q29: - | R29: 0.0060026881 | S29: 0.16889837 | T29: 3.3430282 | U29: 4.4127973
A30: 23 | B30: ул. Короленко,6 | C30: 1.7907012 | D30: 0.2133705 | E30: - | F30: - | G30: 0.25226812 | H30: 0.024659758 | I30: 0.028876248 | J30: 0.024164697 | K30: 0.021492921 | L30: 0.016590865 | M30: 0.03190551 | N30: 0.079048465 | O30: 0.2047206 | P30: 0.16534592 | Q30: - | R30: 0.053730845 | S30: 0.68680228 | T30: 3.5936779 | U30: 4.7436548
A31: 24 | B31: пер. Краматорский,28 | C31: 0.74831363 | D31: 0.15224508 | E31: - | F31: - | G31: 0.34283965 | H31: 0.18832819 | I31: 0.17711579 | J31: 0.56465743 | K31: 0.16245206 | L31: 0.011837989 | M31: 0.022765363 | N31: 0.097098332 | O31: 0.20102688 | P31: 0.12627577 | Q31: - | R31: 0.0097335361 | S31: 0.18158287 | T31: 2.9862726 | U31: 3.9418798
A32: 25 | B32: пер. Лермонтова,33 | C32: 0.25585486 | D32: 0.24082254 | E32: - | F32: - | G32: 0.21789315 | H32: 0.039820859 | I32: 0.038806951 | J32: 0.016249467 | K32: 0.051096249 | L32: 0 | M32: 0 | N32: 0.046707698 | O32: 0.87086129 | P32: 0.75828705 | Q32: - | R32: 0.039764708 | S32: 0.9781941 | T32: 3.5543589 | U32: 4.6917538
A33: 26 | B33: пер. Лермонтова,35 | C33: 0.27771747 | D33: 0.21829571 | E33: - | F33: - | G33: 0.37033343 | H33: 0.046924758 | I33: 0.035176902 | J33: 0.014729472 | K33: 0.046316644 | L33: 0 | M33: 0 | N33: 0.048386975 | O33: 0.78939987 | P33: 0.70187757 | Q33: - | R33: 0.1541928 | S33: 0.88669265 | T33: 3.5900443 | U33: 4.7388584
A34: 27 | B34: ул. Малогородская,5 | C34: 0.30639027 | D34: 0.14720516 | E34: - | F34: - | G34: 0.41012901 | H34: 0.059962195 | I34: 0.024518373 | J34: 0.16805237 | K34: 0.035039046 | L34: 0 | M34: 0 | N34: 0.12366134 | O34: 0.74246214 | P34: 0.80410396 | Q34: - | R34: 0.19191552 | S34: 0.69020515 | T34: 3.7036445 | U34: 4.8888108
A35: 28 | B35: ул. Н.Быт,21 | C35: 1.1131269 | D35: 0.059780514 | E35: - | F35: - | G35: 0.45823197 | H35: 0.021259205 | I35: 0.025256943 | J35: 0.9398344 | K35: 0.018438798 | L35: 0.0092966034 | M35: 0.017878084 | N35: 0.095539806 | O35: 0.37186437 | P35: 0.14254491 | Q35: - | R35: 0.013581444 | S35: 0.16908531 | T35: 3.4557192 | U35: 4.5615494
A36: 29 | B36: ул. Н.Быт,30 | C36: 1.2447324 | D36: 0.044966296 | E36: - | F36: - | G36: 0.38576336 | H36: 0.046431511 | I36: 0.01394431 | J36: 0.71479572 | K36: 0.017703595 | L36: 0.0069928108 | M36: 0.013447713 | N36: 0.094945219 | O36: 0.31305465 | P36: 0.31132751 | Q36: 0.22085417 | R36: 0.0017248067 | S36: 0.16343625 | T36: 3.5941204 | U36: 4.7442389
A37: 30 | B37: ул. Полярная,88 | C37: 0.18065211 | D37: 0.14133408 | E37: - | F37: - | G37: 0.60583551 | H37: 0.17715025 | I37: 0.020027807 | J37: 0.059751368 | K37: 0.035025406 | L37: 0 | M37: 0 | N37: 0.082646702 | O37: 0.60571894 | P37: 1.1878085 | Q37: - | R37: 0.012667959 | S37: 0.47691129 | T37: 3.5855299 | U37: 4.7328995
A38: 31 | B38: ул. Свободы,31 | C38: 0.44537977 | D38: 0.023761636 | E38: 1.1355936 | F38: 0.31594993 | G38: 0.22381265 | H38: 0.030439198 | I38: 0.017304096 | J38: 0.25849664 | K38: 0.012533529 | L38: 0.003695226 | M38: 0.0071062038 | N38: 0.085008383 | O38: 0.18162842 | P38: 0.2040976 | Q38: 0.14577924 | R38: 0.0019544931 | S38: 0.45911742 | T38: 3.5516581 | U38: 4.6881886
A39: 32 | B39: ул. Свободы,31 (для мешканців 1-го поверху) | C39: 0.44537977 | D39: 0.023761636 | E39: - | F39: - | G39: 0.22381265 | H39: 0.030439198 | I39: 0.017304096 | J39: 0.25849664 | K39: 0.012533529 | L39: 0.003695226 | M39: 0.0071062038 | N39: 0.085008383 | O39: 0.18162842 | P39: 0.2040976 | Q39: 0.14577924 | R39: 0.0019544931 | S39: 0.45911742 | T39: 2.1001145 | U39: 2.7721512
A40: 33 | B40: ул. Свободы,32 | C40: 1.1547481 | D40: 0.023859225 | E40: 0.87457646 | F40: 0.15923339 | G40: 0.31469512 | H40: 0.017648722 | I40: 0.023847959 | J40: 0.036671087 | K40: 0.0076168659 | L40: 0.0037104022 | M40: 0.0071353889 | N40: 0.07406068 | O40: 0.25538135 | P40: 0.11833628 | Q40: 0.098076263 | R40: 0.01261323 | S40: 0.2651082 | T40: 3.4473187 | U40: 4.5504607
A41: 34 | B41: ул. Свободы,32 (для мешканців 1-го поверху) | C41: 1.1547481 | D41: 0.023859225 | E41: - | F41: - | G41: 0.31469512 | H41: 0.017648722 | I41: 0.023847959 | J41: 0.036671087 | K41: 0.0076168659 | L41: 0.0037104022 | M41: 0.0071353889 | N41: 0.07406068 | O41: 0.25538135 | P41: 0.11833628 | Q41: 0.098076263 | R41: 0.01261323 | S41: 0.2651082 | T41: 2.4135089 | U41: 3.1858317
...

Sheet КП "ЖЕК №1"
R1: Додаток №1 до рішення виконавчого комітету Слов'янської міської ради від____18.07.2018_______№__438___
B2: Тарифи
A3: на послуги з утримання будинків і споруд та прибудинкової території будинків, які знаходяться на балансі КП "ЖЕК №1" м. Слов'янськ
A5: № п/п | B5: Будинок | C5: 1. Прибирання прибудинкової території | D5: 2. Прибирання підвалів та технічних приміщень житлового будинку | E5: 3.Технічне обслуговування ліфтів | F5: 4. Енергопостачання ліфтів | G5: 5. Поточний ремонт конструктивних елементів, інженерних систем і технічних пристроїв будинків та елементів зовнішнього благоустрою, розташованих на прибудинковій теріторії | L5: 6. Дератизація | M5: 7. Дезінсекція | N5: 8. Обслуговування димовентиляційних каналів | O5: 9. Технічне обслуговування внутнішньобудинкових систем тепло-, водопостачання, водовідведення і зливної каналізації. | R5: 10. Прибирання і вивезення снігу, посипання частини прибудинкової території призначеної для проходу та проїзду, протиожеледними сумішами | S5: 11. Освітлення місць загального користування | T5: Загальні планові витрати, без ПДВ | U5: Вартість 1 м.кв. з рентабельністю та ПДВ
G6: Поточний ремонт центрального опалення | H6: Поточний ремонт гарячого та холодного водопостачання та водовідведення | I6: Поточний ремонт електричних мереж | J6: Поточний ремонт конструктивних елементів | K6: Поточний ремонт рулонної та штферної покрівлі | O6: ТО центрального опалення | P6: ТО гарячого та холодного водопостачання та водовідведення | Q6: ТО зливової каналізації
C7: грн./м2 | D7: грн./м2 | E7: грн./м2 | F7: грн./м2 | G7: грн./м2 | H7: грн./м2 | I7: грн./м2 | J7: грн./м2 | K7: грн./м2 | L7: грн./м2 | M7: грн./м2 | N7: грн./м2 | O7: грн./м2 | P7: грн./м2 | Q7: грн./м2 | R7: грн./м2 | S7: грн./м2 | T7: грн./м2 | U7: грн/1 м.кв
A8: 1 | B8: вул. Центральна, 23 | C8: ='[1]Прибуд. терит'!J3 -> 1.3787982 | D8: ='[1]Приб. підвалів'!J3 -> 0.014719886 | E8: - | F8: - | G8: ='[1]ПР тепло'!J3 -> 0.18087089 | H8: ='[1]ПР вода'!J3 -> 0.22626227 | I8: ='[1]ПР елект'!J3 -> 0.14892133 | J8: ='[1]ПР кон.елем'!J3 -> 0.21430804 | K8: ='[1]ПР шиф.рул.'!K3 -> 0.17646286 | L8: =[1]Дератизац!G3 -> 0.020127213 | M8: =[1]Дезінсекц!G3 -> 0.038706179 | N8: =[1]Димовентканали!J3 -> 0.094044419 | O8: ='[1]ТО тепло'!J3 -> 0.39605549 | P8: ='[1]ТО вода'!J3 -> 0.3342392 | Q8: ='[1]ТО злив.кан'!J3 -> 0.38038386 | R8: =[1]сіль!J3 -> 0.039823862 | S8: ='[1]Осв. місць заг.кор.'!H3 -> 0.069705358 | T8: =SUM(C8:S8) -> 3.713429 | U8: 4.9
A9: 2 | B9: вул. Центральна , 25 | C9: ='[1]Прибуд. терит'!J4 -> 1.0765679 | D9: ='[1]Приб. підвалів'!J4 -> 0.012635272 | E9: - | F9: - | G9: ='[1]ПР тепло'!J4 -> 0.31723013 | H9: ='[1]ПР вода'!J4 -> 0.29657949 | I9: ='[1]ПР елект'!J4 -> 0.054328284 | J9: ='[1]ПР кон.елем'!J4 -> 0.49557133 | K9: ='[1]ПР шиф.рул.'!K4 -> 0.40075933 | L9: =[1]Дератизац!G4 -> 0.017110141 | M9: =[1]Дезінсекц!G4 -> 0.032904117 | N9: =[1]Димовентканали!J4 -> 0.10006655 | O9: ='[1]ТО тепло'!J4 -> 0.30101205 | P9: ='[1]ТО вода'!J4 -> 0.2584868 | Q9: ='[1]ТО злив.кан'!J4 -> 0.19697006 | R9: =[1]сіль!J4 -> 0.044776134 | S9: ='[1]Осв. місць заг.кор.'!H4 -> 0.10595562 | T9: =SUM(C9:S9) -> 3.7109532 | U9: 4.9
A10: 3 | B10: вул. Свободи, 3 | C10: ='[1]Прибуд. терит'!J5 -> 1.023181 | D10: ='[1]Приб. підвалів'!J5 -> 0.012952256 | E10: - | F10: - | G10: ='[1]ПР тепло'!J5 -> 0.38839022 | H10: ='[1]ПР вода'!J5 -> 0.23357247 | I10: ='[1]ПР елект'!J5 -> 0.11065684 | J10: ='[1]ПР кон.елем'!J5 -> 0.6424126 | K10: ='[1]ПР шиф.рул.'!K5 -> 0.40848859 | L10: =[1]Дератизац!G5 -> 0.009500006 | M10: =[1]Дезінсекц!G5 -> 0.018269242 | N10: =[1]Димовентканали!J5 -> 0.11455777 | O10: ='[1]ТО тепло'!J5 -> 0.22112049 | P10: ='[1]ТО вода'!J5 -> 0.2035724 | Q10: ='[1]ТО злив.кан'!J5 -> - | R10: =[1]сіль!J5 -> 0.021928071 | S10: ='[1]Осв. місць заг.кор.'!H5 -> 0.27062693 | T10: =SUM(C10:S10) -> 3.6792288 | U10: 4.86
A11: 4 | B11: вул. Свободи, 5 | C11: ='[1]Прибуд. терит'!J6 -> 0.7258193 | D11: ='[1]Приб. підвалів'!J6 -> 0.014394259 | E11: ='[1]то ліфтів'!I3 -> 0.9200217 | F11: ='[1]то ліфтів'!G3 -> 0.26364199 | G11: ='[1]ПР тепло'!J6 -> 0.30867085 | H11: ='[1]ПР вода'!J6 -> 0.21231542 | I11: ='[1]ПР елект'!J6 -> 0.072372551 | J11: ='[1]ПР кон.елем'!J6 -> 0.18473371 | K11: ='[1]ПР шиф.рул.'!K6 -> 0.28574957 | L11: =[1]Дератизац!G6 -> 0.0096147098 | M11: =[1]Дезінсекц!G6 -> 0.018489827 | N11: =[1]Димовентканали!J6 -> 0.062323033 | O11: ='[1]ТО тепло'!J6 -> 0.27458471 | P11: ='[1]ТО вода'!J6 -> 0.18504561 | Q11: ='[1]ТО злив.кан'!J6 -> 0.051444808 | R11: =[1]сіль!J6 -> 0.022228707 | S11: ='[1]Осв. місць заг.кор.'!H6 -> 0.098938651 | T11: =SUM(C11:S11) -> 3.7103894 | U11: 4.9
A12: 5 | B12: вул. Свободи, 5 (для мешканців 1-го поверху) | C12: =C11 -> 0.7258193 | D12: =D11 -> 0.014394259 | E12: - | F12: - | G12: =G11 -> 0.30867085 | H12: =H11 -> 0.21231542 | I12: =I11 -> 0.072372551 | J12: =J11 -> 0.18473371 | K12: =K11 -> 0.28574957 | L12: =L11 -> 0.0096147098 | M12: =M11 -> 0.018489827 | N12: =N11 -> 0.062323033 | ... S12: =S11 -> 0.098938651 | T12: =SUM(C12:S12) -> 2.5267257 | U12: 3.34
A13: 6 | B13: вул. Свободи, 8 | C13: ='[1]Прибуд. терит'!J7 -> 1.0845158 | D13: ='[1]Приб. підвалів'!J7 -> 0.012318199 | E13: - | F13: - | G13: ='[1]ПР тепло'!J7 -> 0.27133597 | H13: ='[1]ПР вода'!J7 -> 0.20054431 | I13: ='[1]ПР елект'!J7 -> 0.29256831 | J13: ='[1]ПР кон.елем'!J7 -> 0.28838309 | K13: ='[1]ПР шиф.рул.'!K7 -> 0.17958918 | L13: =[1]Дератизац!G7 -> 0.031803018 | M13: =[1]Дезінсекц!G7 -> 0.061159651 | N13: =[1]Димовентканали!J7 -> 0.13449821 | O13: ='[1]ТО тепло'!J7 -> 0.4065224 | P13: ='[1]ТО вода'!J7 -> 0.43696595 | Q13: ='[1]ТО злив.кан'!J7 -> 0.099110831 | R13: =[1]сіль!J7 -> 0.03468648 | S13: ='[1]Осв. місць заг.кор.'!H7 -> 0.17708012 | T13: =SUM(C13:S13) -> 3.7110815 | U13: 4.9
A14: 7 | B14: вул. Свободи, 14 | C14: ='[1]Прибуд. терит'!J8 -> 1.6059808 | D14: ='[1]Приб. підвалів'!J8 -> 0.014549037 | E14: - | F14: - | G14: ='[1]ПР тепло'!J8 -> 0.22448597 | H14: ='[1]ПР вода'!J8 -> 0.16516796 | I14: ='[1]ПР елект'!J8 -> 0.094241654 | J14: ='[1]ПР кон.елем'!J8 -> 0.40822593 | K14: ='[1]ПР шиф.рул.'!K8 -> 0.26962806 | L14: =[1]Дератизац!G8 -> 0.012306511 | M14: =[1]Дезінсекц!G8 -> 0.023666368 | N14: =[1]Димовентканали!J8 -> 0.077527795 | O14: ='[1]ТО тепло'!J8 -> 0.20951739 | P14: ='[1]ТО вода'!J8 -> 0.19193836 | Q14: ='[1]ТО злив.кан'!J8 -> 0.12770171 | R14: =[1]сіль!J8 -> 0.012828438 | S14: ='[1]Осв. місць заг.кор.'!H8 -> 0.27812523 | T14: =SUM(C14:S14) -> 3.7158912 | U14: 4.9
A15: 8 | B15: вул. Свободи, 37 | C15: ='[1]Прибуд. терит'!J9 -> 1.1734305 | D15: ='[1]Приб. підвалів'!J9 -> 0.00699824 | E15: ='[1]то ліфтів'!I4 -> 0.99324204 | F15: ='[1]то ліфтів'!G4 -> 0.086032053 | G15: ='[1]ПР тепло'!J9 -> 0.23497531 | H15: ='[1]ПР вода'!J9 -> 0.18894575 | I15: ='[1]ПР елект'!J9 -> 0.06596726 | J15: ='[1]ПР кон.елем'!J9 -> 0.18502877 | K15: ='[1]ПР шиф.рул.'!K9 -> 0.099291067 | L15: =[1]Дератизац!G9 -> 0.0047718298 | M15: =[1]Дезінсекц!G9 -> 0.0091765957 | N15: =[1]Димовентканали!J9 -> 0.064136683 | O15: ='[1]ТО тепло'!J9 -> 0.19111065 | P15: ='[1]ТО вода'!J9 -> 0.16467754 | Q15: ='[1]ТО злив.кан'!J9 -> 0.10165766 | R15: =[1]сіль!J9 -> 0.006490876 | S15: ='[1]Осв. місць заг.кор.'!H9 -> 0.13615735 | T15: =SUM(C15:S15) -> 3.7120901 | U15: 4.9
A16: 9 | B16: вул. Свободи, 37 (для мешканців 1-го поверху) | C16: =C15 -> 1.1734305 | D16: =D15 -> 0.00699824 | E16: - | F16: - | G16: =G15 -> 0.23497531 | H16: =H15 -> 0.18894575 | I16: =I15 -> 0.06596726 | J16: =J15 -> 0.18502877 | K16: =K15 -> 0.099291067 | L16: =L15 -> 0.0047718298 | M16: =M15 -> 0.0091765957 | N16: =N15 -> 0.064136683 | ... S16: =S15 -> 0.13615735 | T16: =SUM(C16:S16) -> 2.6328161 | U16: 3.48
A17: 10 | B17: вул. Свободи, 39 | C17: ='[1]Прибуд. терит'!J10 -> 0.678604 | D17: ='[1]Приб. підвалів'!J10 -> 0.007655537 | E17: ='[1]то ліфтів'!I5 -> 1.0206569 | F17: ='[1]то ліфтів'!G5 -> 0.29568689 | G17: ='[1]ПР тепло'!J10 -> 0.29550058 | H17: ='[1]ПР вода'!J10 -> 0.19173394 | I17: ='[1]ПР елект'!J10 -> 0.066597425 | J17: ='[1]ПР кон.елем'!J10 -> 0.22534428 | K17: ='[1]ПР шиф.рул.'!K10 -> 0.23727645 | L17: =[1]Дератизац!G10 -> 0.0053605607 | M17: =[1]Дезінсекц!G10 -> 0.01030877 | N17: =[1]Димовентканали!J10 -> 0.064138518 | O17: ='[1]ТО тепло'!J10 -> 0.19337477 | P17: ='[1]ТО вода'!J10 -> 0.16710762 | Q17: ='[1]ТО злив.кан'!J10 -> 0.10171243 | R17: =[1]сіль!J10 -> 0.015039602 | S17: ='[1]Осв. місць заг.кор.'!H10 -> 0.13745802 | T17: =SUM(C17:S17) -> 3.7135563 | U17: 4.9
A18: 11 | B18: вул. Свободи, 39 (для мешканців 1-го поверху) | C18: =C17 -> 0.678604 | D18: =D17 -> 0.007655537 | E18: - | F18: - | G18: =G17 -> 0.29550058 | H18: =H17 -> 0.19173394 | I18: =I17 -> 0.066597425 | J18: =J17 -> 0.22534428 | K18: =K17 -> 0.23727645 | L18: =L17 -> 0.0053605607 | M18: =M17 -> 0.01030877 | N18: =N17 -> 0.064138518 | ... S18: =S17 -> 0.13745802 | T18: =SUM(C18:S18) -> 2.3972125 | U18: 3.16
A19: 12 | B19: вул. Лозановича, 10 | C19: ='[1]Прибуд. терит'!J11 -> 0.62988072 | D19: ='[1]Приб. підвалів'!J11 -> 0.013086777 | E19: - | F19: - | G19: ='[1]ПР тепло'!J11 -> 0.32736643 | H19: ='[1]ПР вода'!J11 -> 0.1959022 | I19: ='[1]ПР елект'!J11 -> 0.14049341 | J19: ='[1]ПР кон.елем'!J11 -> 1.1191654 | K19: ='[1]ПР шиф.рул.'!K11 -> 0.61029962 | L19: =[1]Дератизац!G11 -> 0.0095986724 | M19: =[1]Дезінсекц!G11 -> 0.018458985 | N19: =[1]Димовентканали!J11 -> 0.11561872 | O19: ='[1]ТО тепло'!J11 -> 0.18637809 | P19: ='[1]ТО вода'!J11 -> 0.1707405 | Q19: ='[1]ТО злив.кан'!J11 -> - | R19: =[1]сіль!J11 -> 0.012066084 | S19: ='[1]Осв. місць заг.кор.'!H11 -> 0.15837385 | T19: =SUM(C19:S19) -> 3.7074294 | U19: 4.89
A20: 13 | B20: вул. Лозановича, 14 | C20: ='[1]Прибуд. терит'!J12 -> 1.3986832 | D20: ='[1]Приб. підвалів'!J12 -> 0.013758933 | E20: - | F20: - | G20: ='[1]ПР тепло'!J12 -> 0.33955766 | H20: ='[1]ПР вода'!J12 -> 0.20319766 | I20: ='[1]ПР елект'!J12 -> 0.086955501 | J20: ='[1]ПР кон.елем'!J12 -> 0.42847845 | K20: ='[1]ПР шиф.рул.'!K12 -> 0.46695758 | L20: =[1]Дератизац!G12 -> 0.010091675 | M20: =[1]Дезінсекц!G12 -> 0.019407066 | N20: =[1]Димовентканали!J12 -> 0.11676849 | O20: ='[1]ТО тепло'!J12 -> 0.19331887 | P20: ='[1]ТО вода'!J12 -> 0.17709893 | Q20: ='[1]ТО злив.кан'!J12 -> - | R20: =[1]сіль!J12 -> 0.02528541 | S20: ='[1]Осв. місць заг.кор.'!H12 -> 0.22373767 | T20: =SUM(C20:S20) -> 3.7032971 | U20: 4.89
A21: 14 | B21: вул. Лозановича, 16 | C21: ='[1]Прибуд. терит'!J13 -> 1.6506809 | D21: ='[1]Приб. підвалів'!J13 -> 0.013601123 | E21: - | F21: - | G21: ='[1]ПР тепло'!J13 -> 0.34340844 | H21: ='[1]ПР вода'!J13 -> 0.20550204 | I21: ='[1]ПР елект'!J13 -> 0.087941627 | J21: ='[1]ПР кон.елем'!J13 -> 0.26000259 | K21: ='[1]ПР шиф.рул.'!K13 -> 0.27810463 | L21: =[1]Дератизац!G13 -> 0.0099759261 | M21: =[1]Дезінсекц!G13 -> 0.019184473 | N21: =[1]Димовентканали!J13 -> 0.11490102 | O21: ='[1]ТО тепло'!J13 -> 0.19551122 | P21: ='[1]ТО вода'!J13 -> 0.17910734 | Q21: ='[1]ТО злив.кан'!J13 -> 0.078733945 | R21: =[1]сіль!J13 -> 0.025014379 | S21: ='[1]Осв. місць заг.кор.'!H13 -> 0.25031574 | T21: =SUM(C21:S21) -> 3.7119854 | U21: 4.9
A22: 15 | B22: вул. Лозановича, 18 | C22: ='[1]Прибуд. терит'!J14 -> 1.3224731 | D22: ='[1]Приб. підвалів'!J14 -> 0.012477964 | E22: - | F22: - | G22: ='[1]ПР тепло'!J14 -> 0.32772152 | H22: ='[1]ПР вода'!J14 -> 0.20019163 | I22: ='[1]ПР елект'!J14 -> 0.096788508 | J22: ='[1]ПР кон.елем'!J14 -> 0.57332353 | K22: ='[1]ПР шиф.рул.'!K14 -> 0.46802273 | L22: =[1]Дератизац!G14 -> 0.0091521305 | M22: =[1]Дезінсекц!G14 -> 0.017600251 | N22: =[1]Димовентканали!J14 -> 0.12576612 | O22: ='[1]ТО тепло'!J14 -> 0.18658025 | P22: ='[1]ТО вода'!J14 -> 0.174479 | Q22: ='[1]ТО злив.кан'!J14 -> 0 | R22: =[1]сіль!J14 -> 0.010059593 | S22: ='[1]Осв. місць заг.кор.'!H14 -> 0.19041966 | T22: =SUM(C22:S22) -> 3.715056 | U22: 4.9
A23: 16 | B23: вул. Лозановича, 20 | C23: ='[1]Прибуд. терит'!J15 -> 1.3434508 | D23: ='[1]Приб. підвалів'!J15 -> 0.012807381 | E23: - | F23: - | G23: ='[1]ПР тепло'!J15 -> 0.33463432 | H23: ='[1]ПР вода'!J15 -> 0.20441437 | I23: ='[1]ПР елект'!J15 -> 0.098830116 | J23: ='[1]ПР кон.елем'!J15 -> 0.53214002 | K23: ='[1]ПР шиф.рул.'!K15 -> 0.47730731 | L23: =[1]Дератизац!G15 -> 0.0093937453 | M23: =[1]Дезінсекц!G15 -> 0.018064895 | N23: =[1]Димовентканали!J15 -> 0.12627865 | O23: ='[1]ТО тепло'!J15 -> 0.19051588 | P23: ='[1]ТО вода'!J15 -> 0.17815937 | Q23: ='[1]ТО злив.кан'!J15 -> 0 | R23: =[1]сіль!J15 -> 0.01032933 | S23: ='[1]Осв. місць заг.кор.'!H15 -> 0.17331869 | T23: =SUM(C23:S23) -> 3.7096449 | U23: 4.9
A24: 17 | B24: вул. Ярослава Мудрого , 5 | C24: ='[1]Прибуд. терит'!J16 -> 1.1730963 | D24: ='[1]Приб. підвалів'!J16 -> 0.014183637 | E24: - | F24: - | G24: ='[1]ПР тепло'!J16 -> 0.42848935 | H24: ='[1]ПР вода'!J16 -> 0.22908628 | I24: ='[1]ПР елект'!J16 -> 0.38099019 | J24: ='[1]ПР кон.елем'!J16 -> 0.31688904 | K24: ='[1]ПР шиф.рул.'!K16 -> 0.335754 | L24: =[1]Дератизац!G16 -> 0.011576752 | M24: =[1]Дезінсекц!G16 -> 0.022262984 | N24: =[1]Димовентканали!J16 -> 0.11539417 | O24: ='[1]ТО тепло'!J16 -> 0.25678943 | P24: ='[1]ТО вода'!J16 -> 0.19966242 | Q24: ='[1]ТО злив.кан'!J16 -> 0.053854353 | R24: =[1]сіль!J16 -> 0.012371272 | S24: ='[1]Осв. місць заг.кор.'!H16 -> 0.1603682 | T24: =SUM(C24:S24) -> 3.7107683 | U24: 4.9
A25: 18 | B25: вул. Ярослава Мудрого, 9 | C25: ='[1]Прибуд. терит'!J17 -> 0.97279899 | D25: ='[1]Приб. підвалів'!J17 -> 0.013040931 | E25: - | F25: - | G25: ='[1]ПР тепло'!J17 -> 0.28618637 | H25: ='[1]ПР вода'!J17 -> 0.20114947 | I25: ='[1]ПР елект'!J17 -> 0.02680504 | J25: ='[1]ПР кон.елем'!J17 -> 0.97140605 | K25: ='[1]ПР шиф.рул.'!K17 -> 0.50153124 | L25: =[1]Дератизац!G17 -> 0.0095650463 | M25: =[1]Дезінсекц!G17 -> 0.01839432 | N25: =[1]Димовентканали!J17 -> 0.095635541 | O25: ='[1]ТО тепло'!J17 -> 0.16293322 | P25: ='[1]ТО вода'!J17 -> 0.17531382 | Q25: ='[1]ТО злив.кан'!J17 -> 0.056747698 | R25: =[1]сіль!J17 -> 0.022768671 | S25: ='[1]Осв. місць заг.кор.'!H17 -> 0.18602629 | T25: =SUM(C25:S25) -> 3.7003027 | U25: 4.88
A26: 19 | B26: вул. Ярослава Мудрого,10 | C26: ='[1]Прибуд. терит'!J18 -> 0.32485705 | D26: ='[1]Приб. підвалів'!J18 -> 0.014563359 | E26: - | F26: - | G26: ='[1]ПР тепло'!J18 -> 0.53025431 | H26: ='[1]ПР вода'!J18 -> 0.39235388 | I26: ='[1]ПР елект'!J18 -> 0.24451049 | J26: ='[1]ПР кон.елем'!J18 -> 0.66749918 | K26: ='[1]ПР шиф.рул.'!K18 -> 0.48932236 | L26: =[1]Дератизац!G18 -> 0.011794368 | M26: =[1]Дезінсекц!G18 -> 0.022681476 | N26: =[1]Димовентканали!J18 -> 0.1883041 | O26: ='[1]ТО тепло'!J18 -> 0.30188735 | P26: ='[1]ТО вода'!J18 -> 0.34195992 | Q26: ='[1]ТО злив.кан'!J18 -> - | R26: =[1]сіль!J18 -> 0.032855371 | S26: ='[1]Осв. місць заг.кор.'!H18 -> 0.087231417 | T26: =SUM(C26:S26) -> 3.6500746 | U26: 4.82
A27: 20 | B27: вул. Шевченко, 24 | D27: ='[1]Приб. підвалів'!J19 -> 0.012975747 | E27: - | F27: - | G27: ='[1]ПР тепло'!J19 -> - | H27: ='[1]ПР вода'!J19 -> 0.3168741 | I27: ='[1]ПР елект'!J19 -> 0.1275251 | J27: 1.32 | K27: 0.96 | L27: =[1]Дератизац!G19 -> 0.020573544 | M27: =[1]Дезінсекц!G19 -> 0.039564508 | N27: =[1]Димовентканали!J19 -> 0.067110513 | O27: ='[1]ТО тепло'!J19 -> - | P27: 0.35 | Q27: ='[1]ТО злив.кан'!J19 -> - | R27: =[1]сіль!J19 -> 0.046010879 | S27: ='[1]Осв. місць заг.кор.'!H19 -> 0.22351623 | T27: =SUM(C27:S27) -> 3.4841506 | U27: 4.6
A28: 21 | B28: вул. Банківська, 56 | C28: ='[1]Прибуд. терит'!J20 -> 1.3658954 | D28: ='[1]Приб. підвалів'!J20 -> 0.010344757 | E28: - | F28: - | G28: ='[1]ПР тепло'!J20 -> 0.2766483 | H28: ='[1]ПР вода'!J20 -> 0.26978766 | I28: ='[1]ПР елект'!J20 -> 0.16648212 | J28: ='[1]ПР кон.елем'!J20 -> 0.14843224 | K28: ='[1]ПР шиф.рул.'!K20 -> 0.19355546 | L28: =[1]Дератизац!G20 -> - | M28: =[1]Дезінсекц!G20 -> - | N28: =[1]Димовентканали!J20 -> 0.1168157 | O28: ='[1]ТО тепло'!J20 -> 0.33863137 | P28: ='[1]ТО вода'!J20 -> 0.35626684 | Q28: ='[1]ТО злив.кан'!J20 -> - | R28: =[1]сіль!J20 -> 0.046906164 | S28: ='[1]Осв. місць заг.кор.'!H20 -> 0.42350549 | T28: =SUM(C28:S28) -> 3.7132715 | U28: 4.9
A29: 22 | B29: вул. Банківська , 60 | C29: ='[1]Прибуд. терит'!J21 -> 2.1148914 | D29: ='[1]Приб. підвалів'!J21 -> 0.013458832 | E29: - | F29: - | G29: ='[1]ПР тепло'!J21 -> 0.15915274 | H29: ='[1]ПР вода'!J21 -> 0.23305782 | I29: ='[1]ПР елект'!J21 -> 0.13061944 | J29: ='[1]ПР кон.елем'!J21 -> 0.096240254 | K29: ='[1]ПР шиф.рул.'!K21 -> 0.13984403 | L29: =[1]Дератизац!G21 -> 0.019108522 | M29: =[1]Дезінсекц!G21 -> 0.036747158 | N29: =[1]Димовентканали!J21 -> 0.12529625 | O29: ='[1]ТО тепло'!J21 -> 0.18121945 | P29: ='[1]ТО вода'!J21 -> 0.15234289 | Q29: ='[1]ТО злив.кан'!J21 -> - | R29: =[1]сіль!J21 -> 0.061619923 | S29: ='[1]Осв. місць заг.кор.'!H21 -> 0.24197224 | T29: =SUM(C29:S29) -> 3.7055709 | U29: 4.89
A30: 23 | B30: вул. Банківська , 64 | C30: ='[1]Прибуд. терит'!J22 -> 1.4478339 | D30: ='[1]Приб. підвалів'!J22 -> 0.012265207 | E30: - | F30: - | G30: ='[1]ПР тепло'!J22 -> 0.19645232 | H30: ='[1]ПР вода'!J22 -> 0.31767525 | I30: ='[1]ПР елект'!J22 -> 0.21464926 | J30: ='[1]ПР кон.елем'!J22 -> 0.46139723 | K30: ='[1]ПР шиф.рул.'!K22 -> 0.26817739 | L30: =[1]Дератизац!G22 -> 0.0018939118 | M30: =[1]Дезінсекц!G22 -> 0.0036421381 | N30: =[1]Димовентканали!J22 -> 0.1246454 | O30: ='[1]ТО тепло'!J22 -> 0.11184533 | P30: ='[1]ТО вода'!J22 -> 0.27687302 | Q30: ='[1]ТО злив.кан'!J22 -> - | R30: =[1]сіль!J22 -> 0.047336322 | S30: ='[1]Осв. місць заг.кор.'!H22 -> 0.21296931 | T30: =SUM(C30:S30) -> 3.697656 | U30: 4.88
A31: 24 | B31: вул. Банківська , 80 | C31: ='[1]Прибуд. терит'!J23 -> 1.4314646 | D31: ='[1]Приб. підвалів'!J23 -> 0.014892237 | E31: - | F31: - | G31: ='[1]ПР тепло'!J23 -> 0.28891892 | H31: ='[1]ПР вода'!J23 -> 0.22729733 | I31: ='[1]ПР елект'!J23 -> 0.16465532 | J31: ='[1]ПР кон.елем'!J23 -> 0.26217045 | K31: ='[1]ПР шиф.рул.'!K23 -> 0.24761917 | L31: =[1]Дератизац!G23 -> 0.013503449 | M31: =[1]Дезінсекц!G23 -> 0.025968171 | N31: =[1]Димовентканали!J23 -> 0.081836504 | O31: ='[1]ТО тепло'!J23 -> 0.2349842 | P31: ='[1]ТО вода'!J23 -> 0.19810324 | Q31: ='[1]ТО злив.кан'!J23 -> 0.2070126 | R31: =[1]сіль!J23 -> 0.055524573 | S31: ='[1]Осв. місць заг.кор.'!H23 -> 0.21396733 | T31: =SUM(C31:S31) -> 3.6679181 | U31: 4.84
A32: 25 | B32: вул. Торська, 23 | C32: ='[1]Прибуд. терит'!J24 -> 1.339239 | D32: ='[1]Приб. підвалів'!J24 -> 0.011887465 | E32: - | F32: - | G32: ='[1]ПР тепло'!J24 -> 0.26456938 | H32: ='[1]ПР вода'!J24 -> 0.22220809 | I32: ='[1]ПР елект'!J24 -> 0.11410889 | J32: ='[1]ПР кон.елем'!J24 -> 0.5023883 | K32: ='[1]ПР шиф.рул.'!K24 -> 0.48667097 | L32: =[1]Дератизац!G24 -> 0.0008390128 | M32: =[1]Дезінсекц!G24 -> 0.0016134862 | N32: =[1]Димовентканали!J24 -> 0.11595898 | O32: ='[1]ТО тепло'!J24 -> 0.15062612 | P32: ='[1]ТО вода'!J24 -> 0.19366767 | Q32: ='[1]ТО злив.кан'!J24 -> 0.099400321 | R32: =[1]сіль!J24 -> 0.028337657 | S32: ='[1]Осв. місць заг.кор.'!H24 -> 0.18407537 | T32: =SUM(C32:S32) -> 3.7155907 | U32: 4.9
A33: 26 | B33: вул. Труда, 1а | C33: ='[1]Прибуд. терит'!J25 -> 0.93154414 | D33: ='[1]Приб. підвалів'!J25 -> 0.012571658 | E33: - | F33: - | G33: ='[1]ПР тепло'!J25 -> 0.30994263 | H33: ='[1]ПР вода'!J25 -> 0.18547547 | I33: ='[1]ПР елект'!J25 -> 0.079371546 | J33: ='[1]ПР кон.елем'!J25 -> 1.0535508 | K33: ='[1]ПР шиф.рул.'!K25 -> 0.4666476 | L33: =[1]Дератизац!G25 -> 0.011573919 | M33: =[1]Дезінсекц!G25 -> 0.022257537 | N33: =[1]Димовентканали!J25 -> 0.11522632 | O33: ='[1]ТО тепло'!J25 -> 0.17645827 | P33: ='[1]ТО вода'!J25 -> 0.16165298 | Q33: ='[1]ТО злив.кан'!J25 -> 0 | R33: =[1]сіль!J25 -> 0.019711029 | S33: ='[1]Осв. місць заг.кор.'!H25 -> 0.16013495 | T33: =SUM(C33:S33) -> 3.7061189 | U33: 4.89
A34: 27 | B34: вул. Корольова, 13 | C34: ='[1]Прибуд. терит'!J26 -> 1.6313437 | D34: ='[1]Приб. підвалів'!J26 -> 0.01233301 | E34: - | F34: - | G34: ='[1]ПР тепло'!J26 -> 0.18317189 | H34: ='[1]ПР вода'!J26 -> 0.24874381 | I34: ='[1]ПР елект'!J26 -> 0.20044317 | J34: ='[1]ПР кон.елем'!J26 -> 0.15178365 | K34: ='[1]ПР шиф.рул.'!K26 -> 0.14703507 | L34: =[1]Дератизац!G26 -> 0.02035524 | M34: =[1]Дезінсекц!G26 -> 0.039144693 | N34: =[1]Димовентканали!J26 -> 0.10147817 | O34: ='[1]ТО тепло'!J26 -> 0.26071112 | P34: ='[1]ТО вода'!J26 -> 0.30970733 | Q34: ='[1]ТО злив.кан'!J26 -> 0.071217702 | R34: =[1]сіль!J26 -> 0.056577669 | S34: ='[1]Осв. місць заг.кор.'!H26 -> 0.26695494 | T34: =SUM(C34:S34) -> 3.7010012 | U34: 4.89
A35: 28 | B35: вул. Корольова,15 | C35: ='[1]Прибуд. терит'!J27 -> 1.3760838 | D35: ='[1]Приб. підвалів'!J27 -> 0.014699549 | E35: - | F35: - | G35: ='[1]ПР тепло'!J27 -> 0.32447222 | H35: ='[1]ПР вода'!J27 -> 0.30458078 | I35: ='[1]ПР елект'!J27 -> 0.28315446 | J35: ='[1]ПР кон.елем'!J27 -> 0.30837911 | K35: ='[1]ПР шиф.рул.'!K27 -> 0.23898512 | L35: =[1]Дератизац!G27 -> 0.013938429 | M35: =[1]Дезінсекц!G27 -> 0.026804671 | N35: =[1]Димовентканали!J27 -> 0.099340657 | O35: ='[1]ТО тепло'!J27 -> 0.23091292 | P35: ='[1]ТО вода'!J27 -> 0.2654604 | Q35: ='[1]ТО злив.кан'!J27 -> 0 | R35: =[1]сіль!J27 -> 0.054944126 | S35: ='[1]Осв. місць заг.кор.'!H27 -> 0.16444009 | T35: =SUM(C35:S35) -> 3.7061963 | U35: 4.89
A36: 29 | B36: вул. Корольова,17 | C36: ='[1]Прибуд. терит'!J28 -> 1.6875544 | D36: ='[1]Приб. підвалів'!J28 -> 0.012780832 | E36: - | F36: - | G36: ='[1]ПР тепло'!J28 -> 0.23525268 | H36: ='[1]ПР вода'!J28 -> 0.30032982 | I36: ='[1]ПР елект'!J28 -> 0.24818004 | J36: ='[1]ПР кон.елем'!J28 -> 0.25571692 | K36: ='[1]ПР шиф.рул.'!K28 -> 0.18578757 | L36: =[1]Дератизац!G28 -> - | M36: =[1]Дезінсекц!G28 -> - | N36: =[1]Димовентканали!J28 -> 0.087070388 | O36: ='[1]ТО тепло'!J28 -> 0.13393537 | P36: ='[1]ТО вода'!J28 -> 0.26175544 | Q36: ='[1]ТО злив.кан'!J28 -> 0.037318474 | R36: =[1]сіль!J28 -> 0.041385427 | S36: ='[1]Осв. місць заг.кор.'!H28 -> 0.21641789 | T36: =SUM(C36:S36) -> 3.7034852 | U36: 4.89
A37: 30 | B37: вул. Корольова, 26 | C37: ='[1]Прибуд. терит'!J29 -> 1.0908071 | D37: ='[1]Приб. підвалів'!J29 -> 0.013055661 | E37: - | F37: - | G37: ='[1]ПР тепло'!J29 -> 0.39009089 | H37: ='[1]ПР вода'!J29 -> 0.20519461 | I37: ='[1]ПР елект'!J29 -> 0.10002387 | J37: ='[1]ПР кон.елем'!J29 -> 0.53695881 | K37: ='[1]ПР шиф.рул.'!K29 -> 0.48764993 | L37: =[1]Дератизац!G29 -> 0.011567627 | M37: =[1]Дезінсекц!G29 -> 0.022245436 | N37: =[1]Димовентканали!J29 -> 0.12676065 | O37: ='[1]ТО тепло'!J29 -> 0.22208873 | P37: ='[1]ТО вода'!J29 -> 0.1788394 | Q37: ='[1]ТО злив.кан'!J29 -> 0.14753959 | R37: =[1]сіль!J29 -> 0.019697749 | S37: ='[1]Осв. місць заг.кор.'!H29 -> 0.15790064 | T37: =SUM(C37:S37) -> 3.7104207 | U37: 4.9
A38: 31 | B38: вул. Корольова, 27 | C38: ='[1]Прибуд. терит'!J30 -> 0.65807513 | D38: ='[1]Приб. підвалів'!J30 -> 0.013930682 | E38: - | F38: - | G38: ='[1]ПР тепло'!J30 -> 0.33277908 | H38: ='[1]ПР вода'!J30 -> 0.27489299 | I38: ='[1]ПР елект'!J30 -> 0.094825646 | J38: 0.8 | K38: ='[1]ПР шиф.рул.'!K30 -> 0.56444198 | L38: =[1]Дератизац!G30 -> 0.011566968 | M38: =[1]Дезінсекц!G30 -> 0.02224417 | N38: =[1]Димовентканали!J30 -> 0.13307284 | O38: ='[1]ТО тепло'!J30 -> 0.18945965 | P38: ='[1]ТО вода'!J30 -> 0.23958571 | Q38: ='[1]ТО злив.кан'!J30 -> - | R38: =[1]сіль!J30 -> 0.0091010948 | S38: ='[1]Осв. місць заг.кор.'!H30 -> 0.1563158 | T38: =SUM(C38:S38) -> 3.5002917 | U38: 4.62
A39: 32 | B39: вул. Корольова, 29 | C39: ='[1]Прибуд. терит'!J31 -> 0.4163112 | D39: ='[1]Приб. підвалів'!J31 -> 0.013882747 | E39: - | F39: - | G39: ='[1]ПР тепло'!J31 -> 0.39573131 | H39: ='[1]ПР вода'!J31 -> 0.27394708 | I39: ='[1]ПР елект'!J31 -> 0.09449935 | J39: ='[1]ПР кон.елем'!J31 -> 0.7764574 | K39: ='[1]ПР шиф.рул.'!K31 -> 0.56249974 | L39: =[1]Дератизац!G31 -> 0.011527166 | M39: =[1]Дезінсекц!G31 -> 0.022167628 | N39: =[1]Димовентканали!J31 -> 0.13261493 | O39: ='[1]ТО тепло'!J31 -> 0.22529996 | P39: ='[1]ТО вода'!J31 -> 0.23876129 | Q39: ='[1]ТО злив.кан'!J31 -> - | R39: =[1]сіль!J31 -> 0.0084012438 | S39: ='[1]Осв. місць заг.кор.'!H31 -> 0.158331 | T39: =SUM(C39:S39) -> 3.330432 | U39: 4.4
A40: 33 | B40: вул. Корольова, 30 | C40: ='[1]Прибуд. терит'!J32 -> 1.1270147 | D40: ='[1]Приб. підвалів'!J32 -> 0.013507161 | E40: - | F40: - | G40: ='[1]ПР тепло'!J32 -> 0.4958283 | H40: ='[1]ПР вода'!J32 -> 0.39449555 | I40: ='[1]ПР елект'!J32 -> 0.24584516 | J40: ='[1]ПР кон.елем'!J32 -> 0.10973115 | K40: ='[1]ПР шиф.рул.'!K32 -> 0.46896257 | L40: =[1]Дератизац!G32 -> 0.0096634407 | M40: =[1]Дезінсекц!G32 -> 0.01858354 | N40: =[1]Димовентканали!J32 -> 0.12622131 | O40: ='[1]ТО тепло'!J32 -> 0.30353521 | P40: ='[1]ТО вода'!J32 -> 0.34382651 | Q40: ='[1]ТО злив.кан'!J32 -> - | R40: =[1]сіль!J32 -> 0.0072962704 | S40: ='[1]Осв. місць заг.кор.'!H32 -> 0.044727064 | T40: =SUM(C40:S40) -> 3.709238 | U40: 4.9
A41: 34 | B41: вул. Корольова, 31 | C41: ='[1]Прибуд. терит'!J33 -> 1.1862302 | D41: ='[1]Приб. підвалів'!J33 -> 0.01324517 | E41: - | F41: - | G41: ='[1]ПР тепло'!J33 -> 0.32175843 | H41: ='[1]ПР вода'!J33 -> 0.40625146 | I41: ='[1]ПР елект'!J33 -> 0.14987021 | J41: ='[1]ПР кон.елем'!J33 -> 0.20360999 | K41: ='[1]ПР шиф.рул.'!K33 -> 0.29500798 | L41: =[1]Дератизац!G33 -> 0.026775483 | M41: =[1]Дезінсекц!G33 -> 0.051491314 | N41: =[1]Димовентканали!J33 -> 0.08412768 | O41: ='[1]ТО тепло'!J33 -> 0.35227944 | P41: ='[1]ТО вода'!J33 -> 0.35407249 | Q41: ='[1]ТО злив.кан'!J33 -> - | R41: =[1]сіль!J33 -> 0.027283874 | S41: ='[1]Осв. місць заг.кор.'!H33 -> 0.21662327 | T41: =SUM(C41:S41) -> 3.688627 | U41: 4.87
...

Sheet КП "ЖЕК №7"
R1: Додаток №4 до рішення виконавчого комітету Слов'янської міської ради від__18.07.2018__№_438___
B2: Тарифи
A3: на послуги з утримання будинків і споруд та прибудинкової території будинків, які знаходяться на балансі КП "ЖЕК №7" м. Слов'янськ
A4: № п/п | B4: Будинок | C4: 1. Прибирання прибудинкової території | D4: 2. Прибирання підвалів та технічних приміщень | E4: 3.Технічне обслуговування ліфтів | F4: 4. Енергопостачання ліфтів | G4: 5. Поточний ремонт конструктивних елементів, інженерних систем і технічних пристроїв будинків та елементів зовнішнього благоустрою, розташованих на прибудинковій теріторії | L4: 6. Дератизація | M4: 7. Дезінсекція | N4: 8. Обслуговування димовентиляційних каналів | O4: 9. Технічне обслуговування внутнішньобудинкових систем тепло-, водопостачання, водовідведення і зливної каналізації. | R4: 10. Прибирання і вивезення снігу, посипання частини прибудинкової території призначеної для проходу та проїзду, протиожеледними сумішами | S4: 11. Освітлення місць загального користування | T4: Загальні планові витрати, без ПДВ | V4: Рентабельність з ПДВ | W4: Вартість 1 м.кв. з рентабельністю та ПДВ
G5: Поточний ремонт центрального опалення | H5: Поточний ремонт гарячого та холодного водопостачання та водовідведення | I5: Поточний ремонт електричних мереж | J5: Поточний ремонт конструктивних елементів | K5: Поточний ремонт рулонної та штферної покрівлі | O5: ТО центрального опалення | P5: ТО гарячого та холодного водопостачання та водовідведення | Q5: ТО зливової каналізації
C6: грн./м2 | D6: грн./м2 | E6: грн./м2 | F6: грн./м2 | G6: грн./м2 | H6: грн./м2 | I6: грн./м2 | J6: грн./м2 | K6: грн./м2 | L6: грн./м2 | M6: грн./м2 | N6: грн./м2 | O6: грн./м2 | P6: грн./м2 | Q6: грн./м2 | R6: грн./м2 | S6: грн./м2 | T6: грн./м2 | U6: грн./м2 | V6: грн./м2 | W6: грн./м2
A7: 1 | B7: вул. Свободи 41 | C7: 0.75050975 | D7: 0.048666885 | E7: 1.1114952 | F7: 0.15766647 | G7: 0.24050911 | H7: 0.32496745 | I7: 0.17009737 | J7: 0.021463801 | K7: 0.015597561 | L7: 0.0062394009 | M7: 0.011998848 | N7: 0.038831008 | O7: 0.15910312 | P7: 0.21881137 | Q7: 0.13962842 | R7: 0.050066721 | S7: 0.24993012 | T7: =ROUND(SUM(C7:S7),2) -> 3.72 | V7: 1.18 | W7: 4.9
A8: 2 | B8: вул. Свободи 41 (для мешканців 1-го поверху) | C8: 0.75050975 | D8: 0.048666885 | E8: - | F8: - | G8: 0.24050911 | H8: 0.32496745 | I8: 0.17009737 | J8: 0.021463801 | K8: 0.015597561 | L8: 0.0062394009 | M8: 0.011998848 | N8: 0.038831008 | O8: 0.15910312 | P8: 0.21881137 | Q8: 0.13962842 | R8: 0.050066721 | S8: 0.24993012 | T8: =ROUND(SUM(C8:S8),2) -> 2.45 | V8: 0.78 | W8: 3.23
A9: 3 | B9: вул. Свободи 43 | C9: 0.78500287 | D9: 0.048426385 | E9: 1.1114952 | F9: 0.23095559 | G9: 0.24050911 | H9: 0.32496745 | I9: 0.17083327 | J9: 0.021463801 | K9: 0.015680225 | L9: 0.0062085673 | M9: 0.011939553 | N9: 0.038831008 | O9: 0.15910312 | P9: 0.21881137 | Q9: 0.13962842 | R9: 0.041437118 | S9: 0.14868322 | T9: =ROUND(SUM(C9:S9),2) -> 3.71 | V9: 1.19 | W9: 4.9
A10: 4 | B10: вул. Свободи 43 (для мешканців 1-го поверху) | C10: 0.78500287 | D10: 0.048426385 | E10: - | F10: - | G10: 0.24050911 | H10: 0.32496745 | I10: 0.17083327 | J10: 0.021463801 | K10: 0.015680225 | L10: 0.0062085673 | M10: 0.011939553 | N10: 0.038831008 | O10: 0.15910312 | P10: 0.21881137 | Q10: 0.13962842 | R10: 0.041437118 | S10: 0.14868322 | T10: =ROUND(SUM(C10:S10),2) -> 2.37 | V10: 0.76 | W10: 3.13
A11: 5 | B11: вул. Світлодарська 8а | C11: 0.6832979 | D11: 0.054936931 | E11: 1.075586 | F11: 0.21893229 | G11: 0.24143966 | H11: 0.28272815 | I11: 0.22985505 | J11: 0.18768911 | K11: 0.016551709 | L11: 0.0070432604 | M11: 0.013544731 | N11: 0.039530282 | O11: 0.15971871 | P11: 0.19037025 | Q11: 0.14016866 | R11: 0.023816246 | S11: 0.14613344 | T11: =ROUND(SUM(C11:S11),2) -> 3.71 | V11: 1.19 | W11: 4.9
A12: 6 | B12: вул. Світлодарська 8а (для мешканців 1-го поверху) | C12: 0.6832979 | D12: 0.054936931 | E12: - | F12: - | G12: 0.24143966 | H12: 0.28272815 | I12: 0.22985505 | J12: 0.18768911 | K12: 0.016551709 | L12: 0.0070432604 | M12: 0.013544731 | N12: 0.039530282 | O12: 0.15971871 | P12: 0.19037025 | Q12: 0.14016866 | R12: 0.023816246 | S12: 0.14613344 | T12: =ROUND(SUM(C12:S12),2) -> 2.42 | V12: 0.77 | W12: 3.19
A13: 7 | B13: вул. Торська 34 | C13: 0.66527624 | D13: 0.051757552 | E13: 0.95830303 | F13: 0.16356993 | G13: 0.22641929 | H13: 0.44460867 | I13: 0.21378746 | J13: 0.071388112 | K13: 0.016811151 | L13: 0.0066356439 | M13: 0.012760854 | N13: 0.051188476 | O13: 0.14978233 | P13: 0.29936978 | Q13: 0.13025082 | R13: 0.024095591 | S13: 0.22245989 | T13: =ROUND(SUM(C13:S13),2) -> 3.71 | V13: 1.19 | W13: 4.9
A14: 8 | B14: вул. Торська 34 (для мешканців 1-го поверху) | C14: 0.66527624 | D14: 0.051757552 | E14: - | F14: - | G14: 0.22641929 | H14: 0.44460867 | I14: 0.21378746 | J14: 0.071388112 | K14: 0.016811151 | L14: 0.0066356439 | M14: 0.012760854 | N14: 0.051188476 | O14: 0.14978233 | P14: 0.29936978 | Q14: 0.13025082 | R14: 0.024095591 | S14: 0.22245989 | T14: =ROUND(SUM(C14:S14),2) -> 2.59 | V14: 0.82 | W14: 3.41
A15: 9 | B15: вул. Торська 36 | C15: 0.46712741 | D15: 0.048129753 | E15: 0.98211699 | F15: 0.25205813 | G15: 0.22497026 | H15: 0.44582546 | I15: 0.18497007 | J15: 0.2374758 | K15: 0.15888612 | L15: 0.0061705373 | M15: 0.011866418 | N15: 0.054227523 | O15: 0.14882376 | P15: 0.30018908 | Q15: 0.13060729 | R15: 0.029071909 | S15: 0.030547038 | T15: =ROUND(SUM(C15:S15),2) -> 3.71 | V15: 1.19 | W15: 4.9
A16: 10 | B16: вул. Торська 36 (для мешканців 1-го поверху) | C16: 0.46712741 | D16: 0.048129753 | E16: - | F16: - | G16: 0.22497026 | H16: 0.44582546 | I16: 0.18497007 | J16: 0.2374758 | K16: 0.15888612 | L16: 0.0061705373 | M16: 0.011866418 | N16: 0.054227523 | O16: 0.14882376 | P16: 0.30018908 | Q16: 0.13060729 | R16: 0.029071909 | S16: 0.030547038 | T16: =ROUND(SUM(C16:S16),2) -> 2.48 | V16: 0.79 | W16: 3.27
A17: 11 | B17: вул. Торська 50 | C17: 0.79537385 | D17: 0.046588349 | E17: 0.91890262 | F17: 0.16018814 | G17: 0.23997854 | H17: 0.33145614 | I17: 0.34301075 | J17: 0.1179436 | K17: 0.015960093 | L17: 0.0059729195 | M17: 0.011486384 | N17: 0.058390876 | O17: 0.15875214 | P17: 0.22318042 | Q17: 0.1393204 | R17: 0.045734265 | S17: 0.10114188 | T17: =ROUND(SUM(C17:S17),2) -> 3.71 | V17: 1.19 | W17: 4.9
A18: 12 | B18: вул. Торська 50 (для мешканців 1-го поверху) | C18: 0.79537385 | D18: 0.046588349 | E18: - | F18: - | G18: 0.23997854 | H18: 0.33145614 | I18: 0.34301075 | J18: 0.1179436 | K18: 0.015960093 | L18: 0.0059729195 | M18: 0.011486384 | N18: 0.058390876 | O18: 0.15875214 | P18: 0.22318042 | Q18: 0.1393204 | R18: 0.045734265 | S18: 0.10114188 | T18: =ROUND(SUM(C18:S18),2) -> 2.63 | V18: 0.85 | W18: 3.48
A19: 13 | B19: вул. Торська 52 | C19: 0.90088203 | D19: 0.043747154 | E19: 0.88346187 | F19: 0.13716884 | G19: 0.22275328 | H19: 0.31124226 | I19: 0.10703574 | J19: 0.19751827 | K19: 0.14986765 | L19: 0.0056086605 | M19: 0.010785885 | N19: 0.036553268 | O19: 0.14735717 | P19: 0.20956975 | Q19: 0.13082394 | R19: 0.074504999 | S19: 0.14009482 | T19: =ROUND(SUM(C19:S19),2) -> 3.71 | V19: 1.19 | W19: 4.9
A20: 14 | B20: вул. Торська 52 (для мешканців 1-го поверху) | C20: 0.90088203 | D20: 0.043747154 | E20: - | F20: - | G20: 0.22275328 | H20: 0.31124226 | I20: 0.10703574 | J20: 0.19751827 | K20: 0.14986765 | L20: 0.0056086605 | M20: 0.010785885 | N20: 0.036553268 | O20: 0.14735717 | P20: 0.20956975 | Q20: 0.13082394 | R20: 0.074504999 | S20: 0.14009482 | T20: =ROUND(SUM(C20:S20),2) -> 2.69 | V20: 0.86 | W20: 3.55
A21: 15 | B21: вул. Світлодарська 1 | C21: 1.6050883 | D21: 0.045790033 | E21: - | F21: - | G21: 0.51154369 | H21: 0.41542416 | I21: 0.13170342 | J21: 0.018893779 | K21: 0.046473981 | L21: 0.0058705704 | M21: 0.011289558 | N21: 0.082587444 | O21: 0.33839964 | P21: 0.27971888 | Q21: - | R21: 0.075722958 | S21: 0.14634262 | T21: =ROUND(SUM(C21:S21),2) -> 3.71 | V21: 1.19 | W21: 4.9
A22: 16 | B22: вул. Світлодарська 3 | C22: 1.3592782 | D22: 0.049916297 | E22: - | F22: - | G22: 0.54666181 | H22: 0.44394356 | I22: 0.14182216 | J22: 0.022292565 | K22: 0.049289082 | L22: 0.016162559 | M22: 0.031081843 | N22: 0.079851732 | O22: 0.36163121 | P22: 0.29892193 | Q22: - | R22: 0.069235001 | S22: 0.24534224 | T22: =ROUND(SUM(C22:S22),2) -> 3.72 | V22: 1.18 | W22: 4.9
A23: 17 | B23: вул. Світлодарська 6 | C23: 0.93000669 | D23: 0.10490079 | E23: - | F23: - | G23: 0.52324239 | H23: 0.42713781 | I23: 0.1278171 | J23: 0.29777892 | K23: 0.27129296 | L23: 0.013448941 | M23: 0.025863349 | N23: 0.071886688 | O23: 0.34613864 | P23: 0.28760607 | Q23: - | R23: 0.05676868 | S23: 0.20867895 | T23: =ROUND(SUM(C23:S23),2) -> 3.69 | V23: 1.18 | W23: 4.87
A24: 18 | B24: вул. Світлодарська 7 | C24: 1.3401846 | D24: 0.14695472 | E24: - | F24: - | G24: 0.39969778 | H24: 0.3245942 | I24: 0.11288297 | J24: 0.22030546 | K24: 0.29832068 | L24: 0.011965923 | M24: 0.023011391 | N24: 0.071700225 | O24: 0.26441062 | P24: 0.21856005 | Q24: - | R24: 0.10251514 | S24: 0.16631765 | T24: =ROUND(SUM(C24:S24),2) -> 3.7 | V24: 1.19 | W24: 4.89
A25: 19 | B25: вул. Світлодарська 8 | C25: 0.88714472 | D25: 0.14688786 | E25: - | F25: - | G25: 0.39800559 | H25: 0.32321997 | I25: 0.1137121 | J25: 0.39366795 | K25: 0.33215168 | L25: 0.011986456 | M25: 0.023050878 | N25: 0.07139667 | O25: 0.26329119 | P25: 0.21763474 | Q25: - | R25: 0.076628288 | S25: 0.15455541 | T25: =ROUND(SUM(C25:S25),2) -> 3.41 | V25: 1.1 | W25: 4.51
