Workbook

Sheet КП "ЖЕК №4"
Q1: Додаток №2 до рішення виконавчого комітету Слов'янської міської ради від___18.07.2018_______№__438______
B2: Тарифи
A3: на послуги з утримання будинків і споруд та прибудинкової території будинків, які знаходяться на балансі КП "ЖЕК №4" м. Слов'янськ
A4: № п/п | B4: Будинок | C4: 1. Прибирання прибудинкової території | D4: 2. Прибирання підвалів та технічних приміщень | E4: 3.Технічне обслуговування ліфтів | F4: 4. Енергопостачання ліфтів | G4: 5. Поточний ремонт конструктивних елементів, інженерних систем і технічних пристроїв будинків та елементів зовнішнього благоустрою, розташованих на прибудинковій теріторії | L4: 6. Дератизація | M4: 7. Дезінсекція | N4: 8. Обслуговування димовентиляційних каналів | O4: 9. Технічне обслуговування внутнішньобудинкових систем тепло-, водопостачання, водовідведення і зливної каналізації. | R4: 10. Прибирання і вивезення снігу, посипання частини прибудинкової території призначеної для проходу та проїзду, протиожеледними сумішами | S4: 11. Освітлення місць загального користування | T4: Загальні планові витрати, без ПДВ | U4: Вартість з рентабельністю та ПДВ
G5: Поточний ремонт центрального опалення | H5: Поточний ремонт гарячого та холодного водопостачання та водовідведення | I5: Поточний ремонт електричних мереж | J5: Поточний ремонт конструктивних елементів | K5: Поточний ремонт рулонної та штферної покрівлі | O5: ТО центрального опалення | P5: ТО гарячого та холодного водопостачання та водовідведення | Q5: ТО зливової каналізації
C6: грн./м2 | D6: грн./м2 | E6: грн./м2 | F6: грн./м2 | G6: грн./м2 | H6: грн./м2 | I6: грн./м2 | J6: грн./м2 | K6: грн./м2 | L6: грн./м2 | M6: грн./м2 | N6: грн./м2 | O6: грн./м2 | P6: грн./м2 | Q6: грн./м2 | R6: грн./м2 | S6: грн./м2 | T6: грн./м2 | U6: грн./м2
A7: 1 | B7: вул. Василевського, 2 | C7: 0.8375198 | D7: 0.060483122 | E7: 0 | F7: 0 | G7: 0.24744132 | H7: 0.35516743 | I7: 0.11887041 | J7: 0.56718688 | K7: 0.30605052 | L7: 0.0099811009 | M7: 0.019194425 | N7: 0.26213082 | O7: 0.255496 | P7: 0.31261038 | Q7: 0 | R7: 0.035947177 | S7: 0.32406434 | T7: =SUM(C7:S7) -> 3.7121437 | U7: =(T7*1.1)*1.2 -> 4.9000297
A8: 2 | B8: вул. Василевського, 4 | C8: 0.96102496 | D8: 0.06709144 | E8: 0 | F8: 0 | G8: 0.19462878 | H8: 0.24072718 | I8: 0.097749325 | J8: 0.37327865 | K8: 0.58597142 | L8: 0.011071625 | M8: 0.021291586 | N8: 0.19587388 | O8: 0.20096431 | P8: 0.21188265 | Q8: 0.073441843 | R8: 0.024087481 | S8: 0.19951252 | T8: =SUM(C8:S8) -> 3.4585977 | U8: =(T8*1.1)*1.2 -> 4.5653489
A9: 3 | B9: вул. Василевського, 10 | C9: 0.52291682 | D9: 0.037102056 | E9: 0.94489671 | F9: 0.1706602 | G9: 0.224417 | H9: 0.26891037 | I9: 0.094979338 | J9: 0.38992623 | K9: 0.1707295 | L9: 0.0061226893 | M9: 0.011774402 | N9: 0.13486322 | O9: 0.23172219 | P9: 0.23668886 | Q9: 0.074725647 | R9: 0.013039184 | S9: 0.10896186 | T9: =SUM(C9:S9) -> 3.6424363 | U9: =(T9*1.1)*1.2 -> 4.8080159
A10: 4 | B10: вул. Василевського, 10 (для мешканців 1-го поверху) | C10: 0.52291682 | D10: 0.037102056 | E10: 0 | F10: 0 | G10: 0.224417 | H10: 0.26891037 | I10: 0.094979338 | J10: 0.38992623 | K10: 0.1707295 | L10: 0.0061226893 | M10: 0.011774402 | N10: 0.13486322 | O10: 0.23172219 | P10: 0.23668886 | Q10: 0.074725647 | R10: 0.013039184 | S10: 0.10896186 | T10: =SUM(C10:S10) -> 2.5268794 | U10: =(T10*1.1)*1.2 -> 3.3354807
A11: 5 | B11: вул. Василевського, 12 | C11: 0.55979051 | D11: 0.036918317 | E11: 0.85519348 | F11: 0.19121418 | G11: 0.22330563 | H11: 0.26757866 | I11: 0.094508976 | J11: 0.39184116 | K11: 0.17784962 | L11: 0.0060923682 | M11: 0.011716093 | N11: 0.13419534 | O11: 0.23057464 | P11: 0.23551672 | Q11: 0.074355587 | R11: 0.019450673 | S11: 0.077280034 | T11: =SUM(C11:S11) -> 3.587382 | U11: =(T11*1.1)*1.2 -> 4.7353442
A12: 6 | B12: вул. Василевського, 12 (для мешканців 1-го поверху) | C12: 0.55979051 | D12: 0.036918317 | E12: 0 | F12: 0 | G12: 0.22330563 | H12: 0.26757866 | I12: 0.094508976 | J12: 0.39184116 | K12: 0.17784962 | L12: 0.0060923682 | M12: 0.011716093 | N12: 0.13419534 | O12: 0.23057464 | P12: 0.23551672 | Q12: 0.074355587 | R12: 0.019450673 | S12: 0.077280034 | T12: =SUM(C12:S12) -> 2.5409743 | U12: =(T12*1.1)*1.2 -> 3.3540861
A13: 7 | B13: вул. Василевського, 14 | C13: 0.57131817 | D13: 0.03862629 | E13: 0.95051112 | F13: 0.21530117 | G13: 0.22171631 | H13: 0.26567424 | I13: 0.093836335 | J13: 0.36185526 | K13: 0.17430318 | L13: 0.0063742229 | M13: 0.012258121 | N13: 0.13324024 | O13: 0.22893359 | P13: 0.23384049 | Q13: 0.073826382 | R13: 0.018731755 | S13: 0.11180337 | T13: =SUM(C13:S13) -> 3.7121503 | U13: =(T13*1.1)*1.2 -> 4.9000383
A14: 8 | B14: вул. Василевського, 14 (для мешканців 1-го поверху) | C14: 0.57131817 | D14: 0.03862629 | E14: 0 | F14: 0 | G14: 0.22171631 | H14: 0.26567424 | I14: 0.093836335 | J14: 0.36185526 | K14: 0.17430318 | L14: 0.0063742229 | M14: 0.012258121 | N14: 0.13324024 | O14: 0.22893359 | P14: 0.23384049 | Q14: 0.073826382 | R14: 0.018731755 | S14: 0.11180337 | T14: =SUM(C14:S14) -> 2.546338 | U14: =(T14*1.1)*1.2 -> 3.3611661
A15: 9 | B15: вул. Василевського, 22 а | C15: 1.0236917 | D15: 0.062133049 | E15: 0 | F15: 0 | G15: 0.24297698 | H15: 0.3487595 | I15: 0.11672575 | J15: 0.42355362 | K15: 0.27888574 | L15: 0.010253377 | M15: 0.019718032 | N15: 0.23595134 | O15: 0.25088634 | P15: 0.30697027 | Q15: 0 | R15: 0.059624645 | S15: 0.33187465 | T15: =SUM(C15:S15) -> 3.712005 | U15: =(T15*1.1)*1.2 -> 4.8998466
A16: 10 | B16: вул. Василевського, 28 | C16: 0.45452516 | D16: 0.033106214 | E16: 0.72640823 | F16: 0.25466269 | G16: 0.20171942 | H16: 0.26027802 | I16: 0.092028942 | J16: 0.43826148 | K16: 0.14694363 | L16: 0.0054632838 | M16: 0.010506315 | N16: 0.13228714 | O16: 0.20828577 | P16: 0.22909085 | Q16: 0.075392521 | R16: 0.030603183 | S16: 0.093689866 | T16: =SUM(C16:S16) -> 3.3932527 | U16: =(T16*1.1)*1.2 -> 4.4790936
A17: 11 | B17: вул. Василевського, 28 (для мешканців 1-го поверху) | C17: 0.45452516 | D17: 0.033106214 | E17: 0 | F17: 0 | G17: 0.20171942 | H17: 0.26027802 | I17: 0.092028942 | J17: 0.43826148 | K17: 0.14694363 | L17: 0.0054632838 | M17: 0.010506315 | N17: 0.13228714 | O17: 0.20828577 | P17: 0.22909085 | Q17: 0.075392521 | R17: 0.030603183 | S17: 0.093689866 | T17: =SUM(C17:S17) -> 2.4121818 | U17: =(T17*1.1)*1.2 -> 3.18408
A18: 12 | B18: вул. Батюка, 21/83 | C18: 0.48281785 | D18: 0.042188122 | E18: 0.90253373 | F18: 0.23381114 | G18: 0.2280804 | H18: 0.27230987 | I18: 0.096180044 | J18: 0.39701897 | K18: 0.18841528 | L18: 0.0069620068 | M18: 0.013388475 | N18: 0.13223263 | O18: 0.23550484 | P18: 0.23968102 | Q18: 0.075670311 | R18: 0.028049148 | S18: 0.13737736 | T18: =SUM(C18:S18) -> 3.7122212 | U18: =(T18*1.1)*1.2 -> 4.900132
... A71: 65 | B71: вул.Кільцева, 12 | C71: 1.1613713 | D71: 0 | E71: 0 | F71: 0 | G71: 0.11273771 | H71: 0.087570997 | I71: 0.022610854 | J71: 0.28495163 | K71: 0.055048374 | L71: 0 | M71: 0 | N71: 0.012657032 | O71: 0.21763147 | P71: 0.31687631 | Q71: 0 | R71: 0.055425262 | S71: 0.29122555 | T71: =SUM(C71:S71) -> 2.6181065 | U71: =(T71*1.1)*1.2 -> 3.4559005
A72: 66 | B72: пров. Ударний, 12 | C72: 0 | D72: 0 | E72: 0 | F72: 0 | G72: 0 | H72: 0 | I72: 0 | J72: 0 | K72: 0 | L72: 0 | M72: 0 | N72: 0 | O72: 0 | P72: 0 | Q72: 0 | R72: 0 | S72: 0 | T72: 0 | U72: =(T72*1.1)*1.2 -> 0
A73: 67 | B73: пров. Ударний, 14 | C73: 0 | D73: 0 | E73: 0 | F73: 0 | G73: 0 | H73: 0 | I73: 0 | J73: 0 | K73: 0 | L73: 0 | M73: 0 | N73: 0 | O73: 0 | P73: 0 | Q73: 0 | R73: 0 | S73: 0 | T73: 0 | U73: =(T73*1.1)*1.2 -> 0
A74: 68 | B74: пров. Ударний, 16 | C74: 0 | D74: 0 | E74: 0 | F74: 0 | G74: 0 | H74: 0 | I74: 0 | J74: 0 | K74: 0 | L74: 0 | M74: 0 | N74: 0 | O74: 0 | P74: 0 | Q74: 0 | R74: 0 | S74: 0 | T74: 0 | U74: =(T74*1.1)*1.2 -> 0
A75: 69 | B75: пров. Ударний, 18 | C75: 0 | D75: 0 | E75: 0 | F75: 0 | G75: 0 | H75: 0 | I75: 0 | J75: 0 | K75: 0 | L75: 0 | M75: 0 | N75: 0 | O75: 0 | P75: 0 | Q75: 0 | R75: 0 | S75: 0 | T75: 0 | U75: =(T75*1.1)*1.2 -> 0
A76: 70 | B76: пров. Ударний, 20 | C76: 0 | D76: 0 | E76: 0 | F76: 0 | G76: 0 | H76: 0 | I76: 0 | J76: 0 | K76: 0 | L76: 0 | M76: 0 | N76: 0 | O76: 0 | P76: 0 | Q76: 0 | R76: 0 | S76: 0 | T76: 0 | U76: =(T76*1.1)*1.2 -> 0
A77: 71 | B77: ст. Машчермет, 1 | C77: 0 | D77: 0 | E77: 0 | F77: 0 | G77: 0 | H77: 0 | I77: 0 | J77: 0 | K77: 0 | L77: 0 | M77: 0 | N77: 0 | O77: 0 | P77: 0 | Q77: 0 | R77: 0 | S77: 0 | T77: 0 | U77: =(T77*1.1)*1.2 -> 0
A78: 72 | B78: вул. Карпинського, 3 | C78: 0 | D78: 0 | E78: 0 | F78: 0 | G78: 0 | H78: 0 | I78: 0 | J78: 0 | K78: 0 | L78: 0 | M78: 0 | N78: 0 | O78: 0 | P78: 0 | Q78: 0 | R78: 0 | S78: 0 | T78: 0 | U78: =(T78*1.1)*1.2 -> 0
A79: 73 | B79: вул. П. Кривоноса, 5 | C79: 0 | D79: 0 | E79: 0 | F79: 0 | G79: 0 | H79: 0 | I79: 0 | J79: 0 | K79: 0 | L79: 0 | M79: 0 | N79: 0 | O79: 0 | P79: 0 | Q79: 0 | R79: 0 | S79: 0 | T79: 0 | U79: =(T79*1.1)*1.2 -> 0
A80: 74 | B80: вул.Дарвіна, 14а | C80: 0 | D80: 0 | E80: 0 | F80: 0 | G80: 0 | H80: 0 | I80: 0 | J80: 0 | K80: 0 | L80: 0 | M80: 0 | N80: 0 | O80: 0 | P80: 0 | Q80: 0 | R80: 0 | S80: 0 | T80: 0 | U80: =(T80*1.1)*1.2 -> 0
A81: 75 | B81: вул. Кільцева, 2а | C81: 0 | D81: 0 | E81: 0 | F81: 0 | G81: 0 | H81: 0 | I81: 0 | J81: 0 | K81: 0 | L81: 0 | M81: 0 | N81: 0 | O81: 0 | P81: 0 | Q81: 0 | R81: 0 | S81: 0 | T81: 0 | U81: =(T81*1.1)*1.2 -> 0
A82: 76 | B82: вул. Олександрова Ігоря, 42а | C82: 0 | D82: 0 | E82: 0 | F82: 0 | G82: 0 | H82: 0 | I82: 0 | J82: 0 | K82: 0 | L82: 0 | M82: 0 | N82: 0 | O82: 0 | P82: 0 | Q82: 0 | R82: 0 | S82: 0 | T82: 0 | U82: =(T82*1.1)*1.2 -> 0
B83: Середній тариф | C83: =(C7+C8+C9+C11+C13+C15+C16+C18+C20+C22+C24+C26+C28+C30+C31+C33+C35+C37+C38+C40+C41+C43+C44+C45+C46+C47+C48+C49+C50+C51+C52+C53+C54+C55+C56+C57+C58+C59+C60+C61+C62+C63+C64+C65+C66+C67+C68+C69+C70+C71)/50 -> 0.63016992 | D83: =(D7+D8+D9+D11+D13+D15+D16+D18+D20+D22+D24+D26+D28+D30+D31+D33+D35+D37+D38+D40+D41+D43+D44+D45+D46+D47+D48+D49+D50+D51+D52+D53+D54+D55+D56+D57+D58+D59+D60+D61+D62+D63+D64+D65+D66+D67+D68+D69+D70+D71)/50 -> 0.039434879 | E83: =(E7+E8+E9+E11+E13+E15+E16+E18+E20+E22+E24+E26+E28+E30+E31+E33+E35+E37+E38+E40+E41+E43+E44+E45+E46+E47+E48+E49+E50+E51+E52+E53+E54+E55+E56+E57+E58+E59+E60+E61+E62+E63+E64+E65+E66+E67+E68+E69+E70+E71)/50 -> 0.26207321 | F83: =(F7+F8+F9+F11+F13+F15+F16+F18+F20+F22+F24+F26+F28+F30+F31+F33+F35+F37+F38+F40+F41+F43+F44+F45+F46+F47+F48+F49+F50+F51+F52+F53+F54+F55+F56+F57+F58+F59+F60+F61+F62+F63+F64+F65+F66+F67+F68+F69+F70+F71)/50 -> 0.063841773 | G83: =(G7+G8+G9+G11+G13+G15+G16+G18+G20+G22+G24+G26+G28+G30+G31+G33+G35+G37+G38+G40+G41+G43+G44+G45+G46+G47+G48+G49+G50+G51+G52+G53+G54+G55+G56+G57+G58+G59+G60+G61+G62+G63+G64+G65+G66+G67+G68+G69+G70+G71)/50 -> 0.25837034 | H83: =(H7+H8+H9+H11+H13+H15+H16+H18+H20+H22+H24+H26+H28+H30+H31+H33+H35+H37+H38+H40+H41+H43+H44+H45+H46+H47+H48+H49+H50+H51+H52+H53+H54+H55+H56+H57+H58+H59+H60+H61+H62+H63+H64+H65+H66+H67+H68+H69+H70+H71)/50 -> 0.2764798 | I83: =(I7+I8+I9+I11+I13+I15+I16+I18+I20+I22+I24+I26+I28+I30+I31+I33+I35+I37+I38+I40+I41+I43+I44+I45+I46+I47+I48+I49+I50+I51+I52+I53+I54+I55+I56+I57+I58+I59+I60+I61+I62+I63+I64+I65+I66+I67+I68+I69+I70+I71)/50 -> 0.11007861 | J83: =(J7+J8+J9+J11+J13+J15+J16+J18+J20+J22+J24+J26+J28+J30+J31+J33+J35+J37+J38+J40+J41+J43+J44+J45+J46+J47+J48+J49+J50+J51+J52+J53+J54+J55+J56+J57+J58+J59+J60+J61+J62+J63+J64+J65+J66+J67+J68+J69+J70+J71)/50 -> 0.34802076 | ... U83: =(U7+U8+U9+U11+U13+U15+U16+U18+U20+U22+U24+U26+U28+U30+U31+U33+U35+U37+U38+U40+U41+U43+U44+U45+U46+U47+U48+U49+U50+U51+U52+U53+U54+U55+U56+U57+U58+U59+U60+U61+U62+U63+U64+U65+U66+U67+U68+U69+U70+U71)/50 -> 4.5350142
B85: Начальник управління ЖКГ В.Г.Башкаєв
B87: Керуючий справами виконкому | P87: О.А.Огаркова

Sheet КП "ЖЕК №6"
Q1: Додаток №3 до рішення виконавчого комітету Слов'янської міської ради від___18.07.2018_____№__438______
B2: Тарифи
A3: на послуги з утримання будинків і споруд та прибудинкової території будинків, які знаходяться на балансі КП "ЖЕК №6" м. Слов'янськ
A5: № п/п | B5: Будинок | C5: 1. Прибирання прибудинкової території | D5: 2. Прибирання підвалів та технічних приміщень житлового будинку | E5: 3.Технічне обслуговування ліфтів | F5: 4. Енергопостачання ліфтів | G5: 5. Поточний ремонт конструктивних елементів, інженерних систем і технічних пристроїв будинків та елементів зовнішнього благоустрою, розташованих на прибудинковій теріторії | L5: 6. Дератизація | M5: 7. Дезінсекція | N5: 8. Обслуговування димовентиляційних каналів | O5: 9. Технічне обслуговування внутнішньобудинкових систем тепло-, водопостачання, водовідведення і зливної каналізації. | R5: 10. Прибирання і вивезення снігу, посипання частини прибудинкової території призначеної для проходу та проїзду, протиожеледними сумішами | S5: 11. Освітлення місць загального користування | T5: Загальні планові витрати, без ПДВ | U5: Вартість 1 м.кв. з рентабельністю та ПДВ
G6: Поточний ремонт центрального опалення | H6: Поточний ремонт гарячого та холодного водопостачання та водовідведення | I6: Поточний ремонт електричних мереж | J6: Поточний ремонт конструктивних елементів | K6: Поточний ремонт рулонної та штферної покрівлі | O6: ТО центрального опалення | P6: ТО гарячого та холодного водопостачання та водовідведення | Q6: ТО зливової каналізації
C7: грн./м2 | D7: грн./м2 | E7: грн./м2 | F7: грн./м2 | G7: грн./м2 | H7: грн./м2 | I7: грн./м2 | J7: грн./м2 | K7: грн./м2 | L7: грн./м2 | M7: грн./м2 | N7: грн./м2 | O7: грн./м2 | P7: грн./м2 | Q7: грн./м2 | R7: грн./м2 | S7: грн./м2 | T7: грн./м2 | U7: грн/1 м.кв
A8: 1 | B8: ул. Н.Богуна,126 | C8: 2.2806734 | D8: 0.082380066 | E8: - | F8: - | G8: 0 | H8: 0.047873249 | I8: 0.017672089 | J8: 0.12112698 | K8: 0.09539349 | L8: 0 | M8: 0 | N8: 0.044565645 | O8: 0 | P8: 0.32099449 | Q8: - | R8: 0.041928392 | S8: 0.65512821 | T8: 3.7077361 | U8: 4.8942116
A9: 2 | B9: ул. Василевская,11 | C9: 0.78490005 | D9: 0.054108003 | E9: - | F9: - | G9: 0.28416292 | H9: 0.22943937 | I9: 0.29092103 | J9: 0.69114164 | K9: 0.10617582 | L9: 0.0084144584 | M9: 0.016181651 | N9: 0.040805535 | O9: 0.23060387 | P9: 0.15384119 | Q9: - | R9: 0.0063046464 | S9: 0.1827974 | T9: 3.0797976 | U9: 4.0653328
A10: 3 | B10: ул. Василевская,15 | C10: 1.2767369 | D10: 0.038133318 | E10: - | F10: - | G10: 0.2478624 | H10: 0.1589728 | I10: 0.016246617 | J10: 0.84386258 | K10: 0.025873982 | L10: 0.0059301989 | M10: 0.011404229 | N10: 0.02831605 | O10: 0.20114527 | P10: 0.10659271 | Q10: - | R10: 0.013356367 | S10: 0.339311 | T10: 3.3137445 | U10: 4.3741427
A11: 4 | B11: ул. Василевская,23 | C11: 1.5131761 | D11: 0.18405484 | E11: - | F11: - | G11: 0.56921442 | H11: 0.047078546 | I11: 0.011402022 | J11: 0.24684397 | K11: 0.02960658 | L11: 0.010882587 | M11: 0.020928052 | N11: 0.0536339 | O11: 0.46192883 | P11: 0.31566594 | Q11: - | R11: 0.021333291 | S11: 0.20868906 | T11: 3.6944382 | U11: 4.8766584
A12: 5 | B12: ул. Василевская,25 | C12: 1.6838486 | D12: 0.090733097 | E12: - | F12: - | G12: 0.2829747 | H12: 0.13076068 | I12: 0.0182316 | J12: 0.63058923 | K12: 0.025624354 | L12: 0.01411011 | M12: 0.027134827 | N12: 0.021551544 | O12: 0.2296396 | P12: 0.087676226 | Q12: - | R12: 0.033258504 | S12: 0.13349591 | T12: 3.409629 | U12: 4.5007103
A13: 6 | B13: ул. Василевская,27 | C13: 1.1361837 | D13: 0.11110222 | E13: - | F13: - | G13: 0.30772608 | H13: 0.19736789 | I13: 0.20170498 | J13: 0.42483295 | K13: 0.032123062 | L13: 0.017277758 | M13: 0.033226457 | N13: 0.02734273 | O13: 0.24972584 | P13: 0.2365393 | Q13: - | R13: 0.016553456 | S13: 0.24317791 | T13: 3.2348844 | U13: 4.2700474
A14: 7 | B14: ул. Василевская,36 | C14: 1.0272854 | D14: 0.1481116 | E14: - | F14: - | G14: 0.665518 | H14: 0.059632611 | I14: 0.002820168 | J14: 0.070566757 | K14: 0.016108044 | L14: 0.012789114 | M14: 0.02459445 | N14: 0.078231198 | O14: 0.5400811 | P14: 0.39984208 | Q14: 0.22440836 | R14: 0.010033328 | S14: 0.22036118 | T14: 3.5003834 | U14: 4.620506
A15: 8 | B15: ул. Вокзальная,3 | C15: 0.51621718 | D15: 0.19575028 | E15: - | F15: - | G15: 0.42323946 | H15: 0.12607121 | I15: 0.028179178 | J15: 0.1053513 | K15: 0.035850958 | L15: 0 | M15: 0 | N15: 0.096903443 | O15: 0.68693449 | P15: 0.84531891 | Q15: - | R15: 0.22939298 | S15: 0.21543265 | T15: 3.504642 | U15: 4.6261275
A16: 9 | B16: ул. Вокзальная,5 | C16: 0.33419259 | D16: 0.14525003 | E16: - | F16: - | G16: 0.40734551 | H16: 0.15026669 | I16: 0.033587303 | J16: 0.12557023 | K16: 0.02660202 | L16: 0 | M16: 0 | N16: 0.092400859 | O16: 0.82642247 | P16: 1.0075518 | Q16: - | R16: 0.13791989 | S16: 0.38392699 | T16: 3.6710364 | U16: 4.8457681
A17: 10 | B17: ул. Вокзальная,7 | C17: 1.3029159 | D17: 0.19583763 | E17: - | F17: - | G17: 0.085872847 | H17: 0.062774448 | I17: 0.028191752 | J17: 0.45321272 | K17: 0.035866956 | L17: 0 | M17: 0 | N17: 0.096946684 | O17: 0.69687524 | P17: 0.42090839 | Q17: - | R17: 0.076712429 | S17: 0.08459765 | T17: 3.5407126 | U17: 4.6737406
A18: 11 | B18: ул. Вокзальная,13 | C18: 1.5326928 | D18: 0.14277524 | E18: - | F18: - | G18: 0.046086666 | H18: 0.021217596 | I18: 0.071126053 | J18: 0.45303418 | K18: 0.016947233 | L18: 0.010239201 | M18: 0.019690771 | N18: 0.089683186 | O18: 0.63925244 | P18: 0.14226591 | Q18: - | R18: 0.015818295 | S18: 0.22243722 | T18: 3.4232668 | U18: 4.5187122
A19: 12 | B19: ул. Вокзальная,21 | C19: 0.1232959 | D19: 0.10128165 | E19: - | F19: - | G19: 0.089593294 | H19: 0.206976 | I19: 0.02462019 | J19: 0.092812634 | K19: 0.023243682 | L19: 0.010293964 | M19: 0.019796085 | N19: 0.087310456 | O19: 0.96808423 | P19: 1.3877929 | Q19: - | R19: 0.060490311 | S19: 0.49646498 | T19: 3.6920563 | U19: 4.8735144
A20: 13 | B20: ул. Вокзальная,23 | C20: 0.19254329 | D20: 0.19898194 | E20: - | F20: - | G20: 0.095700552 | H20: 0.23561386 | I20: 0.029382849 | J20: 0.19761803 | K20: 0.031071588 | L20: 0.015472067 | M20: 0.029753975 | N20: 0.081044638 | O20: 0.77662903 | P20: 1.5798124 | Q20: - | R20: 0.035904277 | S20: 0.21589395 | T20: 3.7154224 | U20: 4.9043576
A21: 14 | B21: ул. Вокзальная,25 | C21: 0.15626762 | D21: 0.13976566 | E21: - | F21: - | G21: 0.15501186 | H21: 0.1445192 | I21: 0.016004488 | J21: 0.22019182 | K21: 0.032578735 | L21: 0 | M21: 0 | N21: 0.066044084 | O21: 1.2579521 | P21: 0.96901441 | Q21: - | R21: 0.040209094 | S21: 0.50479206 | T21: 3.7023512 | U21: 4.8871035
A22: 15 | B22: ул. Вокзальная,31 | C22: 0.19927536 | D22: 0.20207368 | E22: - | F22: - | G22: 0.091390374 | H22: 0.21430151 | I22: 0.020968376 | J22: 0.23204279 | K22: 0.037940644 | L22: 0 | M22: 0 | N22: 0.079317382 | O22: 0.74165108 | P22: 1.4369111 | Q22: - | R22: 0.11299979 | S22: 0.15643323 | T22: 3.5253053 | U22: 4.653403
A23: 16 | B23: ул. Городская,8 | C23: 1.9912921 | D23: 0.053818503 | E23: - | F23: - | G23: 0.36267294 | H23: 0.020212105 | I23: 0.024883463 | J23: 0.24020485 | K23: 0.014826717 | L23: 0.0083694376 | M23: 0.016095072 | N23: 0.077412891 | O23: 0.29431631 | P23: 0.135524 | Q23: 0.22085417 | R23: 0.01291207 | S23: 0.21803255 | T23: 3.6914272 | U23: 4.8726839
A24: 17 | B24: ул. Конева,2 | C24: 0.45305322 | D24: 0.15415618 | E24: - | F24: - | G24: 0.29734287 | H24: 0.024996685 | I24: 0.019257096 | J24: 0.37221417 | K24: 0.052188547 | L24: 0 | M24: 0 | N24: 0.072844097 | O24: 0.39211194 | P24: 0.16760505 | Q24: - | R24: 0.38386751 | S24: 1.2673931 | T24: 3.6570305 | U24: 4.8272802
A25: 18 | B25: ул. Конева,3 | C25: 0.78946979 | D25: 0.089717658 | E25: - | F25: - | G25: 0.32986615 | H25: 0.34288919 | I25: 0.2840225 | J25: 0.6063641 | K25: 0.02146998 | L25: 0.013952197 | M25: 0.026831147 | N25: 0.074739202 | O25: 0.19032504 | P25: 0.13645084 | Q25: - | R25: 0.007990497 | S25: 0.145363 | T25: 3.0594513 | U25: 4.0384757
A26: 19 | B26: ул. Конева,7 | C26: 0.66516767 | D26: 0.20133296 | E26: - | F26: - | G26: 0.42937529 | H26: 0.022213069 | I26: 0.025668956 | J26: 0.39410252 | K26: 0.047897414 | L26: 0 | M26: 0 | N26: 0.12946444 | O26: 0.34844659 | P26: 0.14894065 | Q26: - | R26: 0.10019291 | S26: 1.126257 | T26: 3.6390595 | U26: 4.8035585
A27: 20 | B27: ул. Конева,9 | C27: 0.48310636 | D27: 0.15344106 | E27: - | F27: - | G27: 0.42322784 | H27: 0.02189504 | I27: 0.025301448 | J27: 0.63124764 | K27: 0.047211658 | L27: 0 | M27: 0 | N27: 0.12761088 | O27: 0.34345782 | P27: 0.14680824 | Q27: - | R27: 0.17111087 | S27: 1.1101322 | T27: 3.684551 | U27: 4.8636073
A28: 21 | B28: ул. Конева,14 | C28: 1.0106318 | D28: 0.16109148 | E28: - | F28: - | G28: 0.32511919 | H28: 0.01681954 | I28: 0.019436307 | J28: 0.74602741 | K28: 0.040297223 | L28: 0 | M28: 0 | N28: 0.049014669 | O28: 0.26384069 | P28: 0.11277655 | Q28: - | R28: 0.076000424 | S28: 0.85279188 | T28: 3.6738471 | U28: 4.8494782
A29: 22 | B29: ул. Короленко,4 | C29: 1.2061829 | D29: 0.19448614 | E29: - | F29: - | G29: 0.50459466 | H29: 0.028279796 | I29: 0.033496526 | J29: 0.57035954 | K29: 0.021129198 | L29: 0.015122491 | M29: 0.029081713 | N29: 0.065929261 | O29: 0.30984638 | P29: 0.18961861 | Q29: - | R29: 0.0060026881 | S29: 0.16889837 | T29: 3.3430282 | U29: 4.4127973
A30: 23 | B30: ул. Короленко,6 | C30: 1.7907012 | D30: 0.2133705 | E30: - | F30: - | G30: 0.25226812 | H30: 0.024659758 | I30: 0.028876248 | J30: 0.024164697 | K30: 0.021492921 | L30: 0.016590865 | M30: 0.03190551 | N30: 0.079048465 | O30: 0.2047206 | P30: 0.16534592 | Q30: - | R30: 0.053730845 | S30: 0.68680228 | T30: 3.5936779 | U30: 4.7436548
A31: 24 | B31: пер. Краматорский,28 | C31: 0.74831363 | D31: 0.15224508 | E31: - | F31: - | G31: 0.34283965 | H31: 0.18832819 | I31: 0.17711579 | J31: 0.56465743 | K31: 0.16245206 | L31: 0.011837989 | M31: 0.022765363 | N31: 0.097098332 | O31: 0.20102688 | P31: 0.12627577 | Q31: - | R31: 0.0097335361 | S31: 0.18158287 | T31: 2.9862726 | U31: 3.9418798
A32: 25 | B32: пер. Лермонтова,33 | C32: 0.25585486 | D32: 0.24082254 | E32: - | F32: - | G32: 0.21789315 | H32: 0.039820859 | I32: 0.038806951 | J32: 0.016249467 | K32: 0.051096249 | L32: 0 | M32: 0 | N32: 0.046707698 | O32: 0.87086129 | P32: 0.75828705 | Q32: - | R32: 0.039764708 | S32: 0.9781941 | T32: 3.5543589 | U32: 4.6917538
A33: 26 | B33: пер. Лермонтова,35 | C33: 0.27771747 | D33: 0.21829571 | E33: - | F33: - | G33: 0.37033343 | H33: 0.046924758 | I33: 0.035176902 | J33: 0.014729472 | K33: 0.046316644 | L33: 0 | M33: 0 | N33: 0.048386975 | O33: 0.78939987 | P33: 0.70187757 | Q33: - | R33: 0.1541928 | S33: 0.88669265 | T33: 3.5900443 | U33: 4.7388584
A34: 27 | B34: ул. Малогородская,5 | C34: 0.30639027 | D34: 0.14720516 | E34: - | F34: - | G34: 0.41012901 | H34: 0.059962195 | I34: 0.024518373 | J34: 0.16805237 | K34: 0.035039046 | L34: 0 | M34: 0 | N34: 0.12366134 | O34: 0.74246214 | P34: 0.80410396 | Q34: - | R34: 0.19191552 | S34: 0.69020515 | T34: 3.7036445 | U34: 4.8888108
A35: 28 | B35: ул. Н.Быт,21 | C35: 1.1131269 | D35: 0.059780514 | E35: - | F35: - | G35: 0.45823197 | H35: 0.021259205 | I35: 0.025256943 | J35: 0.9398344 | K35: 0.018438798 | L35: 0.0092966034 | M35: 0.017878084 | N35: 0.095539806 | O35: 0.37186437 | P35: 0.14254491 | Q35: - | R35: 0.013581444 | S35: 0.16908531 | T35: 3.4557192 | U35: 4.5615494
A36: 29 | B36: ул. Н.Быт,30 | C36: 1.2447324 | D36: 0.044966296 | E36: - | F36: - | G36: 0.38576336 | H36: 0.046431511 | I36: 0.01394431 | J36: 0.71479572 | K36: 0.017703595 | L36: 0.0069928108 | M36: 0.013447713 | N36: 0.094945219 | O36: 0.31305465 | P36: 0.31132751 | Q36: 0.22085417 | R36: 0.0017248067 | S36: 0.16343625 | T36: 3.5941204 | U36: 4.7442389
A37: 30 | B37: ул. Полярная,88 | C37: 0.18065211 | D37: 0.14133408 | E37: - | F37: - | G37: 0.60583551 | H37: 0.17715025 | I37: 0.020027807 | J37: 0.059751368 | K37: 0.035025406 | L37: 0 | M37: 0 | N37: 0.082646702 | O37: 0.60571894 | P37: 1.1878085 | Q37: - | R37: 0.012667959 | S37: 0.47691129 | T37: 3.5855299 | U37: 4.7328995
A38: 31 | B38: ул. Свободы,31 | C38: 0.44537977 | D38: 0.023761636 | E38: 1.1355936 | F38: 0.31594993 | G38: 0.22381265 | H38: 0.030439198 | I38: 0.017304096 | J38: 0.25849664 | K38: 0.012533529 | L38: 0.003695226 | M38: 0.0071062038 | N38: 0.085008383 | O38: 0.18162842 | P38: 0.2040976 | Q38: 0.14577924 | R38: 0.0019544931 | S38: 0.45911742 | T38: 3.5516581 | U38: 4.6881886
A39: 32 | B39: ул. Свободы,31 (для мешканців 1-го поверху) | C39: 0.44537977 | D39: 0.023761636 | E39: - | F39: - | G39: 0.22381265 | H39: 0.030439198 | I39: 0.017304096 | J39: 0.25849664 | K39: 0.012533529 | L39: 0.003695226 | M39: 0.0071062038 | N39: 0.085008383 | O39: 0.18162842 | P39: 0.2040976 | Q39: 0.14577924 | R39: 0.0019544931 | S39: 0.45911742 | T39: 2.1001145 | U39: 2.7721512
A40: 33 | B40: ул. Свободы,32 | C40: 1.1547481 | D40: 0.023859225 | E40: 0.87457646 | F40: 0.15923339 | G40: 0.31469512 | H40: 0.017648722 | I40: 0.023847959 | J40: 0.036671087 | K40: 0.0076168659 | L40: 0.0037104022 | M40: 0.0071353889 | N40: 0.07406068 | O40: 0.25538135 | P40: 0.11833628 | Q40: 0.098076263 | R40: 0.01261323 | S40: 0.2651082 | T40: 3.4473187 | U40: 4.5504607
A41: 34 | B41: ул. Свободы,32 (для мешканців 1-го поверху) | C41: 1.1547481 | D41: 0.023859225 | E41: - | F41: - | G41: 0.31469512 | H41: 0.017648722 | I41: 0.023847959 | J41: 0.036671087 | K41: 0.0076168659 | L41: 0.0037104022 | M41: 0.0071353889 | N41: 0.07406068 | O41: 0.25538135 | P41: 0.11833628 | Q41: 0.098076263 | R41: 0.01261323 | S41: 0.2651082 | T41: 2.4135089 | U41: 3.1858317
A42: 35 | B42: ул. Свободы,33 | C42: 0.87235139 | D42: 0.071957728 | E42: 0.47378119 | F42: 0.31142983 | G42: 0.22061071 | H42: 0.030003724 | I42: 0.017056537 | J42: 0.68750954 | K42: 0.012354219 | L42: 0.0042408903 | M42: 0.0081555582 | N42: 0.08693443 | O42: 0.17902998 | P42: 0.2011777 | Q42: 0.14369367 | R42: 0.034677565 | S42: 0.19697079 | T42: 3.5519354 | U42: 4.6885548
A43: 36 | B43: ул. Свободы,33 (для мешканців 1-го поверху) | C43: 0.87235139 | D43: 0.071957728 | E43: - | F43: - | G43: 0.22061071 | H43: 0.030003724 | I43: 0.017056537 | J43: 0.68750954 | K43: 0.012354219 | L43: 0.0042408903 | M43: 0.0081555582 | N43: 0.08693443 | O43: 0.17902998 | P43: 0.2011777 | Q43: 0.14369367 | R43: 0.034677565 | S43: 0.19697079 | T43: 2.7667244 | U43: 3.6520762
A44: 37 | B44: ул. Свободы,34 | C44: 0.64138474 | D44: 0.026633635 | E44: 1.1696579 | F44: 0.16221998 | G44: 0.3370293 | H44: 0.021348048 | I44: 0.024857313 | J44: 0.15184585 | K44: 0.0080850912 | L44: 0.0041418571 | M44: 0.0079651098 | N44: 0.078113422 | O44: 0.27350599 | P44: 0.14314061 | Q44: 0.10415956 | R44: 0.033569453 | S44: 0.16386453 | T44: 3.3515224 | U44: 4.4240095
A45: 38 | B45: ул. Свободы,34 (для мешканців 1-го поверху) | C45: 0.64138474 | D45: 0.026633635 | E45: - | F45: - | G45: 0.3370293 | H45: 0.021348048 | I45: 0.024857313 | J45: 0.15184585 | K45: 0.0080850912 | L45: 0.0041418571 | M45: 0.0079651098 | N45: 0.078113422 | O45: 0.27350599 | P45: 0.14314061 | Q45: 0.10415956 | R45: 0.033569453 | S45: 0.16386453 | T45: 2.0196445 | U45: 2.6659307
A46: 39 | B46: ул. Свободы,38/1 | C46: 0.55370703 | D46: 0.036839052 | E46: 0.983867 | F46: 0.16315021 | G46: 0.35299472 | H46: 0.022359327 | I46: 0.026034829 | J46: 0.55279583 | K46: 0.008071508 | L46: 0.0027252997 | M46: 0.005240961 | N46: 0.079519891 | O46: 0.28646224 | P46: 0.14992132 | Q46: 0.1090937 | R46: 0.035862866 | S46: 0.14459128 | T46: 3.5132371 | U46: 4.6374729
A47: 40 | B47: ул. Свободы,38/1(для мешканців 1-го поверху) | C47: 0.55370703 | D47: 0.036839052 | E47: - | F47: - | G47: 0.35299472 | H47: 0.022359327 | I47: 0.026034829 | J47: 0.55279583 | K47: 0.008071508 | L47: 0.0027252997 | M47: 0.005240961 | N47: 0.079519891 | O47: 0.28646224 | P47: 0.14992132 | Q47: 0.1090937 | R47: 0.035862866 | S47: 0.14459128 | T47: 2.3662199 | U47: 3.1234102
A48: 41 | B48: ул. Свободы,38/2 | C48: 0.38422559 | D48: 0.04079294 | E48: 0.83413129 | F48: 0.08887921 | G48: 0.3115244 | H48: 0.019810606 | I48: 0.23751376 | J48: 0.39284027 | K48: 0.065499205 | L48: 0.0022115442 | M48: 0.0042529696 | N48: 0.042812725 | O48: 0.25280825 | P48: 0.13283192 | Q48: 0.096189161 | R48: 0.037966052 | S48: 0.16867891 | T48: 3.1129688 | U48: 4.1091188
A49: 42 | B49: ул. Свободы,38/2 (для мешканців 1-го поверху) | C49: 0.38422559 | D49: 0.04079294 | E49: - | F49: - | G49: 0.3115244 | H49: 0.019810606 | I49: 0.23751376 | J49: 0.39284027 | K49: 0.065499205 | L49: 0.0022115442 | M49: 0.0042529696 | N49: 0.042812725 | O49: 0.25280825 | P49: 0.13283192 | Q49: 0.096189161 | R49: 0.037966052 | S49: 0.16867891 | T49: 2.1899583 | U49: 2.890745
A50: 43 | B50: ул. Свободы,45 | C50: 0.73434719 | D50: 0.024391892 | E50: 1.1253281 | F50: 0.30218001 | G50: 0.21055636 | H50: 0.029851176 | I50: 0.016969816 | J50: 0.17043705 | K50: 0.011729197 | L50: 0.0037932385 | M50: 0.0072946895 | N50: 0.087534506 | O50: 0.17087068 | P50: 0.20015485 | Q50: 0.14296308 | R50: 0.048110082 | S50: 0.28673526 | T50: 3.5732471 | U50: 4.7166862
A51: 44 | B51: ул. Свободы,45 (для мешканців 1-го поверху) | C51: 0.73434719 | D51: 0.024391892 | E51: - | F51: - | G51: 0.21055636 | H51: 0.029851176 | I51: 0.016969816 | J51: 0.17043705 | K51: 0.011729197 | L51: 0.0037932385 | M51: 0.0072946895 | N51: 0.087534506 | O51: 0.17087068 | P51: 0.20015485 | Q51: 0.14296308 | R51: 0.048110082 | S51: 0.28673526 | T51: 2.1457391 | U51: 2.8323756
A52: 45 | B52: ул. Свободы,47 | C52: 0.68845628 | D52: 0.022395732 | E52: 1.151986 | F52: 0.30535195 | G52: 0.20494814 | H52: 0.029056083 | I52: 0.016517821 | J52: 0.30113844 | K52: 0.010162608 | L52: 0.0034828112 | M52: 0.0066977139 | N52: 0.085203005 | O52: 0.1663195 | P52: 0.19482368 | Q52: 0.13915523 | R52: 0.0039365924 | S52: 0.22961312 | T52: 3.5592447 | U52: 4.698203
A53: 46 | B53: ул. Свободы,47 (для мешканців 1-го поверху) | C53: 0.68845628 | D53: 0.022395732 | E53: - | F53: - | G53: 0.20494814 | H53: 0.029056083 | I53: 0.016517821 | J53: 0.30113844 | K53: 0.010162608 | L53: 0.0034828112 | M53: 0.0066977139 | N53: 0.085203005 | O53: 0.1663195 | P53: 0.19482368 | Q53: 0.13915523 | R53: 0.0039365924 | S53: 0.22961312 | T53: 2.1019068 | U53: 2.7745169
A54: 47 | B54: пер. Солодилова,42 | C54: 0.37663075 | D54: 0.20212558 | E54: - | F54: - | G54: 0.63738096 | H54: 0.18004682 | I54: 0.01528863 | J54: 0.1257485 | K54: 0.034641232 | L54: 0 | M54: 0 | N54: 0.077110033 | O54: 0.51724733 | P54: 0.82153371 | Q54: - | R54: 0.094140781 | S54: 0.61180124 | T54: 3.6936956 | U54: 4.8756782
A55: 48 | B55: ул. Б.Ступки,7 | C55: 1.0422501 | D55: 0.14248682 | E55: - | F55: - | G55: 0.30077554 | H55: 0.15560159 | I55: 0.17980993 | J55: 0.1971908 | K55: 0.037279925 | L55: 0 | M55: 0 | N55: 0.090689285 | O55: 0.24408534 | P55: 0.10433228 | Q55: - | R55: 0.038157459 | S55: 0.78893817 | T55: 3.3215972 | U55: 4.3845083
A56: 49 | B56: ул. Б.Ступки,8 | C56: 0.94353311 | D56: 0.18546563 | E56: - | F56: - | G56: 0.31066361 | H56: 0.016071703 | I56: 0.018572122 | J56: 0.68485213 | K56: 0.038367991 | L56: 0 | M56: 0 | N56: 0.093670717 | O56: 0.2521097 | P56: 0.10776223 | Q56: - | R56: 0.12275836 | S56: 0.8148747 | T56: 3.588702 | U56: 4.7370866
A57: 50 | B57: ул. Б.Ступки,9 | C57: 0.41339074 | D57: 0.15308725 | E57: - | F57: - | G57: 0.31200884 | H57: 0.016141296 | I57: 0.018652543 | J57: 0.71594403 | K57: 0.038672247 | L57: 0 | M57: 0 | N57: 0.094076327 | O57: 0.25320138 | P57: 0.10822886 | Q57: - | R57: 0.49979285 | S57: 0.81840325 | T57: 3.4415996 | U57: 4.5429115
A58: 51 | B58: ул. Б.Ступки,11 | C58: 0.98292526 | D58: 0.18709507 | E58: - | F58: - | G58: 0.31724619 | H58: 0.016412243 | I58: 0.018965643 | J58: 0.56963011 | K58: 0.043955703 | L58: 0 | M58: 0 | N58: 0.095655484 | O58: 0.2574516 | P58: 0.11004558 | Q58: - | R58: 0.047577947 | S58: 0.83214089 | T58: 3.4791017 | U58: 4.5924143
A59: 52 | B59: ул. Б.Ступки,12 | C59: 0.73124868 | D59: 0.19469956 | E59: - | F59: - | G59: 0.32613088 | H59: 0.016871878 | I59: 0.019496788 | J59: 0.60054995 | K59: 0.046341643 | L59: 0 | M59: 0 | N59: 0.098334379 | O59: 0.2646617 | P59: 0.11312748 | Q59: - | R59: 0.19127056 | S59: 0.85544554 | T59: 3.458179 | U59: 4.5647963
A60: 53 | B60: ул. Торговая,6 | C60: 0.83197912 | D60: 0.14630498 | E60: - | F60: - | G60: 0.54459121 | H60: 0.06835129 | I60: 0.036609235 | J60: 0.20588299 | K60: 0.016294706 | L60: 0.012760229 | M60: 0.024538902 | N60: 0.13817523 | O60: 0.64537427 | P60: 0.45830162 | Q60: 0.20220078 | R60: 0.13968916 | S60: 0.23941771 | T60: 3.7104714 | U60: 4.8978223
A61: 54 | B61: ул. Торговая,28 | C61: 0.88173194 | D61: 0.012565687 | E61: - | F61: - | G61: 0.42684336 | H61: 0.24527912 | I61: 0.021329425 | J61: 0.66493386 | K61: 0.14334638 | L61: 0.0019541185 | M61: 0.0037579201 | N61: 0.081896407 | O61: 0.34639188 | P61: 0.16446188 | Q61: 0.093628381 | R61: 0.076526533 | S61: 0.093942186 | T61: 3.2585891 | U61: 4.3013376
A62: 55 | B62: ул. Торговая,44 | C62: 1.6758838 | D62: 0.062796871 | E62: - | F62: - | G62: 0.31231465 | H62: 0.017414211 | I62: 0.021038201 | J62: 0.5925334 | K62: 0.014000139 | L62: 0.0097656841 | M62: 0.018780162 | N62: 0.079581509 | O62: 0.25344956 | P62: 0.11676387 | Q62: 0.19028207 | R62: 0.0020911082 | S62: 0.14090354 | T62: 3.5075987 | U62: 4.6300303
A63: 56 | B63: ул. Торговая,89 | C63: 1.1279818 | D63: 0.058679388 | E63: - | F63: - | G63: 0.36943153 | H63: 0.27352277 | I63: 0.51532581 | J63: 0.27247748 | K63: 0.014508169 | L63: 0.009125365 | M63: 0.017548779 | N63: 0.068458629 | O63: 0.29980104 | P63: 0.18339951 | Q63: 0.14644951 | R63: 0.052715157 | S63: 0.1278573 | T63: 3.5372822 | U63: 4.6692125
A64: 57 | B64: ул. Центральная,31 | C64: 0.92240405 | D64: 0.12186204 | E64: - | F64: - | G64: 0.71444541 | H64: 0.073297621 | I64: 0.018189798 | J64: 0.40320035 | K64: 0.023799496 | L64: 0.0058206651 | M64: 0.011193587 | N64: 0.10149005 | O64: 0.57978667 | P64: 0.49146722 | Q64: - | R64: 0.0036069381 | S64: 0.21319609 | T64: 3.68376 | U64: 4.8625632
A65: 58 | B65: ул. Шелковичная,29 | C65: 0.70366013 | D65: 0.074601911 | E65: - | F65: - | G65: 0.26721569 | H65: 0.025749234 | I65: 0.015693342 | J65: 0.71788298 | K65: 0.29611466 | L65: 0.011601513 | M65: 0.022310601 | N65: 0.072902462 | O65: 0.21685085 | P65: 0.17265096 | Q65: 0.25514087 | R65: 0.013409252 | S65: 0.36308156 | T65: 3.228866 | U65: 4.2621032
A66: 59 | B66: ул. Ярмарочная,25 | C66: 0.62397769 | D66: 0.17856461 | E66: - | F66: - | G66: 0 | H66: 0.080522565 | I66: 0.019311371 | J66: 0.68953257 | K66: 0.037245612 | L66: 0 | M66: 0 | N66: 0.0085940474 | O66: 0 | P66: 0.53991113 | Q66: - | R66: 0.02892752 | S66: 0.14998681 | T66: 2.3565739 | U66: 3.1106776
A67: 60 | B67: ул. Ярмарочная,27 | C67: 0.45977622 | D67: 0.21131798 | E67: - | F67: - | G67: 0.30378726 | H67: 0.10727855 | I67: 0.02572814 | J67: 0.56264199 | K67: 0.043839101 | L67: 0 | M67: 0 | N67: 0.045798686 | O67: 0.87233482 | P67: 0.10537698 | Q67: - | R67: 0.12004118 | S67: 0.15770751 | T67: 3.0156284 | U67: 3.9806295
A68: 61 | B68: ул. Короленко,8 | C68: 0.94176186 | D68: 0.13359932 | E68: - | F68: - | G68: 0.24356893 | H68: 0.015922034 | I68: 0.024268436 | J68: 1.2100558 | K68: 0.021560484 | L68: 0.0055846054 | M68: 0.010739626 | N68: 0.020081374 | O68: 0.19766104 | P68: 0.10675869 | Q68: - | R68: 0.12192564 | S68: 0.62383361 | T68: 3.6773215 | U68: 4.8540643
B69: Середній тариф | C69: 0.95573687 | D69: 0.075127895 | E69: 0.95984261 | F69: 0.2058684 | G69: 0.37467929 | H69: 0.035170879 | I69: 0.02521911 | J69: 0.44814507 | K69: 0.016851782 | L69: 0.0065398221 | M69: 0.012576581 | N69: 0.074478123 | O69: 0.31818125 | P69: 0.23587018 | Q69: 0.14449435 | R69: 0.03204605 | S69: 0.15940047 | T69: 3.4744767 | U69: 4.5863093
B71: Начальник управління ЖКГ В.Г.Башкаєв
B73: Керуючий справами виконкому | O73: О.А.Огаркова

Sheet КП "ЖЕК №1"
R1: Додаток №1 до рішення виконавчого комітету Слов'янської міської ради від____18.07.2018_______№__438___
B2: Тарифи
A3: на послуги з утримання будинків і споруд та прибудинкової території будинків, які знаходяться на балансі КП "ЖЕК №1" м. Слов'янськ
A5: № п/п | B5: Будинок | C5: 1. Прибирання прибудинкової території | D5: 2. Прибирання підвалів та технічних приміщень житлового будинку | E5: 3.Технічне обслуговування ліфтів | F5: 4. Енергопостачання ліфтів | G5: 5. Поточний ремонт конструктивних елементів, інженерних систем і технічних пристроїв будинків та елементів зовнішнього благоустрою, розташованих на прибудинковій теріторії | L5: 6. Дератизація | M5: 7. Дезінсекція | N5: 8. Обслуговування димовентиляційних каналів | O5: 9. Технічне обслуговування внутнішньобудинкових систем тепло-, водопостачання, водовідведення і зливної каналізації. | R5: 10. Прибирання і вивезення снігу, посипання частини прибудинкової території призначеної для проходу та проїзду, протиожеледними сумішами | S5: 11. Освітлення місць загального користування | T5: Загальні планові витрати, без ПДВ | U5: Вартість 1 м.кв. з рентабельністю та ПДВ
G6: Поточний ремонт центрального опалення | H6: Поточний ремонт гарячого та холодного водопостачання та водовідведення | I6: Поточний ремонт електричних мереж | J6: Поточний ремонт конструктивних елементів | K6: Поточний ремонт рулонної та штферної покрівлі | O6: ТО центрального опалення | P6: ТО гарячого та холодного водопостачання та водовідведення | Q6: ТО зливової каналізації
C7: грн./м2 | D7: грн./м2 | E7: грн./м2 | F7: грн./м2 | G7: грн./м2 | H7: грн./м2 | I7: грн./м2 | J7: грн./м2 | K7: грн./м2 | L7: грн./м2 | M7: грн./м2 | N7: грн./м2 | O7: грн./м2 | P7: грн./м2 | Q7: грн./м2 | R7: грн./м2 | S7: грн./м2 | T7: грн./м2 | U7: грн/1 м.кв
A8: 1 | B8: вул. Центральна, 23 | C8: ='[1]Прибуд. терит'!J3 -> 1.3787982 | D8: ='[1]Приб. підвалів'!J3 -> 0.014719886 | E8: - | F8: - | G8: ='[1]ПР тепло'!J3 -> 0.18087089 | H8: ='[1]ПР вода'!J3 -> 0.22626227 | I8: ='[1]ПР елект'!J3 -> 0.14892133 | J8: ='[1]ПР кон.елем'!J3 -> 0.21430804 | K8: ='[1]ПР шиф.рул.'!K3 -> 0.17646286 | L8: =[1]Дератизац!G3 -> 0.020127213 | M8: =[1]Дезінсекц!G3 -> 0.038706179 | N8: =[1]Димовентканали!J3 -> 0.094044419 | O8: ='[1]ТО тепло'!J3 -> 0.39605549 | P8: ='[1]ТО вода'!J3 -> 0.3342392 | Q8: ='[1]ТО злив.кан'!J3 -> 0.38038386 | R8: =[1]сіль!J3 -> 0.039823862 | S8: ='[1]Осв. місць заг.кор.'!H3 -> 0.069705358 | T8: =SUM(C8:S8) -> 3.713429 | U8: 4.9
A9: 2 | B9: вул. Центральна , 25 | C9: ='[1]Прибуд. терит'!J4 -> 1.0765679 | D9: ='[1]Приб. підвалів'!J4 -> 0.012635272 | E9: - | F9: - | G9: ='[1]ПР тепло'!J4 -> 0.31723013 | H9: ='[1]ПР вода'!J4 -> 0.29657949 | I9: ='[1]ПР елект'!J4 -> 0.054328284 | J9: ='[1]ПР кон.елем'!J4 -> 0.49557133 | K9: ='[1]ПР шиф.рул.'!K4 -> 0.40075933 | L9: =[1]Дератизац!G4 -> 0.017110141 | M9: =[1]Дезінсекц!G4 -> 0.032904117 | N9: =[1]Димовентканали!J4 -> 0.10006655 | O9: ='[1]ТО тепло'!J4 -> 0.30101205 | P9: ='[1]ТО вода'!J4 -> 0.2584868 | Q9: ='[1]ТО злив.кан'!J4 -> 0.19697006 | R9: =[1]сіль!J4 -> 0.044776134 | S9: ='[1]Осв. місць заг.кор.'!H4 -> 0.10595562 | T9: =SUM(C9:S9) -> 3.7109532 | U9: 4.9
A10: 3 | B10: вул. Свободи, 3 | C10: ='[1]Прибуд. терит'!J5 -> 1.023181 | D10: ='[1]Приб. підвалів'!J5 -> 0.012952256 | E10: - | F10: - | G10: ='[1]ПР тепло'!J5 -> 0.38839022 | H10: ='[1]ПР вода'!J5 -> 0.23357247 | I10: ='[1]ПР елект'!J5 -> 0.11065684 | J10: ='[1]ПР кон.елем'!J5 -> 0.6424126 | K10: ='[1]ПР шиф.рул.'!K5 -> 0.40848859 | L10: =[1]Дератизац!G5 -> 0.009500006 | M10: =[1]Дезінсекц!G5 -> 0.018269242 | N10: =[1]Димовентканали!J5 -> 0.11455777 | O10: ='[1]ТО тепло'!J5 -> 0.22112049 | P10: ='[1]ТО вода'!J5 -> 0.2035724 | Q10: ='[1]ТО злив.кан'!J5 -> - | R10: =[1]сіль!J5 -> 0.021928071 | S10: ='[1]Осв. місць заг.кор.'!H5 -> 0.27062693 | T10: =SUM(C10:S10) -> 3.6792288 | U10: 4.86
A11: 4 | B11: вул. Свободи, 5 | C11: ='[1]Прибуд. терит'!J6 -> 0.7258193 | D11: ='[1]Приб. підвалів'!J6 -> 0.014394259 | E11: ='[1]то ліфтів'!I3 -> 0.9200217 | F11: ='[1]то ліфтів'!G3 -> 0.26364199 | G11: ='[1]ПР тепло'!J6 -> 0.30867085 | H11: ='[1]ПР вода'!J6 -> 0.21231542 | I11: ='[1]ПР елект'!J6 -> 0.072372551 | J11: ='[1]ПР кон.елем'!J6 -> 0.18473371 | K11: ='[1]ПР шиф.рул.'!K6 -> 0.28574957 | L11: =[1]Дератизац!G6 -> 0.0096147098 | M11: =[1]Дезінсекц!G6 -> 0.018489827 | N11: =[1]Димовентканали!J6 -> 0.062323033 | O11: ='[1]ТО тепло'!J6 -> 0.27458471 | P11: ='[1]ТО вода'!J6 -> 0.18504561 | Q11: ='[1]ТО злив.кан'!J6 -> 0.051444808 | R11: =[1]сіль!J6 -> 0.022228707 | S11: ='[1]Осв. місць заг.кор.'!H6 -> 0.098938651 | T11: =SUM(C11:S11) -> 3.7103894 | U11: 4.9
A12: 5 | B12: вул. Свободи, 5 (для мешканців 1-го поверху) | C12: =C11 -> 0.7258193 | D12: =D11 -> 0.014394259 | E12: - | F12: - | G12: =G11 -> 0.30867085 | H12: =H11 -> 0.21231542 | I12: =I11 -> 0.072372551 | J12: =J11 -> 0.18473371 | K12: =K11 -> 0.28574957 | L12: =L11 -> 0.0096147098 | M12: =M11 -> 0.018489827 | N12: =N11 -> 0.062323033 | ... S12: =S11 -> 0.098938651 | T12: =SUM(C12:S12) -> 2.5267257 | U12: 3.34
A13: 6 | B13: вул. Свободи, 8 | C13: ='[1]Прибуд. терит'!J7 -> 1.0845158 | D13: ='[1]Приб. підвалів'!J7 -> 0.012318199 | E13: - | F13: - | G13: ='[1]ПР тепло'!J7 -> 0.27133597 | H13: ='[1]ПР вода'!J7 -> 0.20054431 | I13: ='[1]ПР елект'!J7 -> 0.29256831 | J13: ='[1]ПР кон.елем'!J7 -> 0.28838309 | K13: ='[1]ПР шиф.рул.'!K7 -> 0.17958918 | L13: =[1]Дератизац!G7 -> 0.031803018 | M13: =[1]Дезінсекц!G7 -> 0.061159651 | N13: =[1]Димовентканали!J7 -> 0.13449821 | O13: ='[1]ТО тепло'!J7 -> 0.4065224 | P13: ='[1]ТО вода'!J7 -> 0.43696595 | Q13: ='[1]ТО злив.кан'!J7 -> 0.099110831 | R13: =[1]сіль!J7 -> 0.03468648 | S13: ='[1]Осв. місць заг.кор.'!H7 -> 0.17708012 | T13: =SUM(C13:S13) -> 3.7110815 | U13: 4.9
A14: 7 | B14: вул. Свободи, 14 | C14: ='[1]Прибуд. терит'!J8 -> 1.6059808 | D14: ='[1]Приб. підвалів'!J8 -> 0.014549037 | E14: - | F14: - | G14: ='[1]ПР тепло'!J8 -> 0.22448597 | H14: ='[1]ПР вода'!J8 -> 0.16516796 | I14: ='[1]ПР елект'!J8 -> 0.094241654 | J14: ='[1]ПР кон.елем'!J8 -> 0.40822593 | K14: ='[1]ПР шиф.рул.'!K8 -> 0.26962806 | L14: =[1]Дератизац!G8 -> 0.012306511 | M14: =[1]Дезінсекц!G8 -> 0.023666368 | N14: =[1]Димовентканали!J8 -> 0.077527795 | O14: ='[1]ТО тепло'!J8 -> 0.20951739 | P14: ='[1]ТО вода'!J8 -> 0.19193836 | Q14: ='[1]ТО злив.кан'!J8 -> 0.12770171 | R14: =[1]сіль!J8 -> 0.012828438 | S14: ='[1]Осв. місць заг.кор.'!H8 -> 0.27812523 | T14: =SUM(C14:S14) -> 3.7158912 | U14: 4.9
A15: 8 | B15: вул. Свободи, 37 | C15: ='[1]Прибуд. терит'!J9 -> 1.1734305 | D15: ='[1]Приб. підвалів'!J9 -> 0.00699824 | E15: ='[1]то ліфтів'!I4 -> 0.99324204 | F15: ='[1]то ліфтів'!G4 -> 0.086032053 | G15: ='[1]ПР тепло'!J9 -> 0.23497531 | H15: ='[1]ПР вода'!J9 -> 0.18894575 | I15: ='[1]ПР елект'!J9 -> 0.06596726 | J15: ='[1]ПР кон.елем'!J9 -> 0.18502877 | K15: ='[1]ПР шиф.рул.'!K9 -> 0.099291067 | L15: =[1]Дератизац!G9 -> 0.0047718298 | M15: =[1]Дезінсекц!G9 -> 0.0091765957 | N15: =[1]Димовентканали!J9 -> 0.064136683 | O15: ='[1]ТО тепло'!J9 -> 0.19111065 | P15: ='[1]ТО вода'!J9 -> 0.16467754 | Q15: ='[1]ТО злив.кан'!J9 -> 0.10165766 | R15: =[1]сіль!J9 -> 0.006490876 | S15: ='[1]Осв. місць заг.кор.'!H9 -> 0.13615735 | T15: =SUM(C15:S15) -> 3.7120901 | U15: 4.9
A16: 9 | B16: вул. Свободи, 37 (для мешканців 1-го поверху) | C16: =C15 -> 1.1734305 | D16: =D15 -> 0.00699824 | E16: - | F16: - | G16: =G15 -> 0.23497531 | H16: =H15 -> 0.18894575 | I16: =I15 -> 0.06596726 | J16: =J15 -> 0.18502877 | K16: =K15 -> 0.099291067 | L16: =L15 -> 0.0047718298 | M16: =M15 -> 0.0091765957 | N16: =N15 -> 0.064136683 | ... S16: =S15 -> 0.13615735 | T16: =SUM(C16:S16) -> 2.6328161 | U16: 3.48
A17: 10 | B17: вул. Свободи, 39 | C17: ='[1]Прибуд. терит'!J10 -> 0.678604 | D17: ='[1]Приб. підвалів'!J10 -> 0.007655537 | E17: ='[1]то ліфтів'!I5 -> 1.0206569 | F17: ='[1]то ліфтів'!G5 -> 0.29568689 | G17: ='[1]ПР тепло'!J10 -> 0.29550058 | H17: ='[1]ПР вода'!J10 -> 0.19173394 | I17: ='[1]ПР елект'!J10 -> 0.066597425 | J17: ='[1]ПР кон.елем'!J10 -> 0.22534428 | K17: ='[1]ПР шиф.рул.'!K10 -> 0.23727645 | L17: =[1]Дератизац!G10 -> 0.0053605607 | M17: =[1]Дезінсекц!G10 -> 0.01030877 | N17: =[1]Димовентканали!J10 -> 0.064138518 | O17: ='[1]ТО тепло'!J10 -> 0.19337477 | P17: ='[1]ТО вода'!J10 -> 0.16710762 | Q17: ='[1]ТО злив.кан'!J10 -> 0.10171243 | R17: =[1]сіль!J10 -> 0.015039602 | S17: ='[1]Осв. місць заг.кор.'!H10 -> 0.13745802 | T17: =SUM(C17:S17) -> 3.7135563 | U17: 4.9
A18: 11 | B18: вул. Свободи, 39 (для мешканців 1-го поверху) | C18: =C17 -> 0.678604 | D18: =D17 -> 0.007655537 | E18: - | F18: - | G18: =G17 -> 0.29550058 | H18: =H17 -> 0.19173394 | I18: =I17 -> 0.066597425 | J18: =J17 -> 0.22534428 | K18: =K17 -> 0.23727645 | L18: =L17 -> 0.0053605607 | M18: =M17 -> 0.01030877 | N18: =N17 -> 0.064138518 | ... S18: =S17 -> 0.13745802 | T18: =SUM(C18:S18) -> 2.3972125 | U18: 3.16
A19: 12 | B19: вул. Лозановича, 10 | C19: ='[1]Прибуд. терит'!J11 -> 0.62988072 | D19: ='[1]Приб. підвалів'!J11 -> 0.013086777 | E19: - | F19: - | G19: ='[1]ПР тепло'!J11 -> 0.32736643 | H19: ='[1]ПР вода'!J11 -> 0.1959022 | I19: ='[1]ПР елект'!J11 -> 0.14049341 | J19: ='[1]ПР кон.елем'!J11 -> 1.1191654 | K19: ='[1]ПР шиф.рул.'!K11 -> 0.61029962 | L19: =[1]Дератизац!G11 -> 0.0095986724 | M19: =[1]Дезінсекц!G11 -> 0.018458985 | N19: =[1]Димовентканали!J11 -> 0.11561872 | O19: ='[1]ТО тепло'!J11 -> 0.18637809 | P19: ='[1]ТО вода'!J11 -> 0.1707405 | Q19: ='[1]ТО злив.кан'!J11 -> - | R19: =[1]сіль!J11 -> 0.012066084 | S19: ='[1]Осв. місць заг.кор.'!H11 -> 0.15837385 | T19: =SUM(C19:S19) -> 3.7074294 | U19: 4.89
A20: 13 | B20: вул. Лозановича, 14 | C20: ='[1]Прибуд. терит'!J12 -> 1.3986832 | D20: ='[1]Приб. підвалів'!J12 -> 0.013758933 | E20: - | F20: - | G20: ='[1]ПР тепло'!J12 -> 0.33955766 | H20: ='[1]ПР вода'!J12 -> 0.20319766 | I20: ='[1]ПР елект'!J12 -> 0.086955501 | J20: ='[1]ПР кон.елем'!J12 -> 0.42847845 | K20: ='[1]ПР шиф.рул.'!K12 -> 0.46695758 | L20: =[1]Дератизац!G12 -> 0.010091675 | M20: =[1]Дезінсекц!G12 -> 0.019407066 | N20: =[1]Димовентканали!J12 -> 0.11676849 | O20: ='[1]ТО тепло'!J12 -> 0.19331887 | P20: ='[1]ТО вода'!J12 -> 0.17709893 | Q20: ='[1]ТО злив.кан'!J12 -> - | R20: =[1]сіль!J12 -> 0.02528541 | S20: ='[1]Осв. місць заг.кор.'!H12 -> 0.22373767 | T20: =SUM(C20:S20) -> 3.7032971 | U20: 4.89
A21: 14 | B21: вул. Лозановича, 16 | C21: ='[1]Прибуд. терит'!J13 -> 1.6506809 | D21: ='[1]Приб. підвалів'!J13 -> 0.013601123 | E21: - | F21: - | G21: ='[1]ПР тепло'!J13 -> 0.34340844 | H21: ='[1]ПР вода'!J13 -> 0.20550204 | I21: ='[1]ПР елект'!J13 -> 0.087941627 | J21: ='[1]ПР кон.елем'!J13 -> 0.26000259 | K21: ='[1]ПР шиф.рул.'!K13 -> 0.27810463 | L21: =[1]Дератизац!G13 -> 0.0099759261 | M21: =[1]Дезінсекц!G13 -> 0.019184473 | N21: =[1]Димовентканали!J13 -> 0.11490102 | O21: ='[1]ТО тепло'!J13 -> 0.19551122 | P21: ='[1]ТО вода'!J13 -> 0.17910734 | Q21: ='[1]ТО злив.кан'!J13 -> 0.078733945 | R21: =[1]сіль!J13 -> 0.025014379 | S21: ='[1]Осв. місць заг.кор.'!H13 -> 0.25031574 | T21: =SUM(C21:S21) -> 3.7119854 | U21: 4.9
A22: 15 | B22: вул. Лозановича, 18 | C22: ='[1]Прибуд. терит'!J14 -> 1.3224731 | D22: ='[1]Приб. підвалів'!J14 -> 0.012477964 | E22: - | F22: - | G22: ='[1]ПР тепло'!J14 -> 0.32772152 | H22: ='[1]ПР вода'!J14 -> 0.20019163 | I22: ='[1]ПР елект'!J14 -> 0.096788508 | J22: ='[1]ПР кон.елем'!J14 -> 0.57332353 | K22: ='[1]ПР шиф.рул.'!K14 -> 0.46802273 | L22: =[1]Дератизац!G14 -> 0.0091521305 | M22: =[1]Дезінсекц!G14 -> 0.017600251 | N22: =[1]Димовентканали!J14 -> 0.12576612 | O22: ='[1]ТО тепло'!J14 -> 0.18658025 | P22: ='[1]ТО вода'!J14 -> 0.174479 | Q22: ='[1]ТО злив.кан'!J14 -> 0 | R22: =[1]сіль!J14 -> 0.010059593 | S22: ='[1]Осв. місць заг.кор.'!H14 -> 0.19041966 | T22: =SUM(C22:S22) -> 3.715056 | U22: 4.9
A23: 16 | B23: вул. Лозановича, 20 | C23: ='[1]Прибуд. терит'!J15 -> 1.3434508 | D23: ='[1]Приб. підвалів'!J15 -> 0.012807381 | E23: - | F23: - | G23: ='[1]ПР тепло'!J15 -> 0.33463432 | H23: ='[1]ПР вода'!J15 -> 0.20441437 | I23: ='[1]ПР елект'!J15 -> 0.098830116 | J23: ='[1]ПР кон.елем'!J15 -> 0.53214002 | K23: ='[1]ПР шиф.рул.'!K15 -> 0.47730731 | L23: =[1]Дератизац!G15 -> 0.0093937453 | M23: =[1]Дезінсекц!G15 -> 0.018064895 | N23: =[1]Димовентканали!J15 -> 0.12627865 | O23: ='[1]ТО тепло'!J15 -> 0.19051588 | P23: ='[1]ТО вода'!J15 -> 0.17815937 | Q23: ='[1]ТО злив.кан'!J15 -> 0 | R23: =[1]сіль!J15 -> 0.01032933 | S23: ='[1]Осв. місць заг.кор.'!H15 -> 0.17331869 | T23: =SUM(C23:S23) -> 3.7096449 | U23: 4.9
A24: 17 | B24: вул. Ярослава Мудрого , 5 | C24: ='[1]Прибуд. терит'!J16 -> 1.1730963 | D24: ='[1]Приб. підвалів'!J16 -> 0.014183637 | E24: - | F24: - | G24: ='[1]ПР тепло'!J16 -> 0.42848935 | H24: ='[1]ПР вода'!J16 -> 0.22908628 | I24: ='[1]ПР елект'!J16 -> 0.38099019 | J24: ='[1]ПР кон.елем'!J16 -> 0.31688904 | K24: ='[1]ПР шиф.рул.'!K16 -> 0.335754 | L24: =[1]Дератизац!G16 -> 0.011576752 | M24: =[1]Дезінсекц!G16 -> 0.022262984 | N24: =[1]Димовентканали!J16 -> 0.11539417 | O24: ='[1]ТО тепло'!J16 -> 0.25678943 | P24: ='[1]ТО вода'!J16 -> 0.19966242 | Q24: ='[1]ТО злив.кан'!J16 -> 0.053854353 | R24: =[1]сіль!J16 -> 0.012371272 | S24: ='[1]Осв. місць заг.кор.'!H16 -> 0.1603682 | T24: =SUM(C24:S24) -> 3.7107683 | U24: 4.9
A25: 18 | B25: вул. Ярослава Мудрого, 9 | C25: ='[1]Прибуд. терит'!J17 -> 0.97279899 | D25: ='[1]Приб. підвалів'!J17 -> 0.013040931 | E25: - | F25: - | G25: ='[1]ПР тепло'!J17 -> 0.28618637 | H25: ='[1]ПР вода'!J17 -> 0.20114947 | I25: ='[1]ПР елект'!J17 -> 0.02680504 | J25: ='[1]ПР кон.елем'!J17 -> 0.97140605 | K25: ='[1]ПР шиф.рул.'!K17 -> 0.50153124 | L25: =[1]Дератизац!G17 -> 0.0095650463 | M25: =[1]Дезінсекц!G17 -> 0.01839432 | N25: =[1]Димовентканали!J17 -> 0.095635541 | O25: ='[1]ТО тепло'!J17 -> 0.16293322 | P25: ='[1]ТО вода'!J17 -> 0.17531382 | Q25: ='[1]ТО злив.кан'!J17 -> 0.056747698 | R25: =[1]сіль!J17 -> 0.022768671 | S25: ='[1]Осв. місць заг.кор.'!H17 -> 0.18602629 | T25: =SUM(C25:S25) -> 3.7003027 | U25: 4.88
A26: 19 | B26: вул. Ярослава Мудрого,10 | C26: ='[1]Прибуд. терит'!J18 -> 0.32485705 | D26: ='[1]Приб. підвалів'!J18 -> 0.014563359 | E26: - | F26: - | G26: ='[1]ПР тепло'!J18 -> 0.53025431 | H26: ='[1]ПР вода'!J18 -> 0.39235388 | I26: ='[1]ПР елект'!J18 -> 0.24451049 | J26: ='[1]ПР кон.елем'!J18 -> 0.66749918 | K26: ='[1]ПР шиф.рул.'!K18 -> 0.48932236 | L26: =[1]Дератизац!G18 -> 0.011794368 | M26: =[1]Дезінсекц!G18 -> 0.022681476 | N26: =[1]Димовентканали!J18 -> 0.1883041 | O26: ='[1]ТО тепло'!J18 -> 0.30188735 | P26: ='[1]ТО вода'!J18 -> 0.34195992 | Q26: ='[1]ТО злив.кан'!J18 -> - | R26: =[1]сіль!J18 -> 0.032855371 | S26: ='[1]Осв. місць заг.кор.'!H18 -> 0.087231417 | T26: =SUM(C26:S26) -> 3.6500746 | U26: 4.82
A27: 20 | B27: вул. Шевченко, 24 | D27: ='[1]Приб. підвалів'!J19 -> 0.012975747 | E27: - | F27: - | G27: ='[1]ПР тепло'!J19 -> - | H27: ='[1]ПР вода'!J19 -> 0.3168741 | I27: ='[1]ПР елект'!J19 -> 0.1275251 | J27: 1.32 | K27: 0.96 | L27: =[1]Дератизац!G19 -> 0.020573544 | M27: =[1]Дезінсекц!G19 -> 0.039564508 | N27: =[1]Димовентканали!J19 -> 0.067110513 | O27: ='[1]ТО тепло'!J19 -> - | P27: 0.35 | Q27: ='[1]ТО злив.кан'!J19 -> - | R27: =[1]сіль!J19 -> 0.046010879 | S27: ='[1]Осв. місць заг.кор.'!H19 -> 0.22351623 | T27: =SUM(C27:S27) -> 3.4841506 | U27: 4.6
A28: 21 | B28: вул. Банківська, 56 | C28: ='[1]Прибуд. терит'!J20 -> 1.3658954 | D28: ='[1]Приб. підвалів'!J20 -> 0.010344757 | E28: - | F28: - | G28: ='[1]ПР тепло'!J20 -> 0.2766483 | H28: ='[1]ПР вода'!J20 -> 0.26978766 | I28: ='[1]ПР елект'!J20 -> 0.16648212 | J28: ='[1]ПР кон.елем'!J20 -> 0.14843224 | K28: ='[1]ПР шиф.рул.'!K20 -> 0.19355546 | L28: =[1]Дератизац!G20 -> - | M28: =[1]Дезінсекц!G20 -> - | N28: =[1]Димовентканали!J20 -> 0.1168157 | O28: ='[1]ТО тепло'!J20 -> 0.33863137 | P28: ='[1]ТО вода'!J20 -> 0.35626684 | Q28: ='[1]ТО злив.кан'!J20 -> - | R28: =[1]сіль!J20 -> 0.046906164 | S28: ='[1]Осв. місць заг.кор.'!H20 -> 0.42350549 | T28: =SUM(C28:S28) -> 3.7132715 | U28: 4.9
A29: 22 | B29: вул. Банківська , 60 | C29: ='[1]Прибуд. терит'!J21 -> 2.1148914 | D29: ='[1]Приб. підвалів'!J21 -> 0.013458832 | E29: - | F29: - | G29: ='[1]ПР тепло'!J21 -> 0.15915274 | H29: ='[1]ПР вода'!J21 -> 0.23305782 | I29: ='[1]ПР елект'!J21 -> 0.13061944 | J29: ='[1]ПР кон.елем'!J21 -> 0.096240254 | K29: ='[1]ПР шиф.рул.'!K21 -> 0.13984403 | L29: =[1]Дератизац!G21 -> 0.019108522 | M29: =[1]Дезінсекц!G21 -> 0.036747158 | N29: =[1]Димовентканали!J21 -> 0.12529625 | O29: ='[1]ТО тепло'!J21 -> 0.18121945 | P29: ='[1]ТО вода'!J21 -> 0.15234289 | Q29: ='[1]ТО злив.кан'!J21 -> - | R29: =[1]сіль!J21 -> 0.061619923 | S29: ='[1]Осв. місць заг.кор.'!H21 -> 0.24197224 | T29: =SUM(C29:S29) -> 3.7055709 | U29: 4.89
A30: 23 | B30: вул. Банківська , 64 | C30: ='[1]Прибуд. терит'!J22 -> 1.4478339 | D30: ='[1]Приб. підвалів'!J22 -> 0.012265207 | E30: - | F30: - | G30: ='[1]ПР тепло'!J22 -> 0.19645232 | H30: ='[1]ПР вода'!J22 -> 0.31767525 | I30: ='[1]ПР елект'!J22 -> 0.21464926 | J30: ='[1]ПР кон.елем'!J22 -> 0.46139723 | K30: ='[1]ПР шиф.рул.'!K22 -> 0.26817739 | L30: =[1]Дератизац!G22 -> 0.0018939118 | M30: =[1]Дезінсекц!G22 -> 0.0036421381 | N30: =[1]Димовентканали!J22 -> 0.1246454 | O30: ='[1]ТО тепло'!J22 -> 0.11184533 | P30: ='[1]ТО вода'!J22 -> 0.27687302 | Q30: ='[1]ТО злив.кан'!J22 -> - | R30: =[1]сіль!J22 -> 0.047336322 | S30: ='[1]Осв. місць заг.кор.'!H22 -> 0.21296931 | T30: =SUM(C30:S30) -> 3.697656 | U30: 4.88
A31: 24 | B31: вул. Банківська , 80 | C31: ='[1]Прибуд. терит'!J23 -> 1.4314646 | D31: ='[1]Приб. підвалів'!J23 -> 0.014892237 | E31: - | F31: - | G31: ='[1]ПР тепло'!J23 -> 0.28891892 | H31: ='[1]ПР вода'!J23 -> 0.22729733 | I31: ='[1]ПР елект'!J23 -> 0.16465532 | J31: ='[1]ПР кон.елем'!J23 -> 0.26217045 | K31: ='[1]ПР шиф.рул.'!K23 -> 0.24761917 | L31: =[1]Дератизац!G23 -> 0.013503449 | M31: =[1]Дезінсекц!G23 -> 0.025968171 | N31: =[1]Димовентканали!J23 -> 0.081836504 | O31: ='[1]ТО тепло'!J23 -> 0.2349842 | P31: ='[1]ТО вода'!J23 -> 0.19810324 | Q31: ='[1]ТО злив.кан'!J23 -> 0.2070126 | R31: =[1]сіль!J23 -> 0.055524573 | S31: ='[1]Осв. місць заг.кор.'!H23 -> 0.21396733 | T31: =SUM(C31:S31) -> 3.6679181 | U31: 4.84
A32: 25 | B32: вул. Торська, 23 | C32: ='[1]Прибуд. терит'!J24 -> 1.339239 | D32: ='[1]Приб. підвалів'!J24 -> 0.011887465 | E32: - | F32: - | G32: ='[1]ПР тепло'!J24 -> 0.26456938 | H32: ='[1]ПР вода'!J24 -> 0.22220809 | I32: ='[1]ПР елект'!J24 -> 0.11410889 | J32: ='[1]ПР кон.елем'!J24 -> 0.5023883 | K32: ='[1]ПР шиф.рул.'!K24 -> 0.48667097 | L32: =[1]Дератизац!G24 -> 0.0008390128 | M32: =[1]Дезінсекц!G24 -> 0.0016134862 | N32: =[1]Димовентканали!J24 -> 0.11595898 | O32: ='[1]ТО тепло'!J24 -> 0.15062612 | P32: ='[1]ТО вода'!J24 -> 0.19366767 | Q32: ='[1]ТО злив.кан'!J24 -> 0.099400321 | R32: =[1]сіль!J24 -> 0.028337657 | S32: ='[1]Осв. місць заг.кор.'!H24 -> 0.18407537 | T32: =SUM(C32:S32) -> 3.7155907 | U32: 4.9
A33: 26 | B33: вул. Труда, 1а | C33: ='[1]Прибуд. терит'!J25 -> 0.93154414 | D33: ='[1]Приб. підвалів'!J25 -> 0.012571658 | E33: - | F33: - | G33: ='[1]ПР тепло'!J25 -> 0.30994263 | H33: ='[1]ПР вода'!J25 -> 0.18547547 | I33: ='[1]ПР елект'!J25 -> 0.079371546 | J33: ='[1]ПР кон.елем'!J25 -> 1.0535508 | K33: ='[1]ПР шиф.рул.'!K25 -> 0.4666476 | L33: =[1]Дератизац!G25 -> 0.011573919 | M33: =[1]Дезінсекц!G25 -> 0.022257537 | N33: =[1]Димовентканали!J25 -> 0.11522632 | O33: ='[1]ТО тепло'!J25 -> 0.17645827 | P33: ='[1]ТО вода'!J25 -> 0.16165298 | Q33: ='[1]ТО злив.кан'!J25 -> 0 | R33: =[1]сіль!J25 -> 0.019711029 | S33: ='[1]Осв. місць заг.кор.'!H25 -> 0.16013495 | T33: =SUM(C33:S33) -> 3.7061189 | U33: 4.89
A34: 27 | B34: вул. Корольова, 13 | C34: ='[1]Прибуд. терит'!J26 -> 1.6313437 | D34: ='[1]Приб. підвалів'!J26 -> 0.01233301 | E34: - | F34: - | G34: ='[1]ПР тепло'!J26 -> 0.18317189 | H34: ='[1]ПР вода'!J26 -> 0.24874381 | I34: ='[1]ПР елект'!J26 -> 0.20044317 | J34: ='[1]ПР кон.елем'!J26 -> 0.15178365 | K34: ='[1]ПР шиф.рул.'!K26 -> 0.14703507 | L34: =[1]Дератизац!G26 -> 0.02035524 | M34: =[1]Дезінсекц!G26 -> 0.039144693 | N34: =[1]Димовентканали!J26 -> 0.10147817 | O34: ='[1]ТО тепло'!J26 -> 0.26071112 | P34: ='[1]ТО вода'!J26 -> 0.30970733 | Q34: ='[1]ТО злив.кан'!J26 -> 0.071217702 | R34: =[1]сіль!J26 -> 0.056577669 | S34: ='[1]Осв. місць заг.кор.'!H26 -> 0.26695494 | T34: =SUM(C34:S34) -> 3.7010012 | U34: 4.89
A35: 28 | B35: вул. Корольова,15 | C35: ='[1]Прибуд. терит'!J27 -> 1.3760838 | D35: ='[1]Приб. підвалів'!J27 -> 0.014699549 | E35: - | F35: - | G35: ='[1]ПР тепло'!J27 -> 0.32447222 | H35: ='[1]ПР вода'!J27 -> 0.30458078 | I35: ='[1]ПР елект'!J27 -> 0.28315446 | J35: ='[1]ПР кон.елем'!J27 -> 0.30837911 | K35: ='[1]ПР шиф.рул.'!K27 -> 0.23898512 | L35: =[1]Дератизац!G27 -> 0.013938429 | M35: =[1]Дезінсекц!G27 -> 0.026804671 | N35: =[1]Димовентканали!J27 -> 0.099340657 | O35: ='[1]ТО тепло'!J27 -> 0.23091292 | P35: ='[1]ТО вода'!J27 -> 0.2654604 | Q35: ='[1]ТО злив.кан'!J27 -> 0 | R35: =[1]сіль!J27 -> 0.054944126 | S35: ='[1]Осв. місць заг.кор.'!H27 -> 0.16444009 | T35: =SUM(C35:S35) -> 3.7061963 | U35: 4.89
A36: 29 | B36: вул. Корольова,17 | C36: ='[1]Прибуд. терит'!J28 -> 1.6875544 | D36: ='[1]Приб. підвалів'!J28 -> 0.012780832 | E36: - | F36: - | G36: ='[1]ПР тепло'!J28 -> 0.23525268 | H36: ='[1]ПР вода'!J28 -> 0.30032982 | I36: ='[1]ПР елект'!J28 -> 0.24818004 | J36: ='[1]ПР кон.елем'!J28 -> 0.25571692 | K36: ='[1]ПР шиф.рул.'!K28 -> 0.18578757 | L36: =[1]Дератизац!G28 -> - | M36: =[1]Дезінсекц!G28 -> - | N36: =[1]Димовентканали!J28 -> 0.087070388 | O36: ='[1]ТО тепло'!J28 -> 0.13393537 | P36: ='[1]ТО вода'!J28 -> 0.26175544 | Q36: ='[1]ТО злив.кан'!J28 -> 0.037318474 | R36: =[1]сіль!J28 -> 0.041385427 | S36: ='[1]Осв. місць заг.кор.'!H28 -> 0.21641789 | T36: =SUM(C36:S36) -> 3.7034852 | U36: 4.89
A37: 30 | B37: вул. Корольова, 26 | C37: ='[1]Прибуд. терит'!J29 -> 1.0908071 | D37: ='[1]Приб. підвалів'!J29 -> 0.013055661 | E37: - | F37: - | G37: ='[1]ПР тепло'!J29 -> 0.39009089 | H37: ='[1]ПР вода'!J29 -> 0.20519461 | I37: ='[1]ПР елект'!J29 -> 0.10002387 | J37: ='[1]ПР кон.елем'!J29 -> 0.53695881 | K37: ='[1]ПР шиф.рул.'!K29 -> 0.48764993 | L37: =[1]Дератизац!G29 -> 0.011567627 | M37: =[1]Дезінсекц!G29 -> 0.022245436 | N37: =[1]Димовентканали!J29 -> 0.12676065 | O37: ='[1]ТО тепло'!J29 -> 0.22208873 | P37: ='[1]ТО вода'!J29 -> 0.1788394 | Q37: ='[1]ТО злив.кан'!J29 -> 0.14753959 | R37: =[1]сіль!J29 -> 0.019697749 | S37: ='[1]Осв. місць заг.кор.'!H29 -> 0.15790064 | T37: =SUM(C37:S37) -> 3.7104207 | U37: 4.9
A38: 31 | B38: вул. Корольова, 27 | C38: ='[1]Прибуд. терит'!J30 -> 0.65807513 | D38: ='[1]Приб. підвалів'!J30 -> 0.013930682 | E38: - | F38: - | G38: ='[1]ПР тепло'!J30 -> 0.33277908 | H38: ='[1]ПР вода'!J30 -> 0.27489299 | I38: ='[1]ПР елект'!J30 -> 0.094825646 | J38: 0.8 | K38: ='[1]ПР шиф.рул.'!K30 -> 0.56444198 | L38: =[1]Дератизац!G30 -> 0.011566968 | M38: =[1]Дезінсекц!G30 -> 0.02224417 | N38: =[1]Димовентканали!J30 -> 0.13307284 | O38: ='[1]ТО тепло'!J30 -> 0.18945965 | P38: ='[1]ТО вода'!J30 -> 0.23958571 | Q38: ='[1]ТО злив.кан'!J30 -> - | R38: =[1]сіль!J30 -> 0.0091010948 | S38: ='[1]Осв. місць заг.кор.'!H30 -> 0.1563158 | T38: =SUM(C38:S38) -> 3.5002917 | U38: 4.62
A39: 32 | B39: вул. Корольова, 29 | C39: ='[1]Прибуд. терит'!J31 -> 0.4163112 | D39: ='[1]Приб. підвалів'!J31 -> 0.013882747 | E39: - | F39: - | G39: ='[1]ПР тепло'!J31 -> 0.39573131 | H39: ='[1]ПР вода'!J31 -> 0.27394708 | I39: ='[1]ПР елект'!J31 -> 0.09449935 | J39: ='[1]ПР кон.елем'!J31 -> 0.7764574 | K39: ='[1]ПР шиф.рул.'!K31 -> 0.56249974 | L39: =[1]Дератизац!G31 -> 0.011527166 | M39: =[1]Дезінсекц!G31 -> 0.022167628 | N39: =[1]Димовентканали!J31 -> 0.13261493 | O39: ='[1]ТО тепло'!J31 -> 0.22529996 | P39: ='[1]ТО вода'!J31 -> 0.23876129 | Q39: ='[1]ТО злив.кан'!J31 -> - | R39: =[1]сіль!J31 -> 0.0084012438 | S39: ='[1]Осв. місць заг.кор.'!H31 -> 0.158331 | T39: =SUM(C39:S39) -> 3.330432 | U39: 4.4
A40: 33 | B40: вул. Корольова, 30 | C40: ='[1]Прибуд. терит'!J32 -> 1.1270147 | D40: ='[1]Приб. підвалів'!J32 -> 0.013507161 | E40: - | F40: - | G40: ='[1]ПР тепло'!J32 -> 0.4958283 | H40: ='[1]ПР вода'!J32 -> 0.39449555 | I40: ='[1]ПР елект'!J32 -> 0.24584516 | J40: ='[1]ПР кон.елем'!J32 -> 0.10973115 | K40: ='[1]ПР шиф.рул.'!K32 -> 0.46896257 | L40: =[1]Дератизац!G32 -> 0.0096634407 | M40: =[1]Дезінсекц!G32 -> 0.01858354 | N40: =[1]Димовентканали!J32 -> 0.12622131 | O40: ='[1]ТО тепло'!J32 -> 0.30353521 | P40: ='[1]ТО вода'!J32 -> 0.34382651 | Q40: ='[1]ТО злив.кан'!J32 -> - | R40: =[1]сіль!J32 -> 0.0072962704 | S40: ='[1]Осв. місць заг.кор.'!H32 -> 0.044727064 | T40: =SUM(C40:S40) -> 3.709238 | U40: 4.9
A41: 34 | B41: вул. Корольова, 31 | C41: ='[1]Прибуд. терит'!J33 -> 1.1862302 | D41: ='[1]Приб. підвалів'!J33 -> 0.01324517 | E41: - | F41: - | G41: ='[1]ПР тепло'!J33 -> 0.32175843 | H41: ='[1]ПР вода'!J33 -> 0.40625146 | I41: ='[1]ПР елект'!J33 -> 0.14987021 | J41: ='[1]ПР кон.елем'!J33 -> 0.20360999 | K41: ='[1]ПР шиф.рул.'!K33 -> 0.29500798 | L41: =[1]Дератизац!G33 -> 0.026775483 | M41: =[1]Дезінсекц!G33 -> 0.051491314 | N41: =[1]Димовентканали!J33 -> 0.08412768 | O41: ='[1]ТО тепло'!J33 -> 0.35227944 | P41: ='[1]ТО вода'!J33 -> 0.35407249 | Q41: ='[1]ТО злив.кан'!J33 -> - | R41: =[1]сіль!J33 -> 0.027283874 | S41: ='[1]Осв. місць заг.кор.'!H33 -> 0.21662327 | T41: =SUM(C41:S41) -> 3.688627 | U41: 4.87
A42: 35 | B42: вул. Корольова, 33 | C42: ='[1]Прибуд. терит'!J34 -> 2.0666852 | D42: ='[1]Приб. підвалів'!J34 -> 0.014914014 | E42: - | F42: - | G42: ='[1]ПР тепло'!J34 -> 0.28569852 | H42: ='[1]ПР вода'!J34 -> 0.22363621 | I42: ='[1]ПР елект'!J34 -> 0.067501329 | J42: ='[1]ПР кон.елем'!J34 -> 0.15851548 | K42: ='[1]ПР шиф.рул.'!K34 -> 0.1626837 | L42: =[1]Дератизац!G34 -> 0.017099203 | M42: =[1]Дезінсекц!G34 -> 0.032883082 | N42: =[1]Димовентканали!J34 -> 0.11367296 | O42: ='[1]ТО тепло'!J34 -> 0.20853267 | P42: ='[1]ТО вода'!J34 -> 0.1656755 | Q42: ='[1]ТО злив.кан'!J34 -> - | R42: =[1]сіль!J34 -> 0.022412402 | S42: ='[1]Осв. місць заг.кор.'!H34 -> 0.16458701 | T42: =SUM(C42:S42) -> 3.7044973 | U42: 4.89
A43: 36 | B43: пер. Макаренко, 6 | C43: ='[1]Прибуд. терит'!J35 -> 1.9811546 | D43: ='[1]Приб. підвалів'!J35 -> 0.011314878 | E43: - | F43: - | G43: ='[1]ПР тепло'!J35 -> 0.11860553 | H43: ='[1]ПР вода'!J35 -> 0.26049888 | I43: ='[1]ПР елект'!J35 -> 0.10811321 | J43: ='[1]ПР кон.елем'!J35 -> 0.17959037 | K43: ='[1]ПР шиф.рул.'!K35 -> 0.1951547 | L43: =[1]Дератизац!G35 -> - | M43: =[1]Дезінсекц!G35 -> - | N43: =[1]Димовентканали!J35 -> 0.12137587 | O43: ='[1]ТО тепло'!J35 -> 0.22508388 | P43: ='[1]ТО вода'!J35 -> 0.22704038 | Q43: ='[1]ТО злив.кан'!J35 -> - | R43: =[1]сіль!J35 -> 0.024882957 | S43: ='[1]Осв. місць заг.кор.'!H35 -> 0.25265674 | T43: =SUM(C43:S43) -> 3.705472 | U43: 4.89
A44: 37 | B44: пер. Макаренко, 8 | C44: ='[1]Прибуд. терит'!J36 -> 2.323572 | D44: ='[1]Приб. підвалів'!J36 -> 0.013983533 | E44: - | F44: - | G44: ='[1]ПР тепло'!J36 -> - | H44: ='[1]ПР вода'!J36 -> 0.16298135 | I44: ='[1]ПР елект'!J36 -> 0.18037633 | J44: ='[1]ПР кон.елем'!J36 -> 0.17649307 | K44: ='[1]ПР шиф.рул.'!K36 -> 0.31964827 | L44: =[1]Дератизац!G36 -> 0.0057435897 | M44: =[1]Дезінсекц!G36 -> 0.011045365 | N44: =[1]Димовентканали!J36 -> 0.10125189 | O44: ='[1]ТО тепло'!J36 -> - | P44: ='[1]ТО вода'!J36 -> 0.14204802 | Q44: ='[1]ТО злив.кан'!J36 -> - | R44: =[1]сіль!J36 -> 0.044917636 | S44: ='[1]Осв. місць заг.кор.'!H36 -> 0.21107112 | T44: =SUM(C44:S44) -> 3.6931322 | U44: 4.87
A45: 38 | B45: вул. Університетська , 5 | C45: ='[1]Прибуд. терит'!J37 -> 0.90413393 | D45: ='[1]Приб. підвалів'!J37 -> 0.010306704 | E45: - | F45: - | G45: ='[1]ПР тепло'!J37 -> 0.22051421 | H45: ='[1]ПР вода'!J37 -> 0.18359628 | I45: ='[1]ПР елект'!J37 -> 0.11920568 | J45: ='[1]ПР кон.елем'!J37 -> 0.91617482 | K45: ='[1]ПР шиф.рул.'!K37 -> 0.7374635 | L45: =[1]Дератизац!G37 -> - | M45: =[1]Дезінсекц!G37 -> - | N45: =[1]Димовентканали!J37 -> 0.102653 | O45: ='[1]ТО тепло'!J37 -> 0.12554438 | P45: ='[1]ТО вода'!J37 -> 0.16001516 | Q45: ='[1]ТО злив.кан'!J37 -> - | R45: =[1]сіль!J37 -> 0.029822807 | S45: ='[1]Осв. місць заг.кор.'!H37 -> 0.19014639 | T45: =SUM(C45:S45) -> 3.6995769 | U45: 4.88
A46: 39 | B46: вул. Університетська , 7 | C46: ='[1]Прибуд. терит'!J38 -> 1.196678 | D46: ='[1]Приб. підвалів'!J38 -> 0.012995654 | E46: - | F46: - | G46: ='[1]ПР тепло'!J38 -> 0.37331169 | H46: ='[1]ПР вода'!J38 -> 0.35248018 | I46: ='[1]ПР елект'!J38 -> 0.25568023 | J46: ='[1]ПР кон.елем'!J38 -> 0.15937773 | K46: ='[1]ПР шиф.рул.'!K38 -> 0.25401245 | L46: =[1]Дератизац!G38 -> 0.018201354 | M46: =[1]Дезінсекц!G38 -> 0.035002604 | N46: =[1]Димовентканали!J38 -> 0.092340004 | O46: ='[1]ТО тепло'!J38 -> 0.2125359 | P46: ='[1]ТО вода'!J38 -> 0.34134177 | Q46: ='[1]ТО злив.кан'!J38 -> 0.070359178 | R46: =[1]сіль!J38 -> 0.044333463 | S46: ='[1]Осв. місць заг.кор.'!H38 -> 0.29321727 | T46: =SUM(C46:S46) -> 3.7118675 | U46: 4.9
A47: 40 | B47: вул. Світлодарська, 13 | C47: ='[1]Прибуд. терит'!J39 -> 0.61531698 | D47: ='[1]Приб. підвалів'!J39 -> 0.014882478 | E47: - | F47: - | G47: ='[1]ПР тепло'!J39 -> 0.40742191 | H47: ='[1]ПР вода'!J39 -> 0.24021867 | I47: ='[1]ПР елект'!J39 -> 0.11374064 | J47: ='[1]ПР кон.елем'!J39 -> 0.75155845 | K47: ='[1]ПР шиф.рул.'!K39 -> 0.54446184 | L47: =[1]Дератизац!G39 -> 0.010616044 | M47: =[1]Дезінсекц!G39 -> 0.020415468 | N47: =[1]Димовентканали!J39 -> 0.10900676 | O47: ='[1]ТО тепло'!J39 -> 0.23195572 | P47: ='[1]ТО вода'!J39 -> 0.20936497 | Q47: ='[1]ТО злив.кан'!J39 -> - | R47: =[1]сіль!J39 -> 0.011749288 | S47: ='[1]Осв. місць заг.кор.'!H39 -> 0.21627569 | T47: =SUM(C47:S47) -> 3.4969849 | U47: 4.62
A48: 41 | B48: вул. Світлодарська, 15 | C48: ='[1]Прибуд. терит'!J40 -> 1.3686739 | D48: ='[1]Приб. підвалів'!J40 -> 0.012474887 | E48: - | F48: - | G48: ='[1]ПР тепло'!J40 -> 0.39756209 | H48: ='[1]ПР вода'!J40 -> 0.20533362 | I48: ='[1]ПР елект'!J40 -> 0.10995912 | J48: ='[1]ПР кон.елем'!J40 -> 0.4515769 | K48: ='[1]ПР шиф.рул.'!K40 -> 0.38848122 | L48: =[1]Дератизац!G40 -> 0.0088169328 | M48: =[1]Дезінсекц!G40 -> 0.01695564 | N48: =[1]Димовентканали!J40 -> 0.11573271 | O48: ='[1]ТО тепло'!J40 -> 0.22634228 | P48: ='[1]ТО вода'!J40 -> 0.17896055 | Q48: ='[1]ТО злив.кан'!J40 -> - | R48: =[1]сіль!J40 -> 0.016301408 | S48: ='[1]Осв. місць заг.кор.'!H40 -> 0.21435876 | T48: =SUM(C48:S48) -> 3.71153 | U48: 4.9
A49: 42 | B49: вул. Світлодарська,19 | C49: ='[1]Прибуд. терит'!J41 -> 1.2232411 | D49: ='[1]Приб. підвалів'!J41 -> 0.014790179 | E49: - | F49: - | G49: ='[1]ПР тепло'!J41 -> 0.40509027 | H49: ='[1]ПР вода'!J41 -> 0.21547875 | I49: ='[1]ПР елект'!J41 -> 0.11083492 | J49: ='[1]ПР кон.елем'!J41 -> 0.41916766 | K49: ='[1]ПР шиф.рул.'!K41 -> 0.43143227 | L49: =[1]Дератизац!G41 -> 0.012630236 | M49: =[1]Дезінсекц!G41 -> 0.024288916 | N49: =[1]Димовентканали!J41 -> 0.09561844 | O49: ='[1]ТО тепло'!J41 -> 0.23062826 | P49: ='[1]ТО вода'!J41 -> 0.18780265 | Q49: ='[1]ТО злив.кан'!J41 -> - | R49: =[1]сіль!J41 -> 0.011388727 | S49: ='[1]Осв. місць заг.кор.'!H41 -> 0.31878601 | T49: =SUM(C49:S49) -> 3.7011784 | U49: 4.89
A50: 43 | B50: вул. Світлодарська, 30 | C50: ='[1]Прибуд. терит'!J42 -> 1.0134088 | D50: ='[1]Приб. підвалів'!J42 -> 0.012520493 | E50: - | F50: - | G50: ='[1]ПР тепло'!J42 -> 0.31469139 | H50: ='[1]ПР вода'!J42 -> 0.20689785 | I50: ='[1]ПР елект'!J42 -> 0.10759838 | J50: ='[1]ПР кон.елем'!J42 -> 0.63374934 | K50: ='[1]ПР шиф.рул.'!K42 -> 0.46044176 | L50: =[1]Дератизац!G42 -> 0.0086933641 | M50: =[1]Дезінсекц!G42 -> 0.016718008 | N50: =[1]Димовентканали!J42 -> 0.093593406 | O50: ='[1]ТО тепло'!J42 -> 0.17916187 | P50: ='[1]ТО вода'!J42 -> 0.18032387 | Q50: ='[1]ТО злив.кан'!J42 -> 0.081119922 | R50: =[1]сіль!J42 -> 0.014242672 | S50: ='[1]Осв. місць заг.кор.'!H42 -> 0.20797807 | T50: =SUM(C50:S50) -> 3.5311392 | U50: 4.66
... A70: 63 | B70: вул.Вокзальна, 45 | C70: ='[1]Прибуд. терит'!J62 -> 0.70794629 | D70: ='[1]Приб. підвалів'!J62 -> 0.0064491563 | E70: - | F70: - | G70: ='[1]ПР тепло'!J62 -> 0.3035687 | H70: ='[1]ПР вода'!J62 -> 0.22263541 | I70: ='[1]ПР елект'!J62 -> 0.096727842 | J70: ='[1]ПР кон.елем'!J62 -> 1.0679236 | K70: ='[1]ПР шиф.рул.'!K62 -> 0.52026026 | L70: =[1]Дератизац!G62 -> - | M70: =[1]Дезінсекц!G62 -> - | N70: =[1]Димовентканали!J62 -> 0.12568729 | O70: ='[1]ТО тепло'!J62 -> 0.17282943 | P70: ='[1]ТО вода'!J62 -> 0.1940401 | Q70: ='[1]ТО злив.кан'!J62 -> - | R70: =[1]сіль!J62 -> 0.0060075669 | S70: ='[1]Осв. місць заг.кор.'!H62 -> 0.26757987 | T70: =SUM(C70:S70) -> 3.6916555 | U70: 4.87
A71: 64 | B71: вул.Вокзальна, 64 | C71: ='[1]Прибуд. терит'!J63 -> 0.39170313 | D71: ='[1]Приб. підвалів'!J63 -> 0.0076951993 | E71: ='[1]то ліфтів'!I6 -> 0.88799325 | F71: ='[1]то ліфтів'!G6 -> 0.1861262 | G71: ='[1]ПР тепло'!J63 -> 0.43334749 | H71: ='[1]ПР вода'!J63 -> 0.21291415 | I71: ='[1]ПР елект'!J63 -> 0.066579286 | J71: ='[1]ПР кон.елем'!J63 -> 0.55416209 | K71: ='[1]ПР шиф.рул.'!K63 -> 0.26848236 | L71: =[1]Дератизац!G63 -> 0.0056441473 | M71: =[1]Дезінсекц!G63 -> 0.010854129 | N71: =[1]Димовентканали!J63 -> 0.064121048 | O71: ='[1]ТО тепло'!J63 -> 0.24671582 | P71: ='[1]ТО вода'!J63 -> 0.18556744 | Q71: ='[1]ТО злив.кан'!J63 -> 0.064125504 | R71: =[1]сіль!J63 -> 0.005664482 | S71: ='[1]Осв. місць заг.кор.'!H63 -> 0.11890385 | T71: =SUM(C71:S71) -> 3.7105996 | U71: 4.9
A72: 65 | B72: вул.Вокзальна, 64 (для мешканців 1-го поверху) | C72: =C71 -> 0.39170313 | D72: =D71 -> 0.0076951993 | E72: - | F72: - | G72: =G71 -> 0.43334749 | H72: =H71 -> 0.21291415 | I72: =I71 -> 0.066579286 | J72: =J71 -> 0.55416209 | K72: =K71 -> 0.26848236 | L72: =L71 -> 0.0056441473 | M72: =M71 -> 0.010854129 | N72: =N71 -> 0.064121048 | ... S72: =S71 -> 0.11890385 | T72: =SUM(C72:S72) -> 2.6364801 | U72: 3.48
A73: 66 | B73: ул.Шевченко,9 | C73: ='[1]Прибуд. терит'!J64 -> 1.180765 | D73: ='[1]Приб. підвалів'!J64 -> 0.014303125 | E73: - | F73: - | G73: ='[1]ПР тепло'!J64 -> 0.60104823 | H73: ='[1]ПР вода'!J64 -> 0.29708256 | I73: ='[1]ПР елект'!J64 -> 0.13963678 | J73: ='[1]ПР кон.елем'!J64 -> 0.16730649 | K73: ='[1]ПР шиф.рул.'!K64 -> 0.15194275 | L73: =[1]Дератизац!G64 -> 0.01390836 | M73: =[1]Дезінсекц!G64 -> 0.026746845 | N73: =[1]Димовентканали!J64 -> 0.077132482 | O73: ='[1]ТО тепло'!J64 -> 0.34219215 | P73: ='[1]ТО вода'!J64 -> 0.25892526 | Q73: ='[1]ТО злив.кан'!J64 -> 0.19736169 | R73: =[1]сіль!J64 -> 0.025595563 | S73: ='[1]Осв. місць заг.кор.'!H64 -> 0.21260768 | T73: =SUM(C73:S73) -> 3.7065549 | U73: 4.89
A74: 67 | B74: ул.Шевченко,11 | C74: ='[1]Прибуд. терит'!J65 -> 1.3204039 | D74: ='[1]Приб. підвалів'!J65 -> 0.01387443 | E74: - | F74: - | G74: ='[1]ПР тепло'!J65 -> 0.35111915 | H74: ='[1]ПР вода'!J65 -> 0.46367429 | I74: ='[1]ПР елект'!J65 -> 0.15895272 | J74: ='[1]ПР кон.елем'!J65 -> 0.087941 | K74: ='[1]ПР шиф.рул.'!K65 -> 0.12778462 | L74: =[1]Дератизац!G65 -> 0.01407622 | M74: =[1]Дезінсекц!G65 -> 0.027069654 | N74: =[1]Димовентканали!J65 -> 0.13218671 | O74: ='[1]ТО тепло'!J65 -> 0.4997528 | P74: ='[1]ТО вода'!J65 -> 0.36370794 | Q74: ='[1]ТО злив.кан'!J65 -> - | R74: =[1]сіль!J65 -> 0.047016477 | S74: ='[1]Осв. місць заг.кор.'!H65 -> 0.10452725 | T74: =SUM(C74:S74) -> 3.7120871 | U74: 4.9
A75: 68 | B75: вул.Пушкина,2 | C75: ='[1]Прибуд. терит'!J66 -> 1.0779713 | D75: ='[1]Приб. підвалів'!J66 -> 0.014868035 | E75: - | F75: - | G75: ='[1]ПР тепло'!J66 -> 0.33253668 | H75: ='[1]ПР вода'!J66 -> 0.39501484 | I75: ='[1]ПР елект'!J66 -> 0.084945172 | J75: ='[1]ПР кон.елем'!J66 -> 0.21383778 | K75: ='[1]ПР шиф.рул.'!K66 -> 0.1350964 | L75: =[1]Дератизац!G66 -> 0.01231671 | M75: =[1]Дезінсекц!G66 -> 0.023685981 | N75: =[1]Димовентканали!J66 -> 0.11406891 | O75: ='[1]ТО тепло'!J66 -> 0.47330411 | P75: ='[1]ТО вода'!J66 -> 0.3442791 | Q75: ='[1]ТО злив.кан'!J66 -> 0.23431999 | R75: =[1]сіль!J66 -> 0.015472559 | S75: ='[1]Осв. місць заг.кор.'!H66 -> 0.23347734 | T75: =SUM(C75:S75) -> 3.7051949 | U75: 4.89
A76: 69 | B76: вул.Пушкина,3 | C76: ='[1]Прибуд. терит'!J67 -> 0.70195911 | D76: ='[1]Приб. підвалів'!J67 -> 0.01280486 | E76: - | F76: - | G76: ='[1]ПР тепло'!J67 -> 0.89197778 | H76: ='[1]ПР вода'!J67 -> 0.39670334 | I76: ='[1]ПР елект'!J67 -> 0.12392355 | J76: ='[1]ПР кон.елем'!J67 -> 0.19278223 | K76: ='[1]ПР шиф.рул.'!K67 -> 0.15006776 | L76: =[1]Дератизац!G67 -> 0.0093918962 | M76: =[1]Дезінсекц!G67 -> 0.018061339 | N76: =[1]Димовентканали!J67 -> 0.12204556 | O76: ='[1]ТО тепло'!J67 -> 0.50782578 | P76: ='[1]ТО вода'!J67 -> 0.34575073 | Q76: ='[1]ТО злив.кан'!J67 -> - | R76: =[1]сіль!J67 -> 0.0062203597 | S76: ='[1]Осв. місць заг.кор.'!H67 -> 0.22854816 | T76: =SUM(C76:S76) -> 3.7080625 | U76: 4.8946425
A77: 70 | B77: вул.Пушкина,7 | C77: ='[1]Прибуд. терит'!J68 -> 0.54163751 | D77: ='[1]Приб. підвалів'!J68 -> 0.013024792 | E77: - | F77: - | G77: ='[1]ПР тепло'!J68 -> 0.82180182 | H77: ='[1]ПР вода'!J68 -> 0.409113 | I77: ='[1]ПР елект'!J68 -> 0.10695255 | J77: ='[1]ПР кон.елем'!J68 -> 0.24331749 | K77: ='[1]ПР шиф.рул.'!K68 -> 0.22391999 | L77: =[1]Дератизац!G68 -> 0.0092146011 | M77: =[1]Дезінсекц!G68 -> 0.017720387 | N77: =[1]Димовентканали!J68 -> 0.1312054 | O77: ='[1]ТО тепло'!J68 -> 0.48234311 | P77: ='[1]ТО вода'!J68 -> 0.35656649 | Q77: ='[1]ТО злив.кан'!J68 -> 0.12624427 | R77: =[1]сіль!J68 -> 0.012326619 | S77: ='[1]Осв. місць заг.кор.'!H68 -> 0.19308779 | T77: =SUM(C77:S77) -> 3.6884758 | U77: 4.87
A78: 71 | B78: пер.Макаренко,3 | C78: ='[1]Прибуд. терит'!J69 -> 1.5729415 | D78: ='[1]Приб. підвалів'!J69 -> 0.013793442 | E78: - | F78: - | G78: ='[1]ПР тепло'!J69 -> 0.37047843 | H78: ='[1]ПР вода'!J69 -> 0.21521873 | I78: ='[1]ПР елект'!J69 -> 0.14463525 | J78: ='[1]ПР кон.елем'!J69 -> 0.097065462 | K78: ='[1]ПР шиф.рул.'!K69 -> 0.14104312 | L78: =[1]Дератизац!G69 -> 0.013543706 | M78: =[1]Дезінсекц!G69 -> 0.026045589 | N78: =[1]Димовентканали!J69 -> 0.096653695 | O78: ='[1]ТО тепло'!J69 -> 0.26365357 | P78: ='[1]ТО вода'!J69 -> 0.37515204 | Q78: ='[1]ТО злив.кан'!J69 -> 0.12888055 | R78: =[1]сіль!J69 -> 0.017324352 | S78: ='[1]Осв. місць заг.кор.'!H69 -> 0.21185553 | T78: =SUM(C78:S78) -> 3.6882849 | U78: 4.87
A79: 72 | B79: пер.Макаренко,4 | C79: ='[1]Прибуд. терит'!J70 -> 1.0502451 | D79: ='[1]Приб. підвалів'!J70 -> 0.013990818 | E79: - | F79: - | G79: ='[1]ПР тепло'!J70 -> 0.30042603 | H79: ='[1]ПР вода'!J70 -> 0.22231367 | I79: ='[1]ПР елект'!J70 -> 0.20212674 | J79: ='[1]ПР кон.елем'!J70 -> 0.27942227 | K79: ='[1]ПР шиф.рул.'!K70 -> 0.25376294 | L79: =[1]Дератизац!G70 -> 0.029504594 | M79: =[1]Дезінсекц!G70 -> 0.056739604 | N79: =[1]Димовентканали!J70 -> 0.09117418 | O79: ='[1]ТО тепло'!J70 -> 0.5701341 | P79: ='[1]ТО вода'!J70 -> 0.38751937 | Q79: ='[1]ТО злив.кан'!J70 -> 0.023639393 | R79: =[1]сіль!J70 -> 0.03631599 | S79: ='[1]Осв. місць заг.кор.'!H70 -> 0.1684573 | T79: =SUM(C79:S79) -> 3.6857721 | U79: 4.87
A80: 73 | B80: пер.Макаренко,5 | C80: ='[1]Прибуд. терит'!J71 -> 0.92978542 | D80: ='[1]Приб. підвалів'!J71 -> 0.014845459 | E80: - | F80: - | G80: ='[1]ПР тепло'!J71 -> 0.36520462 | H80: ='[1]ПР вода'!J71 -> 0.43518987 | I80: ='[1]ПР елект'!J71 -> 0.14623215 | J80: ='[1]ПР кон.елем'!J71 -> 0.123475 | K80: ='[1]ПР шиф.рул.'!K71 -> 0.17941808 | L80: =[1]Дератизац!G71 -> 0.0099911165 | M80: =[1]Дезінсекц!G71 -> 0.019213686 | N80: =[1]Димовентканали!J71 -> 0.097720838 | O80: ='[1]ТО тепло'!J71 -> 0.53312907 | P80: ='[1]ТО вода'!J71 -> 0.37929405 | Q80: ='[1]ТО злив.кан'!J71 -> 0.17373801 | R80: =[1]сіль!J71 -> 0.019705081 | S80: ='[1]Осв. місць заг.кор.'!H71 -> 0.27808064 | T80: =SUM(C80:S80) -> 3.7050231 | U80: 4.89
A81: 74 | B81: вул. Василевського ,52 | C81: ='[1]Прибуд. терит'!J72 -> 0.99891525 | D81: ='[1]Приб. підвалів'!J72 -> 0.013800609 | E81: - | F81: - | G81: ='[1]ПР тепло'!J72 -> 0.37777031 | H81: ='[1]ПР вода'!J72 -> 0.41258603 | I81: ='[1]ПР елект'!J72 -> 0.10626823 | J81: ='[1]ПР кон.елем'!J72 -> 0.38615159 | K81: ='[1]ПР шиф.рул.'!K72 -> 0.25561501 | L81: =[1]Дератизац!G72 -> 0.010122242 | M81: =[1]Дезінсекц!G72 -> 0.01946585 | N81: =[1]Димовентканали!J72 -> 0.13981003 | O81: ='[1]ТО тепло'!J72 -> 0.43014861 | P81: ='[1]ТО вода'!J72 -> 0.35959345 | Q81: ='[1]ТО злив.кан'!J72 -> - | R81: =[1]сіль!J72 -> 0.017970484 | S81: ='[1]Осв. місць заг.кор.'!H72 -> 0.18141747 | T81: =SUM(C81:S81) -> 3.7096352 | U81: 4.9
A82: =A81+1 -> 75 | B82: вул. Центральна , 1 (а) | C82: 0 | D82: 0 | E82: 0 | F82: 0 | G82: 0 | H82: 0 | I82: 0 | J82: 0 | K82: 0 | L82: 0 | M82: 0 | N82: 0 | O82: 0 | P82: 0 | Q82: 0 | R82: 0 | S82: 0 | T82: 0 | U82: 0
A83: =A82+1 -> 76 | B83: вул. Центральна , 1 (б) | C83: 0 | D83: 0 | E83: 0 | F83: 0 | G83: 0 | H83: 0 | I83: 0 | J83: 0 | K83: 0 | L83: 0 | M83: 0 | N83: 0 | O83: 0 | P83: 0 | Q83: 0 | R83: 0 | S83: 0 | T83: 0 | U83: 0
A84: =A83+1 -> 77 | B84: вул. Центральна , 1 (в) | C84: 0 | D84: 0 | E84: 0 | F84: 0 | G84: 0 | H84: 0 | I84: 0 | J84: 0 | K84: 0 | L84: 0 | M84: 0 | N84: 0 | O84: 0 | P84: 0 | Q84: 0 | R84: 0 | S84: 0 | T84: 0 | U84: 0
A85: =A84+1 -> 78 | B85: вул. Центральна, 3б | C85: 0 | D85: 0 | E85: 0 | F85: 0 | G85: 0 | H85: 0 | I85: 0 | J85: 0 | K85: 0 | L85: 0 | M85: 0 | N85: 0 | O85: 0 | P85: 0 | Q85: 0 | R85: 0 | S85: 0 | T85: 0 | U85: 0
A86: =A85+1 -> 79 | B86: вул. Поштова, 29 (а) | C86: 0 | D86: 0 | E86: 0 | F86: 0 | G86: 0 | H86: 0 | I86: 0 | J86: 0 | K86: 0 | L86: 0 | M86: 0 | N86: 0 | O86: 0 | P86: 0 | Q86: 0 | R86: 0 | S86: 0 | T86: 0 | U86: 0
A87: =A86+1 -> 80 | B87: вул. Поштова, 29 (б) | C87: 0 | D87: 0 | E87: 0 | F87: 0 | G87: 0 | H87: 0 | I87: 0 | J87: 0 | K87: 0 | L87: 0 | M87: 0 | N87: 0 | O87: 0 | P87: 0 | Q87: 0 | R87: 0 | S87: 0 | T87: 0 | U87: 0
A88: =A87+1 -> 81 | B88: вул. Поштова , 32 | C88: 0 | D88: 0 | E88: 0 | F88: 0 | G88: 0 | H88: 0 | I88: 0 | J88: 0 | K88: 0 | L88: 0 | M88: 0 | N88: 0 | O88: 0 | P88: 0 | Q88: 0 | R88: 0 | S88: 0 | T88: 0 | U88: 0
A89: =A88+1 -> 82 | B89: вул. Поштова , 34 | C89: 0 | D89: 0 | E89: 0 | F89: 0 | G89: 0 | H89: 0 | I89: 0 | J89: 0 | K89: 0 | L89: 0 | M89: 0 | N89: 0 | O89: 0 | P89: 0 | Q89: 0 | R89: 0 | S89: 0 | T89: 0 | U89: 0
A90: =A89+1 -> 83 | B90: вул. Поштова, 54 | C90: 0 | D90: 0 | E90: 0 | F90: 0 | G90: 0 | H90: 0 | I90: 0 | J90: 0 | K90: 0 | L90: 0 | M90: 0 | N90: 0 | O90: 0 | P90: 0 | Q90: 0 | R90: 0 | S90: 0 | T90: 0 | U90: 0
A91: =A90+1 -> 84 | B91: вул. Поштова , 55 | C91: 0 | D91: 0 | E91: 0 | F91: 0 | G91: 0 | H91: 0 | I91: 0 | J91: 0 | K91: 0 | L91: 0 | M91: 0 | N91: 0 | O91: 0 | P91: 0 | Q91: 0 | R91: 0 | S91: 0 | T91: 0 | U91: 0
A92: =A91+1 -> 85 | B92: вул. Поштова , 56 | C92: 0 | D92: 0 | E92: 0 | F92: 0 | G92: 0 | H92: 0 | I92: 0 | J92: 0 | K92: 0 | L92: 0 | M92: 0 | N92: 0 | O92: 0 | P92: 0 | Q92: 0 | R92: 0 | S92: 0 | T92: 0 | U92: 0
A93: =A92+1 -> 86 | B93: вул. Поштова , 70 | C93: 0 | D93: 0 | E93: 0 | F93: 0 | G93: 0 | H93: 0 | I93: 0 | J93: 0 | K93: 0 | L93: 0 | M93: 0 | N93: 0 | O93: 0 | P93: 0 | Q93: 0 | R93: 0 | S93: 0 | T93: 0 | U93: 0
... A113: =A112+1 -> 106 | B113: вул. Барвенківська , 9-а | C113: 0 | D113: 0 | E113: 0 | F113: 0 | G113: 0 | H113: 0 | I113: 0 | J113: 0 | K113: 0 | L113: 0 | M113: 0 | N113: 0 | O113: 0 | P113: 0 | Q113: 0 | R113: 0 | S113: 0 | T113: 0 | U113: 0
B114: Середній тариф | C114: 1.0381998 | D114: 0.012733581 | E114: 0.94854077 | F114: 0.21367548 | G114: 0.19370042 | H114: 0.2841783 | I114: 0.13064364 | J114: 0.9256515 | K114: 0.64287331 | L114: 0.010766252 | M114: 0.020821387 | N114: 0.10502205 | O114: 0.27569652 | P114: 0.24767842 | Q114: 0.12394712 | R114: 0.020847408 | S114: 0.1825008 | T114: 3.67 | U114: 4.84
B116: Начальник управління ЖКГ В.Г.Башкаєв
B118: Керуючий справами виконкому | Q118: О.А.Огаркова

Sheet КП "ЖЕК №7"
R1: Додаток №4 до рішення виконавчого комітету Слов'янської міської ради від__18.07.2018__№_438___
B2: Тарифи
A3: на послуги з утримання будинків і споруд та прибудинкової території будинків, які знаходяться на балансі КП "ЖЕК №7" м. Слов'янськ
A4: № п/п | B4: Будинок | C4: 1. Прибирання прибудинкової території | D4: 2. Прибирання підвалів та технічних приміщень | E4: 3.Технічне обслуговування ліфтів | F4: 4. Енергопостачання ліфтів | G4: 5. Поточний ремонт конструктивних елементів, інженерних систем і технічних пристроїв будинків та елементів зовнішнього благоустрою, розташованих на прибудинковій теріторії | L4: 6. Дератизація | M4: 7. Дезінсекція | N4: 8. Обслуговування димовентиляційних каналів | O4: 9. Технічне обслуговування внутнішньобудинкових систем тепло-, водопостачання, водовідведення і зливної каналізації. | R4: 10. Прибирання і вивезення снігу, посипання частини прибудинкової території призначеної для проходу та проїзду, протиожеледними сумішами | S4: 11. Освітлення місць загального користування | T4: Загальні планові витрати, без ПДВ | V4: Рентабельність з ПДВ | W4: Вартість 1 м.кв. з рентабельністю та ПДВ
G5: Поточний ремонт центрального опалення | H5: Поточний ремонт гарячого та холодного водопостачання та водовідведення | I5: Поточний ремонт електричних мереж | J5: Поточний ремонт конструктивних елементів | K5: Поточний ремонт рулонної та штферної покрівлі | O5: ТО центрального опалення | P5: ТО гарячого та холодного водопостачання та водовідведення | Q5: ТО зливової каналізації
C6: грн./м2 | D6: грн./м2 | E6: грн./м2 | F6: грн./м2 | G6: грн./м2 | H6: грн./м2 | I6: грн./м2 | J6: грн./м2 | K6: грн./м2 | L6: грн./м2 | M6: грн./м2 | N6: грн./м2 | O6: грн./м2 | P6: грн./м2 | Q6: грн./м2 | R6: грн./м2 | S6: грн./м2 | T6: грн./м2 | U6: грн./м2 | V6: грн./м2 | W6: грн./м2
A7: 1 | B7: вул. Свободи 41 | C7: 0.75050975 | D7: 0.048666885 | E7: 1.1114952 | F7: 0.15766647 | G7: 0.24050911 | H7: 0.32496745 | I7: 0.17009737 | J7: 0.021463801 | K7: 0.015597561 | L7: 0.0062394009 | M7: 0.011998848 | N7: 0.038831008 | O7: 0.15910312 | P7: 0.21881137 | Q7: 0.13962842 | R7: 0.050066721 | S7: 0.24993012 | T7: =ROUND(SUM(C7:S7),2) -> 3.72 | V7: 1.18 | W7: 4.9
A8: 2 | B8: вул. Свободи 41 (для мешканців 1-го поверху) | C8: 0.75050975 | D8: 0.048666885 | E8: - | F8: - | G8: 0.24050911 | H8: 0.32496745 | I8: 0.17009737 | J8: 0.021463801 | K8: 0.015597561 | L8: 0.0062394009 | M8: 0.011998848 | N8: 0.038831008 | O8: 0.15910312 | P8: 0.21881137 | Q8: 0.13962842 | R8: 0.050066721 | S8: 0.24993012 | T8: =ROUND(SUM(C8:S8),2) -> 2.45 | V8: 0.78 | W8: 3.23
A9: 3 | B9: вул. Свободи 43 | C9: 0.78500287 | D9: 0.048426385 | E9: 1.1114952 | F9: 0.23095559 | G9: 0.24050911 | H9: 0.32496745 | I9: 0.17083327 | J9: 0.021463801 | K9: 0.015680225 | L9: 0.0062085673 | M9: 0.011939553 | N9: 0.038831008 | O9: 0.15910312 | P9: 0.21881137 | Q9: 0.13962842 | R9: 0.041437118 | S9: 0.14868322 | T9: =ROUND(SUM(C9:S9),2) -> 3.71 | V9: 1.19 | W9: 4.9
A10: 4 | B10: вул. Свободи 43 (для мешканців 1-го поверху) | C10: 0.78500287 | D10: 0.048426385 | E10: - | F10: - | G10: 0.24050911 | H10: 0.32496745 | I10: 0.17083327 | J10: 0.021463801 | K10: 0.015680225 | L10: 0.0062085673 | M10: 0.011939553 | N10: 0.038831008 | O10: 0.15910312 | P10: 0.21881137 | Q10: 0.13962842 | R10: 0.041437118 | S10: 0.14868322 | T10: =ROUND(SUM(C10:S10),2) -> 2.37 | V10: 0.76 | W10: 3.13
A11: 5 | B11: вул. Світлодарська 8а | C11: 0.6832979 | D11: 0.054936931 | E11: 1.075586 | F11: 0.21893229 | G11: 0.24143966 | H11: 0.28272815 | I11: 0.22985505 | J11: 0.18768911 | K11: 0.016551709 | L11: 0.0070432604 | M11: 0.013544731 | N11: 0.039530282 | O11: 0.15971871 | P11: 0.19037025 | Q11: 0.14016866 | R11: 0.023816246 | S11: 0.14613344 | T11: =ROUND(SUM(C11:S11),2) -> 3.71 | V11: 1.19 | W11: 4.9
A12: 6 | B12: вул. Світлодарська 8а (для мешканців 1-го поверху) | C12: 0.6832979 | D12: 0.054936931 | E12: - | F12: - | G12: 0.24143966 | H12: 0.28272815 | I12: 0.22985505 | J12: 0.18768911 | K12: 0.016551709 | L12: 0.0070432604 | M12: 0.013544731 | N12: 0.039530282 | O12: 0.15971871 | P12: 0.19037025 | Q12: 0.14016866 | R12: 0.023816246 | S12: 0.14613344 | T12: =ROUND(SUM(C12:S12),2) -> 2.42 | V12: 0.77 | W12: 3.19
A13: 7 | B13: вул. Торська 34 | C13: 0.66527624 | D13: 0.051757552 | E13: 0.95830303 | F13: 0.16356993 | G13: 0.22641929 | H13: 0.44460867 | I13: 0.21378746 | J13: 0.071388112 | K13: 0.016811151 | L13: 0.0066356439 | M13: 0.012760854 | N13: 0.051188476 | O13: 0.14978233 | P13: 0.29936978 | Q13: 0.13025082 | R13: 0.024095591 | S13: 0.22245989 | T13: =ROUND(SUM(C13:S13),2) -> 3.71 | V13: 1.19 | W13: 4.9
A14: 8 | B14: вул. Торська 34 (для мешканців 1-го поверху) | C14: 0.66527624 | D14: 0.051757552 | E14: - | F14: - | G14: 0.22641929 | H14: 0.44460867 | I14: 0.21378746 | J14: 0.071388112 | K14: 0.016811151 | L14: 0.0066356439 | M14: 0.012760854 | N14: 0.051188476 | O14: 0.14978233 | P14: 0.29936978 | Q14: 0.13025082 | R14: 0.024095591 | S14: 0.22245989 | T14: =ROUND(SUM(C14:S14),2) -> 2.59 | V14: 0.82 | W14: 3.41
A15: 9 | B15: вул. Торська 36 | C15: 0.46712741 | D15: 0.048129753 | E15: 0.98211699 | F15: 0.25205813 | G15: 0.22497026 | H15: 0.44582546 | I15: 0.18497007 | J15: 0.2374758 | K15: 0.15888612 | L15: 0.0061705373 | M15: 0.011866418 | N15: 0.054227523 | O15: 0.14882376 | P15: 0.30018908 | Q15: 0.13060729 | R15: 0.029071909 | S15: 0.030547038 | T15: =ROUND(SUM(C15:S15),2) -> 3.71 | V15: 1.19 | W15: 4.9
A16: 10 | B16: вул. Торська 36 (для мешканців 1-го поверху) | C16: 0.46712741 | D16: 0.048129753 | E16: - | F16: - | G16: 0.22497026 | H16: 0.44582546 | I16: 0.18497007 | J16: 0.2374758 | K16: 0.15888612 | L16: 0.0061705373 | M16: 0.011866418 | N16: 0.054227523 | O16: 0.14882376 | P16: 0.30018908 | Q16: 0.13060729 | R16: 0.029071909 | S16: 0.030547038 | T16: =ROUND(SUM(C16:S16),2) -> 2.48 | V16: 0.79 | W16: 3.27
A17: 11 | B17: вул. Торська 50 | C17: 0.79537385 | D17: 0.046588349 | E17: 0.91890262 | F17: 0.16018814 | G17: 0.23997854 | H17: 0.33145614 | I17: 0.34301075 | J17: 0.1179436 | K17: 0.015960093 | L17: 0.0059729195 | M17: 0.011486384 | N17: 0.058390876 | O17: 0.15875214 | P17: 0.22318042 | Q17: 0.1393204 | R17: 0.045734265 | S17: 0.10114188 | T17: =ROUND(SUM(C17:S17),2) -> 3.71 | V17: 1.19 | W17: 4.9
A18: 12 | B18: вул. Торська 50 (для мешканців 1-го поверху) | C18: 0.79537385 | D18: 0.046588349 | E18: - | F18: - | G18: 0.23997854 | H18: 0.33145614 | I18: 0.34301075 | J18: 0.1179436 | K18: 0.015960093 | L18: 0.0059729195 | M18: 0.011486384 | N18: 0.058390876 | O18: 0.15875214 | P18: 0.22318042 | Q18: 0.1393204 | R18: 0.045734265 | S18: 0.10114188 | T18: =ROUND(SUM(C18:S18),2) -> 2.63 | V18: 0.85 | W18: 3.48
A19: 13 | B19: вул. Торська 52 | C19: 0.90088203 | D19: 0.043747154 | E19: 0.88346187 | F19: 0.13716884 | G19: 0.22275328 | H19: 0.31124226 | I19: 0.10703574 | J19: 0.19751827 | K19: 0.14986765 | L19: 0.0056086605 | M19: 0.010785885 | N19: 0.036553268 | O19: 0.14735717 | P19: 0.20956975 | Q19: 0.13082394 | R19: 0.074504999 | S19: 0.14009482 | T19: =ROUND(SUM(C19:S19),2) -> 3.71 | V19: 1.19 | W19: 4.9
A20: 14 | B20: вул. Торська 52 (для мешканців 1-го поверху) | C20: 0.90088203 | D20: 0.043747154 | E20: - | F20: - | G20: 0.22275328 | H20: 0.31124226 | I20: 0.10703574 | J20: 0.19751827 | K20: 0.14986765 | L20: 0.0056086605 | M20: 0.010785885 | N20: 0.036553268 | O20: 0.14735717 | P20: 0.20956975 | Q20: 0.13082394 | R20: 0.074504999 | S20: 0.14009482 | T20: =ROUND(SUM(C20:S20),2) -> 2.69 | V20: 0.86 | W20: 3.55
A21: 15 | B21: вул. Світлодарська 1 | C21: 1.6050883 | D21: 0.045790033 | E21: - | F21: - | G21: 0.51154369 | H21: 0.41542416 | I21: 0.13170342 | J21: 0.018893779 | K21: 0.046473981 | L21: 0.0058705704 | M21: 0.011289558 | N21: 0.082587444 | O21: 0.33839964 | P21: 0.27971888 | Q21: - | R21: 0.075722958 | S21: 0.14634262 | T21: =ROUND(SUM(C21:S21),2) -> 3.71 | V21: 1.19 | W21: 4.9
A22: 16 | B22: вул. Світлодарська 3 | C22: 1.3592782 | D22: 0.049916297 | E22: - | F22: - | G22: 0.54666181 | H22: 0.44394356 | I22: 0.14182216 | J22: 0.022292565 | K22: 0.049289082 | L22: 0.016162559 | M22: 0.031081843 | N22: 0.079851732 | O22: 0.36163121 | P22: 0.29892193 | Q22: - | R22: 0.069235001 | S22: 0.24534224 | T22: =ROUND(SUM(C22:S22),2) -> 3.72 | V22: 1.18 | W22: 4.9
A23: 17 | B23: вул. Світлодарська 6 | C23: 0.93000669 | D23: 0.10490079 | E23: - | F23: - | G23: 0.52324239 | H23: 0.42713781 | I23: 0.1278171 | J23: 0.29777892 | K23: 0.27129296 | L23: 0.013448941 | M23: 0.025863349 | N23: 0.071886688 | O23: 0.34613864 | P23: 0.28760607 | Q23: - | R23: 0.05676868 | S23: 0.20867895 | T23: =ROUND(SUM(C23:S23),2) -> 3.69 | V23: 1.18 | W23: 4.87
A24: 18 | B24: вул. Світлодарська 7 | C24: 1.3401846 | D24: 0.14695472 | E24: - | F24: - | G24: 0.39969778 | H24: 0.3245942 | I24: 0.11288297 | J24: 0.22030546 | K24: 0.29832068 | L24: 0.011965923 | M24: 0.023011391 | N24: 0.071700225 | O24: 0.26441062 | P24: 0.21856005 | Q24: - | R24: 0.10251514 | S24: 0.16631765 | T24: =ROUND(SUM(C24:S24),2) -> 3.7 | V24: 1.19 | W24: 4.89
A25: 19 | B25: вул. Світлодарська 8 | C25: 0.88714472 | D25: 0.14688786 | E25: - | F25: - | G25: 0.39800559 | H25: 0.32321997 | I25: 0.1137121 | J25: 0.39366795 | K25: 0.33215168 | L25: 0.011986456 | M25: 0.023050878 | N25: 0.07139667 | O25: 0.26329119 | P25: 0.21763474 | Q25: - | R25: 0.076628288 | S25: 0.15455541 | T25: =ROUND(SUM(C25:S25),2) -> 3.41 | V25: 1.1 | W25: 4.51
A26: 20 | B26: вул. Світлодарська 10 | C26: 0.67937871 | D26: 0.1480785 | E26: - | F26: - | G26: 0.42097117 | H26: 0.34128087 | I26: 0.14904758 | J26: 0.39297422 | K26: 0.28937725 | L26: 0.0093443644 | M26: 0.017969932 | N26: 0.095728477 | O26: 0.27848353 | P26: 0.22979574 | Q26: - | R26: 0.1015549 | S26: 0.052697714 | T26: =ROUND(SUM(C26:S26),2) -> 3.21 | V26: 1.02 | W26: 4.23
A27: 21 | B27: вул. Світлодарська 11а | C27: 1.1252596 | D27: 0.099481699 | E27: - | F27: - | G27: 0.39028642 | H27: 0.33455965 | I27: 0.12637426 | J27: 0.50813313 | K27: 0.31273425 | L27: 0.01275418 | M27: 0.024527269 | N27: 0.1200205 | O27: 0.25818476 | P27: 0.22527012 | Q27: - | R27: 0.046580987 | S27: 0.12712355 | T27: =ROUND(SUM(C27:S27),2) -> 3.71 | V27: 1.19 | W27: 4.9
A28: 22 | B28: вул. Світлодарська 12 | C28: 1.0281001 | D28: 0.13127146 | E28: - | F28: - | G28: 0.48004036 | H28: 0.43965987 | I28: 0.16047433 | J28: 0.25246755 | K28: 0.32619249 | L28: 0.011971613 | M28: 0.023022333 | N28: 0.072385565 | O28: 0.27883261 | P28: 0.23168159 | Q28: - | R28: 0.096670219 | S28: 0.18267262 | T28: =ROUND(SUM(C28:S28),2) -> 3.72 | V28: 1.18 | W28: 4.9
A29: 23 | B29: вул. Світлодарська 14 | C29: 0.96814236 | D29: 0.1099839 | E29: - | F29: - | G29: 0.46391834 | H29: 0.43415962 | I29: 0.15800876 | J29: 0.225497 | K29: 0.23048175 | L29: 0.0093031907 | M29: 0.017890751 | N29: 0.095306672 | O29: 0.27821252 | P29: 0.2287832 | Q29: - | R29: 0.11258963 | S29: 0.074500513 | T29: =ROUND(SUM(C29:S29),2) -> 3.41 | V29: 1.09 | W29: 4.5
A30: 24 | B30: пров.Світлодарський 1 | C30: 1.437149 | D30: - | E30: - | F30: - | G30: 0.57597395 | H30: 0.26963963 | I30: 0.23316421 | J30: 0.158098 | K30: 0.064971372 | L30: - | M30: - | N30: 0.05513666 | O30: 0.38102196 | P30: 0.18155731 | Q30: - | R30: 0.066375264 | S30: 0.21132619 | T30: =ROUND(SUM(C30:S30),2) -> 3.63 | V30: 1.17 | W30: 4.8
A31: 25 | B31: пров.Світлодарський 2а | C31: 1.2239161 | D31: 0.10289834 | E31: - | F31: - | G31: 0.49935683 | H31: 0.40552722 | I31: 0.1443085 | J31: 0.28169434 | K31: 0.034041419 | L31: 0.013192215 | M31: 0.025369644 | N31: 0.042656036 | O31: 0.33033772 | P31: 0.27305494 | Q31: 0.21780307 | R31: 0.057606797 | S31: 0.060860718 | T31: =ROUND(SUM(C31:S31),2) -> 3.71 | V31: 1.19 | W31: 4.9
A32: 26 | B32: пров.Світлодарський 5 | C32: 1.7447411 | D32: - | E32: - | F32: - | G32: 0.54922999 | H32: 0.26277054 | I32: 0.22951954 | J32: 0.036083302 | K32: 0.056257065 | L32: - | M32: - | N32: 0.05373205 | O32: 0.36333012 | P32: 0.17693213 | Q32: - | R32: 0.081386882 | S32: 0.15879914 | T32: =ROUND(SUM(C32:S32),2) -> 3.71 | V32: 1.19 | W32: 4.9
A33: 27 | B33: пров.Світлодарський 8 | C33: 1.5786912 | D33: - | E33: - | F33: - | G33: 0.56129727 | H33: 0.26854394 | I33: 0.23651706 | J33: 0.18438049 | K33: 0.064438386 | L33: - | M33: - | N33: 0.048811211 | O33: 0.37131295 | P33: 0.18081955 | Q33: - | R33: - | S33: 0.22016947 | T33: =ROUND(SUM(C33:S33),2) -> 3.71 | V33: 1.19 | W33: 4.9
A34: 28 | B34: вул. Торська 18 | C34: 1.7928366 | D34: - | E34: - | F34: - | G34: 0.31831599 | H34: 0.349967 | I34: 0.14183652 | J34: 0.045273576 | K34: 0.030490834 | L34: - | M34: - | N34: 0.074212677 | O34: 0.21057442 | P34: 0.2356444 | Q34: - | R34: 0.2391137 | S34: 0.27143678 | T34: =ROUND(SUM(C34:S34),2) -> 3.71 | V34: 1.19 | W34: 4.9
A35: 29 | B35: вул. Торська 22 | C35: 1.6722436 | D35: - | E35: - | F35: - | G35: 0.32486449 | H35: 0.35716663 | I35: 0.14558635 | J35: 0.047154573 | K35: 0.069064338 | L35: - | M35: - | N35: 0.077903387 | O35: 0.21490643 | P35: 0.24049215 | Q35: - | R35: 0.23313555 | S35: 0.33238985 | T35: =ROUND(SUM(C35:S35),2) -> 3.71 | V35: 1.19 | W35: 4.9
A36: 30 | B36: вул. Торська 24 | C36: 0.6043313 | D36: 0.09170227 | E36: - | F36: - | G36: 0.39890041 | H36: 0.32394665 | I36: 0.19911607 | J36: 0.31865434 | K36: 0.41971213 | L36: 0.011756808 | M36: 0.022609246 | N36: 0.071557188 | O36: 0.26388314 | P36: 0.21812404 | Q36: - | R36: 0.14157927 | S36: 0.20411125 | T36: =ROUND(SUM(C36:S36),2) -> 3.29 | V36: 1.05 | W36: 4.34
A37: 31 | B37: вул. Торська 24а | C37: 1.2485076 | D37: 0.16767703 | E37: - | F37: - | G37: 0.44516651 | H37: 0.35239004 | I37: 0.17812418 | J37: 0.22016742 | K37: 0.2019262 | L37: 0.02149725 | M37: 0.041340866 | N37: 0.044480058 | O37: 0.29448939 | P37: 0.23727591 | Q37: 0.18926382 | R37: 0.031754588 | S37: 0.038921038 | T37: =ROUND(SUM(C37:S37),2) -> 3.71 | V37: 1.19 | W37: 4.9
A38: 32 | B38: вул. Торська 28 | C38: 0.602153 | D38: 0.092007154 | E38: - | F38: - | G38: 0.4026232 | H38: 0.32696993 | I38: 0.11503137 | J38: 0.11426455 | K38: 1.0237879 | L38: 0.011795896 | M38: 0.022684416 | N38: 0.072225007 | O38: 0.26634587 | P38: 0.22015971 | Q38: - | R38: 0.044683986 | S38: 0.18155523 | T38: =ROUND(SUM(C38:S38),2) -> 3.5 | V38: 1.12 | W38: 4.62
A39: 33 | B39: вул. Торська 33 | C39: 1.3944455 | D39: 0.12055733 | E39: - | F39: - | G39: 0.49511461 | H39: 0.41277579 | I39: 0.13353449 | J39: 0.01827699 | K39: 0.045297513 | L39: 0.015456208 | M39: 0.029723478 | N39: 0.080758388 | O39: 0.32753138 | P39: 0.27793565 | Q39: - | R39: 0.15697352 | S39: 0.20448677 | T39: =ROUND(SUM(C39:S39),2) -> 3.71 | V39: 1.19 | W39: 4.9
A40: 34 | B40: вул. Торська 43 | C40: 1.3251134 | D40: - | E40: - | F40: - | G40: 0.31910195 | H40: 0.5051968 | I40: 0.14504681 | J40: 0.16431909 | K40: 0.051453888 | L40: - | M40: - | N40: 0.076521516 | O40: 0.21109436 | P40: 0.34016578 | Q40: - | R40: 0.29025604 | S40: 0.28409053 | T40: =ROUND(SUM(C40:S40),2) -> 3.71 | V40: 1.19 | W40: 4.9
A41: 35 | B41: вул. Торська 46а | C41: 1.5113345 | D41: - | E41: - | F41: - | G41: 0.56589631 | H41: 0.32489314 | I41: 0.27392763 | J41: 0.13426389 | K41: 0.10014196 | L41: - | M41: - | N41: 0.073816725 | O41: 0.37435534 | P41: 0.21876134 | Q41: - | R41: - | S41: 0.13560722 | T41: =ROUND(SUM(C41:S41),2) -> 3.71 | V41: 1.19 | W41: 4.9
A42: 36 | B42: вул. Торська 47 | C42: 1.538115 | D42: - | E42: - | F42: - | G42: 0.31897594 | H42: 0.35069257 | I42: 0.30059801 | J42: 0.31284109 | K42: 0.039205382 | L42: - | M42: - | N42: 0.080740813 | O42: 0.23445666 | P42: 0.23613295 | Q42: - | R42: 0.1957567 | S42: 0.10343239 | T42: =ROUND(SUM(C42:S42),2) -> 3.71 | V42: 1.19 | W42: 4.9
A43: 37 | B43: вул. Торська 49 | C43: 1.691891 | D43: 0.088157004 | E43: - | F43: - | G43: 0.47610965 | H43: 0.39483124 | I43: 0.12693105 | J43: 0.016759218 | K43: 0.05268972 | L43: 0.014647143 | M43: 0.028167583 | N43: 0.079739445 | O43: 0.31495909 | P43: 0.26585298 | Q43: - | R43: 0.026110739 | S43: 0.13728722 | T43: =ROUND(SUM(C43:S43),2) -> 3.71 | V43: 1.19 | W43: 4.9
A44: 38 | B44: вул. Торська 53а | C44: 0.97039031 | D44: 0.15280096 | E44: - | F44: - | G44: 0.15854989 | H44: 0.1800749 | I44: 0.1791338 | J44: 0.27636902 | K44: 0.72125669 | L44: 0.015013466 | M44: 0.028872049 | N44: 0.080690659 | O44: 0.10488493 | P44: 0.12125041 | Q44: 0.48357871 | R44: 0.15971692 | S44: 0.077440989 | T44: =ROUND(SUM(C44:S44),2) -> 3.71 | V44: 1.19 | W44: 4.9
A45: 39 | B45: вул. Торська 57 | C45: 0.7141151 | D45: 0.12647141 | E45: - | F45: - | G45: 0.40228058 | H45: 0.32500771 | I45: 0.11565531 | J45: 0.38511211 | K45: 0.45386665 | L45: 0.012084417 | M45: 0.023239264 | N45: 0.071791568 | O45: 0.26611922 | P45: 0.21883848 | Q45: - | R45: 0.14127092 | S45: 0.085988985 | T45: =ROUND(SUM(C45:S45),2) -> 3.34 | V45: 1.07 | W45: 4.41
A46: 40 | B46: вул. Торська 65 | C46: 0.80040318 | D46: - | E46: - | F46: - | G46: 0.59566743 | H46: 0.41494225 | I46: 0.05738561 | J46: 0.019637991 | K46: 0.43013923 | L46: - | M46: - | N46: 0.094276161 | O46: 0.39404971 | P46: 0.2793944 | Q46: - | R46: - | S46: 0.62817892 | T46: =ROUND(SUM(C46:S46),2) -> 3.71 | V46: 1.19 | W46: 4.9
A47: 41 | B47: вул. Донська 18 | C47: 1.7154804 | D47: 0.13621945 | E47: - | F47: - | G47: 0.1467659 | H47: 0.16314447 | I47: 0.17515645 | J47: 0.25038513 | K47: 0.025790035 | L47: 0.011244749 | M47: 0.021624518 | N47: 0.082370951 | O47: 0.097089512 | P47: 0.10985059 | Q47: 0.43811322 | R47: 0.14989809 | S47: 0.10599363 | T47: =ROUND(SUM(C47:S47),2) -> 3.63 | V47: 1.16 | W47: 4.79
A48: 42 | B48: вул.Університетська 43 | C48: 1.7941794 | D48: 0.071029578 | E48: - | F48: - | G48: 0.69077716 | H48: 0.20107272 | I48: 0.16517486 | J48: 0.023014874 | K48: 0.056608999 | L48: 0.01304862 | M48: 0.0250935 | N48: 0.045684343 | O48: 0.45696731 | P48: 0.13538894 | Q48: - | R48: 0.032210991 | S48: 0 | T48: =ROUND(SUM(C48:S48),2) -> 3.71 | V48: 1.19 | W48: 4.9
A49: 43 | B49: вул.Університетська 45 | C49: 0.46358293 | D49: - | E49: - | F49: - | G49: 0.59449244 | H49: 0.4494831 | I49: 0.16358561 | J49: 0.21103876 | K49: 0.53479658 | L49: - | M49: - | N49: 0.073756184 | O49: 0.39327243 | P49: 0.30265189 | Q49: - | R49: 0.061201636 | S49: 0 | T49: =ROUND(SUM(C49:S49),2) -> 3.25 | V49: 1.04 | W49: 4.29
A50: 44 | B50: вул.Університетська 48 | C50: 0.97711341 | D50: - | E50: - | F50: - | G50: 0.56528635 | H50: 0.38156858 | I50: 0.1380972 | J50: 0.2199148 | K50: 0.42487088 | L50: - | M50: - | N50: 0.084285405 | O50: 0.37395183 | P50: 0.2569228 | Q50: - | R50: 0.080750166 | S50: 0 | T50: =ROUND(SUM(C50:S50),2) -> 3.5 | V50: 1.12 | W50: 4.62
A51: 45 | B51: вул.Університетська 56 | C51: 0.40663106 | D51: - | E51: - | F51: - | G51: 0.6341195 | H51: 0.42042639 | I51: 0.15471079 | J51: 0.18135841 | K51: 0.52771682 | L51: - | M51: - | N51: 0.07562172 | O51: 0.41948678 | P51: 0.28308704 | Q51: - | R51: 0.036354946 | S51: 0 | T51: =ROUND(SUM(C51:S51),2) -> 3.14 | V51: 1 | W51: 4.14
A52: 46 | B52: вул.Університетська 59 | C52: 1.0324063 | D52: 0.080878632 | E52: - | F52: - | G52: 0.80351562 | H52: 0.32782011 | I52: 0.36542148 | J52: 0.051194997 | K52: 0.099190219 | L52: 0.031793013 | M52: 0.061140409 | N52: 0.063841492 | O52: 0.53154678 | P52: 0.22073216 | Q52: - | R52: 0.040007595 | S52: 0 | T52: =ROUND(SUM(C52:S52),2) -> 3.71 | V52: 1.19 | W52: 4.9
A53: 47 | B53: пров. Героїв Чорнобиля 23 | C53: 0.67534653 | D53: 0.096776044 | E53: - | F53: - | G53: 0.37809101 | H53: 0.16797092 | I53: 0.13106618 | J53: 0.0080749314 | K53: 0.081137927 | L53: 0.027775545 | M53: 0.053414509 | N53: 0 | O53: 0.25011718 | P53: 0.1131004 | Q53: - | R53: 0.028730207 | S53: 1.6987627 | T53: =ROUND(SUM(C53:S53),2) -> 3.71 | V53: 1.19 | W53: 4.9
B54: Середній тариф | C54: =AVERAGE(C7:C53) -> 1.04112 | D54: =AVERAGE(D7:D53) -> 0.085569899 | E54: =AVERAGE(E7:E53) -> 1.0059087 | F54: =AVERAGE(F7:F53) -> 0.18864848 | G54: =AVERAGE(G7:G53) -> 0.3963404 | H54: =AVERAGE(H7:H53) -> 0.34792326 | I54: =AVERAGE(I7:I53) -> 0.17680109 | J54: =AVERAGE(J7:J53) -> 0.16426016 | ... W54: =AVERAGE(W7:W53) -> 4.5653191
B56: Начальник управління ЖКГ В.Г.Башкаєв
B58: Керуючий справами виконкому | N58: О.А.Огаркова

Sheet ТОВ "Арагорн"
Q1: Додаток №5 до рішення виконавчого комітету Слов'янської міської ради від__18.07.2018______№__438______
B2: Тарифи
A3: на послуги з утримання будинків і споруд та прибудинкової території будинків, які знаходяться на обслуговуванні ТОВ "Арагорн" м. Слов'янськ
A5: № п/п | B5: Будинок | C5: 1. Прибирання прибудинкової території | D5: 2. Прибирання підвалів та технічних приміщень житлового будинку | E5: 3.Технічне обслуговування ліфтів | F5: 4. Енергопостачання ліфтів | G5: 5. Поточний ремонт конструктивних елементів, інженерних систем і технічних пристроїв будинків та елементів зовнішнього благоустрою, розташованих на прибудинковій теріторії | L5: 6. Дератизація | M5: 7. Дезінсекція | N5: 8. Обслуговування димовентиляційних каналів | O5: 9. Технічне обслуговування внутнішньобудинкових систем тепло-, водопостачання, водовідведення і зливної каналізації. | R5: 10. Прибирання і вивезення снігу, посипання частини прибудинкової території призначеної для проходу та проїзду, протиожеледними сумішами | S5: 11. Освітлення місць загального користування | T5: Загальні планові витрати, без ПДВ | U5: Вартість 1 м.кв. з рентабельністю та ПДВ
G6: Поточний ремонт центрального опалення | H6: Поточний ремонт гарячого та холодного водопостачання та водовідведення | I6: Поточний ремонт електричних мереж | J6: Поточний ремонт конструктивних елементів | K6: Поточний ремонт рулонної та штферної покрівлі | O6: ТО центрального опалення | P6: ТО гарячого та холодного водопостачання та водовідведення | Q6: ТО зливової каналізації
C7: грн./м2 | D7: грн./м2 | E7: грн./м2 | F7: грн./м2 | G7: грн./м2 | H7: грн./м2 | I7: грн./м2 | J7: грн./м2 | K7: грн./м2 | L7: грн./м2 | M7: грн./м2 | N7: грн./м2 | O7: грн./м2 | P7: грн./м2 | Q7: грн./м2 | R7: грн./м2 | S7: грн./м2 | T7: грн./м2 | U7: грн/1 м.кв
A8: 1 | B8: Вул. Банківська, 54 | C8: ='[2]Прибуд. терит'!$J$3 -> 0.73573916 | D8: ='[2]Приб. підвалів'!$J$3 -> 0.038253576 | E8: 1.2284255 | F8: 0.20415122 | G8: 0.17800949 | H8: 0.22936867 | I8: 0.062754361 | J8: 0.49576001 | K8: 0.084870983 | L8: 0.0097927918 | M8: 0.018832292 | N8: 0.082169893 | O8: 0.18390715 | P8: 0.25037954 | Q8: 0.16829122 | R8: 0.054677207 | S8: 0.098295033 | T8: 4.1236781 | U8: 4.7628482
A9: 2 | B9: Вул. Банківська, 54 (для мешканців 1-го поверху) | C9: ='[2]Прибуд. терит'!$J$3 -> 0.73573916 | D9: ='[2]Приб. підвалів'!$J$3 -> 0.038253576 | E9: - | G9: 0.17800949 | H9: 0.22936867 | I9: 0.062754361 | J9: 0.49576001 | K9: 0.084870983 | L9: 0.0097927918 | M9: 0.018832292 | N9: 0.082169893 | O9: 0.18390715 | P9: 0.25037954 | Q9: 0.16829122 | R9: 0.054677207 | S9: 0.098295033 | T9: 2.6911014 | U9: 3.1082221
A10: 3 | B10: Вул. Банківська, 73 | C10: ='[2]Прибуд. терит'!$J$4 -> 0.9828049 | D10: ='[2]Приб. підвалів'!$J$4 -> 0.026788017 | E10: 1.1833944 | F10: 0.19454006 | G10: 0.17043356 | H10: 0.21960694 | I10: 0.06008359 | J10: 0.33958577 | K10: 0.073050706 | L10: 0.019437446 | M10: 0.037379703 | N10: 0.078672815 | O10: 0.17608022 | P10: 0.23972361 | Q10: 0.1611289 | R10: 0.18280327 | S10: 0.088611189 | T10: 4.2341251 | U10: 4.8904145
A11: 4 | B11: Вул. Банківська, 73 (для мешканців 1-го поверху) | C11: ='[2]Прибуд. терит'!$J$4 -> 0.9828049 | D11: ='[2]Приб. підвалів'!$J$4 -> 0.026788017 | E11: - | G11: 0.17043356 | H11: 0.21960694 | I11: 0.06008359 | J11: 0.33958577 | K11: 0.073050706 | L11: 0.019437446 | M11: 0.037379703 | N11: 0.078672815 | O11: 0.17608022 | P11: 0.23972361 | Q11: 0.1611289 | R11: 0.18280327 | S11: 0.088611189 | T11: 2.8561906 | U11: 3.2989002
A12: 5 | B12: Вул. Банківська, 77 | C12: ='[2]Прибуд. терит'!$J$5 -> 0.32695273 | D12: ='[2]Приб. підвалів'!$J$5 -> 0.049056607 | E12: 1.1214338 | F12: 0.28224799 | G12: 0.19676027 | H12: 0.17406662 | I12: 0.067896881 | J12: 0.81953248 | K12: 0.10893654 | L12: 0.016722999 | M12: 0.032159613 | N12: 0.06836315 | O12: 0.20327917 | P12: 0.19001165 | Q12: 0.16995095 | R12: 0.087746568 | S12: 0.15819209 | T12: 4.0733101 | U12: 4.7046731
A13: 6 | B13: Вул. Банківська, 77 (для мешканців 1-го поверху) | C13: ='[2]Прибуд. терит'!$J$5 -> 0.32695273 | D13: ='[2]Приб. підвалів'!$J$5 -> 0.049056607 | E13: - | G13: 0.19676027 | H13: 0.17406662 | I13: 0.067896881 | J13: 0.81953248 | K13: 0.10893654 | L13: 0.016722999 | M13: 0.032159613 | N13: 0.06836315 | O13: 0.20327917 | P13: 0.19001165 | Q13: 0.16995095 | R13: 0.087746568 | S13: 0.15819209 | T13: 2.6696283 | U13: 3.0834207
A14: 7 | B14: Вул. Поштова, 65 | C14: ='[2]Прибуд. терит'!$J$6 -> 0.412434 | D14: ='[2]Приб. підвалів'!$J$6 -> 0.033209684 | E14: 1.2054903 | F14: 0.20638008 | G14: 0.17255933 | H14: 0.22234604 | I14: 0.060832997 | J14: 0.82069531 | K14: 0.075306608 | L14: 0.014735446 | M14: 0.028337397 | N14: 0.079654079 | O14: 0.17827643 | P14: 0.24271361 | Q14: 0.16313861 | R14: 0.058692692 | S14: 0.10645964 | T14: 4.0812622 | U14: 4.7138579
A15: 8 | B15: Вул. Поштова, 65 (для мешканців 1-го поверху) | C15: ='[2]Прибуд. терит'!$J$6 -> 0.412434 | D15: ='[2]Приб. підвалів'!$J$6 -> 0.033209684 | E15: - | G15: 0.17255933 | H15: 0.22234604 | I15: 0.060832997 | J15: 0.82069531 | K15: 0.075306608 | L15: 0.014735446 | M15: 0.028337397 | N15: 0.079654079 | O15: 0.17827643 | P15: 0.24271361 | Q15: 0.16313861 | R15: 0.058692692 | S15: 0.10645964 | T15: 2.6693919 | U15: 3.0831476
A16: 9 | B16: Вул. Банківська, 75 | C16: ='[2]Прибуд. терит'!J8 -> 0.63638552 | D16: ='[2]Приб. підвалів'!J8 -> 0.10167597 | E16: - | G16: 0.26614869 | H16: 0.26161335 | I16: 0.048593138 | J16: 0.1382349 | K16: 0.17197684 | L16: 0.014026785 | M16: 0.026974586 | N16: 0.092471732 | O16: 0.27496651 | P16: 0.28557794 | Q16: - | R16: 0.23095503 | S16: 0.19821237 | T16: 4.1163088 | U16: 4.7543367
A17: 10 | B17: Вул.Університетська, 16 | C17: ='[2]Прибуд. терит'!J9 -> 0.77812378 | D17: ='[2]Приб. підвалів'!J9 -> 0.14328483 | E17: - | G17: 0.43756891 | H17: 0.41379786 | I17: 0.18702725 | J17: 0.10819998 | K17: 0.33335589 | L17: 0.035736726 | M17: 0.068724474 | N17: 0.12188663 | O17: 0.45206608 | P17: 0.45170301 | Q17: - | R17: 0.34677515 | S17: 0.27511781 | T17: 3.9700212 | U17: 4.5853745
A18: 11 | B18: Вул.Університетська, 28 | C18: ='[2]Прибуд. терит'!J10 -> 0.48236897 | D18: ='[2]Приб. підвалів'!J10 -> 0.088333574 | E18: - | G18: 0.36259737 | H18: 0.41147901 | I18: 0.1571057 | J18: 0.16237377 | K18: 0.47421174 | L18: 0.02937258 | M18: 0.05648573 | N18: 0.10731569 | O18: 0.37461065 | P18: 0.44917174 | Q18: - | R18: 0.17303746 | S18: 0.23126037 | T18: 3.9104304 | U18: 4.5165471
A19: 12 | B19: Вул.Університетська, 32 | C19: ='[2]Прибуд. терит'!J11 -> 0.47505872 | D19: ='[2]Приб. підвалів'!J11 -> 0.085270964 | E19: - | G19: 0.11214088 | H19: 0.20502767 | I19: 0.2088597 | J19: 1.0447268 | K19: 0.17698473 | L19: 0.0081731699 | M19: 0.015717634 | N19: 0.12915894 | O19: 0.11585624 | P19: 0.22380883 | Q19: 0.37304877 | R19: 0.10718219 | S19: 0.31948777 | T19: 3.6108758 | U19: 4.1705616
A20: 13 | B20: Вул.Університетська, 42 | C20: ='[2]Прибуд. терит'!J12 -> 0.21429132 | D20: ='[2]Приб. підвалів'!J12 -> 0.064552721 | E20: - | G20: 0.22795804 | H20: 0.25932773 | I20: 0.094616886 | J20: 1.2283495 | K20: 0.24027945 | L20: 0.007768988 | M20: 0.014940362 | N20: 0.13810958 | O20: 0.23551056 | P20: 0.28308294 | Q20: - | R20: 0.054163252 | S20: 0.29503995 | T20: 3.6394769 | U20: 4.2035958
A21: 14 | B21: Вул.Університетська, 44 | C21: ='[2]Прибуд. терит'!J13 -> 0.50706434 | D21: ='[2]Приб. підвалів'!J13 -> 0.08245231 | E21: - | G21: 0.38839795 | H21: 0.40902319 | I21: 0.052759477 | J21: 1.1577409 | K21: 0.21484217 | L21: 0.01623239 | M21: 0.031216135 | N21: 0.15060028 | O21: 0.40126603 | P21: 0.44649097 | Q21: - | R21: 0.031489983 | S21: 0.30976758 | T21: 3.8886711 | U21: 4.4914152
A22: 15 | B22: Вул.Шевченка,3 | C22: ='[2]Прибуд. терит'!J14 -> 0.85872905 | D22: ='[2]Приб. підвалів'!J14 -> 0.090061521 | E22: - | G22: 0.40914633 | H22: 0.46544964 | I22: 0.12350647 | J22: 0.78559389 | K22: 0.47168418 | L22: 0.037531355 | M22: 0.072175683 | N22: 0.07344695 | O22: 0.42270183 | P22: 0.50808625 | Q22: - | R22: 0.032912718 | S22: 0.18128638 | T22: 4.1730383 | U22: 4.8198593
A23: 16 | B23: Вул.Корольова, 12 | C23: ='[2]Прибуд. терит'!J15 -> 0.96993765 | D23: ='[2]Приб. підвалів'!J15 -> 0.17616531 | E23: - | G23: 0.25908409 | H23: 0.088127368 | I23: 0.14322997 | J23: 0.43468549 | K23: 0.46916178 | L23: 0.082564923 | M23: 0.1587787 | N23: 0.09734416 | O23: 0.26766785 | P23: 0.096200104 | Q23: - | R23: 0.19647261 | S23: 0.42047422 | T23: 3.6625818 | U23: 4.230282
A24: 17 | B24: Вул.Торська, 4 | C24: ='[2]Прибуд. терит'!J16 -> 0.16041874 | D24: ='[2]Приб. підвалів'!J16 -> 0.13170707 | E24: - | G24: 0.26959666 | H24: 0.36967859 | I24: 0.1441978 | J24: 0.40640582 | K24: 0.5579037 | L24: 0.046571589 | M24: 0.089560748 | N24: 0.11569673 | O24: 0.27852871 | P24: 0.40354227 | Q24: - | R24: 0.14370707 | S24: 0.14145879 | T24: 4.1129514 | U24: 4.7504589
A25: 18 | B25: Вул.Університетська, 37 | C25: ='[2]Прибуд. терит'!J17 -> 1.1005168 | D25: ='[2]Приб. підвалів'!J17 -> 0.064098752 | E25: - | G25: 0.21966716 | H25: 0.15196374 | I25: 0.21774627 | J25: 1.2751244 | K25: 0.34278191 | L25: 0.033755486 | M25: 0.064914395 | N25: 0.12589264 | O25: 0.22694499 | P25: 0.16588408 | Q25: - | R25: 0.029823838 | S25: 0.57474504 | T25: 3.7213698 | U25: 4.2981821
A26: 19 | B26: Вул.Університетська, 39 | C26: ='[2]Прибуд. терит'!J18 -> 0.69466242 | D26: ='[2]Приб. підвалів'!J18 -> 0.04200093 | E26: - | G26: 0.33376889 | H26: 0.23731212 | I26: 0.1313384 | J26: 0.40310237 | K26: 0.16683713 | L26: 0.013946113 | M26: 0.026819448 | N26: 0.14978936 | O26: 0.34482705 | P26: 0.25905063 | Q26: 0.24911612 | R26: 0.041438694 | S26: 0.42601142 | T26: 3.9479733 | U26: 4.5599092
A27: 20 | B27: Вул.Університетська, 46 | C27: ='[2]Прибуд. терит'!J19 -> 1.1202245 | D27: ='[2]Приб. підвалів'!J19 -> 0.078142163 | E27: - | G27: 0.24612434 | H27: 0.23923532 | I27: 0.11532343 | J27: 1.074827 | K27: 0.30492349 | L27: 0.027799617 | M27: 0.053460802 | N27: 0.11954426 | O27: 0.25427873 | P27: 0.26115 | Q27: - | R27: 0.067521153 | S27: 0.19371412 | T27: 3.6945656 | U27: 4.2672233
A28: 21 | B28: Вул.Університетська, 53 | C28: ='[2]Прибуд. терит'!J20 -> 0.78596752 | D28: ='[2]Приб. підвалів'!J20 -> 0.085133019 | E28: - | G28: 0.28473477 | H28: 0.1983169 | I28: 0.10897374 | J28: 0.74650504 | K28: 0.15347723 | L28: 0.012865276 | M28: 0.024740916 | N28: 0.14375672 | O28: 0.29416837 | P28: 0.21648333 | Q28: 0.21251837 | R28: 0.024686174 | S28: 0.27390338 | T28: 3.8934969 | U28: 4.4969889
A29: 22 | B29: Вул. Банківська, 81 | C29: ='[2]Прибуд. терит'!J21 -> 0.71504065 | D29: ='[2]Приб. підвалів'!J21 -> 0.085522133 | E29: - | G29: 0.31105304 | H29: 0.21664749 | I29: 0.11904628 | J29: 0.83333567 | K29: 0.22139631 | L29: 0.028192377 | M29: 0.054216109 | N29: 0.15953703 | O29: 0.32135859 | P29: 0.23649306 | Q29: - | R29: 0.059465169 | S29: 0.30828778 | T29: 3.7401294 | U29: 4.3198495
A30: 23 | B30: Вул. Банківська, 87 | C30: ='[2]Прибуд. терит'!J22 -> 0.60073707 | D30: ='[2]Приб. підвалів'!J22 -> 0.091892268 | E30: - | G30: 0.30645027 | H30: 0.21344168 | I30: 0.1172847 | J30: 0.9720077 | K30: 0.22241894 | L30: 0.016687176 | M30: 0.032090724 | N30: 0.15963219 | O30: 0.31660333 | P30: 0.23299359 | Q30: - | R30: 0.075894839 | S30: 0.22141365 | T30: 3.6874816 | U30: 4.2590412
A31: 24 | B31: Вул. Василівська, 40 | C31: ='[2]Прибуд. терит'!J23 -> 0.92726983 | D31: ='[2]Приб. підвалів'!J23 -> 0.049341644 | E31: - | G31: 0.33334143 | H31: 0.23217129 | I31: 0.12937334 | J31: 0.95321966 | K31: 0.24029107 | L31: 0.03489582 | M31: 0.067107347 | N31: 0.14425476 | O31: 0.34438542 | P31: 0.25343888 | Q31: - | R31: 0.079274739 | S31: 0.27716587 | T31: 3.781549 | U31: 4.3676891
A32: 25 | B32: Вул. Корольова, 20 | C32: ='[2]Прибуд. терит'!J24 -> 0.70938558 | D32: ='[2]Приб. підвалів'!J24 -> 0.15425161 | E32: - | G32: 0.20102978 | H32: 0.23532498 | I32: 0.12054109 | J32: 0.64239164 | K32: 0.14155917 | L32: 0.016608473 | M32: 0.031939372 | N32: 0.078159575 | O32: 0.20769013 | P32: 0.25688146 | Q32: 0.3401351 | R32: 0.064785256 | S32: 0.28676665 | T32: 3.6004241 | U32: 4.1584899
A33: 26 | B33: Вул. Центральна, 28 | C33: ='[2]Прибуд. терит'!J25 -> 1.2445564 | D33: ='[2]Приб. підвалів'!J25 -> 0.1395565 | E33: - | G33: 0.29989442 | H33: 0.29587418 | I33: 0.14988241 | J33: 0.52181093 | K33: 0.39818682 | L33: 0.023629054 | M33: 0.045440488 | N33: 0.12569929 | O33: 0.30983028 | P33: 0.32297716 | Q33: - | R33: 0.042917997 | S33: 0.54629319 | T33: 3.9460734 | U33: 4.5577148
A34: 27 | B34: Вул. Центральна, 43 | C34: ='[2]Прибуд. терит'!J26 -> 0.61851895 | D34: ='[2]Приб. підвалів'!J26 -> 0.17099934 | E34: - | G34: 0.38731511 | H34: 0.27630304 | I34: 0.31346164 | J34: 0.23575064 | K34: 0.32581363 | L34: 0.003821233 | M34: 0.007348525 | N34: 0.10691144 | O34: 0.40014731 | P34: 0.30161324 | Q34: - | R34: 0.036356692 | S34: 0.11427522 | T34: 3.8932306 | U34: 4.4966813
A35: 28 | B35: Вул. Л.Толстого, 6 | C35: ='[2]Прибуд. терит'!J27 -> 1.0507392 | D35: ='[2]Приб. підвалів'!J27 -> 0.16262769 | E35: - | G35: 0.36007823 | H35: 0.29011269 | I35: 0.077721233 | J35: 0.25260988 | K35: 0.59302688 | L35: 0.063714558 | M35: 0.122528 | N35: 0.12325158 | O35: 0.37200805 | P35: 0.3166879 | Q35: - | R35: 0.12393503 | S35: 0.18012866 | T35: 3.665321 | U35: 4.2334457
A36: 29 | B36: Вул. Л.Толстого, 10 | C36: ='[2]Прибуд. терит'!J28 -> 0.71539893 | D36: ='[2]Приб. підвалів'!J28 -> 0.18139172 | E36: - | G36: 0.35276572 | H36: 0.28422105 | I36: 0.050761907 | J36: 0.1546749 | K36: 0.56385989 | L36: 0.061955338 | M36: 0.11914488 | N36: 0.12074857 | O36: 0.36445326 | P36: 0.31025656 | Q36: - | R36: 0.099652036 | S36: 0.17254902 | T36: 3.8684101 | U36: 4.4680136
A37: 30 | B37: Вул. Л.Толстого, 12 | C37: ='[2]Прибуд. терит'!J29 -> 0.74617555 | D37: ='[2]Приб. підвалів'!J29 -> 0.091628002 | E37: - | G37: 0.45644071 | H37: 0.35495106 | I37: 0.035069184 | J37: 0.10685813 | K37: 0.47151141 | L37: 0.12561146 | M37: 0.2415605 | N37: 0.12512987 | O37: 0.47156313 | P37: 0.38746566 | Q37: - | R37: 0.097470364 | S37: 0.32781809 | T37: 4.0982402 | U37: 4.7334674
A38: 31 | B38: Вул. Л.Толстого, 16 | C38: ='[2]Прибуд. терит'!J30 -> 0.79222749 | D38: ='[2]Приб. підвалів'!J30 -> 0.14398381 | E38: - | G38: 0.46515215 | H38: 0.29481912 | I38: 0.078982086 | J38: 0.16044244 | K38: 0.55697309 | L38: 0.086351897 | M38: 0.16606134 | N38: 0.12525106 | O38: 0.48056319 | P38: 0.32182545 | Q38: - | R38: 0.050595855 | S38: 0.24813559 | T38: 3.8729568 | U38: 4.4732651
A39: 32 | B39: Вул. Л.Толстого, 18 | C39: ='[2]Прибуд. терит'!J31 -> 1.4830802 | D39: ='[2]Приб. підвалів'!J31 -> 0.17824335 | E39: - | G39: 0.4669612 | H39: 0.29596572 | I39: 0.052859507 | J39: 0.064426571 | K39: 0.55913924 | L39: 0.11578026 | M39: 0.22265435 | N39: 0.12573818 | O39: 0.48243218 | P39: 0.32307708 | Q39: - | R39: 0.050628783 | S39: 0.2164317 | T39: 3.9123061 | U39: 4.5187135
A40: 33 | B40: Вул. Л.Толстого, 20 | C40: ='[2]Прибуд. терит'!J32 -> 0.78759605 | D40: ='[2]Приб. підвалів'!J32 -> 0.095404961 | E40: - | G40: 0.29917088 | H40: 0.29127555 | I40: 0.12596434 | J40: 0.062921592 | K40: 0.55627806 | L40: 0.045193239 | M40: 0.086910075 | N40: 0.11052089 | O40: 0.30908277 | P40: 0.31795728 | Q40: - | R40: 0.066141512 | S40: 0.22001709 | T40: 4.1527568 | U40: 4.7964341
A41: 34 | B41: Вул. Л.Толстого, 22 | C41: ='[2]Прибуд. терит'!J33 -> 0.30162712 | D41: ='[2]Приб. підвалів'!J33 -> 0.096183059 | E41: - | G41: 0.23718675 | H41: 0.23400714 | I41: 0.1094235 | J41: 0.98785136 | K41: 0.41819281 | L41: 0.033333566 | M41: 0.064103012 | N41: 0.10845346 | O41: 0.24504502 | P41: 0.25544291 | Q41: - | R41: 0.048390311 | S41: 0.17493885 | T41: 3.7993697 | U41: 4.388272
A42: 35 | B42: Вул.Шевченка, 5 | C42: ='[2]Прибуд. терит'!J34 -> 0.91551377 | D42: ='[2]Приб. підвалів'!J34 -> 0.18326734 | E42: - | G42: 0.27961667 | H42: 0.31355098 | I42: 0.164592 | J42: 1.2385683 | K42: 0.27346362 | L42: 0.019459129 | M42: 0.037421402 | N42: 0.12046737 | O42: 0.2888807 | P42: 0.3422732 | Q42: - | R42: 0.016092516 | S42: 0.15845366 | T42: 3.6506497 | U42: 4.2165004
A43: 36 | B43: Вул.Університетська, 38 | C43: ='[2]Прибуд. терит'!J35 -> 0.59725363 | D43: ='[2]Приб. підвалів'!J35 -> 0.072289881 | E43: - | G43: 0.39783513 | H43: 0.51778436 | I43: 0.13739342 | J43: 0.097684269 | K43: 0.23868962 | L43: 0.02801675 | M43: 0.053878365 | N43: 0.10894034 | O43: 0.41101587 | P43: 0.56521499 | Q43: - | R43: 0.17583104 | S43: 0.29719797 | T43: 4.1282632 | U43: 4.768144
A44: 37 | B44: Вул. Банківська, 81 А | C44: ='[2]Прибуд. терит'!J36 -> 0.77498962 | D44: ='[2]Приб. підвалів'!J36 -> 0.045738276 | E44: - | G44: 0.25399091 | H44: 0.17690389 | I44: 0.097207446 | J44: 1.2855808 | K44: 0.18078154 | L44: 0.0083701115 | M44: 0.016096368 | N44: 0.14248308 | O44: 0.26240593 | P44: 0.19310883 | Q44: - | R44: 0.047660471 | S44: 0.20466522 | T44: 3.5387981 | U44: 4.0873118
A45: 38 | B45: Вул. Вчительська, 2 общ. | C45: ='[2]Прибуд. терит'!$J$36 -> 0.77498962 | D45: ='[2]Приб. підвалів'!$J$36 -> 0.045738276 | E45: 0.66238067 | F45: 0.22127082 | G45: 0.097772343 | H45: 0.11844949 | I45: 0.1093357 | J45: 0.65404297 | K45: 0.1028254 | L45: 0.01259634 | M45: 0.02422373 | N45: 0.03191159 | O45: 0.10101166 | P45: 0.12929982 | Q45: 0.1109362 | R45: 0.07001032 | S45: 0.19475632 | T45: 3.4615513 | U45: 3.9980917
A46: 39 | B46: Вул. Вчительська, 2 общ. (для мешканців 1-го поверху) | C46: ='[2]Прибуд. терит'!$J$36 -> 0.77498962 | D46: ='[2]Приб. підвалів'!$J$36 -> 0.045738276 | E46: - | G46: 0.097772343 | H46: 0.11844949 | I46: 0.1093357 | J46: 0.65404297 | K46: 0.1028254 | L46: 0.01259634 | M46: 0.02422373 | N46: 0.03191159 | O46: 0.10101166 | P46: 0.12929982 | Q46: 0.1109362 | R46: 0.07001032 | S46: 0.19475632 | T46: 2.5778998 | U46: 2.9774742
A47: 40 | B47: вул. Банківська 10А | C47: 0 | D47: 0 | E47: 0 | F47: 0 | G47: 0 | H47: 0 | I47: 0 | J47: 0 | K47: 0 | L47: 0 | M47: 0 | N47: 0 | O47: 0 | P47: 0 | Q47: 0 | R47: 0 | S47: 0 | T47: 0 | U47: 0
A48: 41 | B48: вул. Банківська 10Б | C48: 0 | D48: 0 | E48: 0 | F48: 0 | G48: 0 | H48: 0 | I48: 0 | J48: 0 | K48: 0 | L48: 0 | M48: 0 | N48: 0 | O48: 0 | P48: 0 | Q48: 0 | R48: 0 | S48: 0 | T48: 0 | U48: 0
A49: 42 | B49: вул. Банківська 10В | C49: 0 | D49: 0 | E49: 0 | F49: 0 | G49: 0 | H49: 0 | I49: 0 | J49: 0 | K49: 0 | L49: 0 | M49: 0 | N49: 0 | O49: 0 | P49: 0 | Q49: 0 | R49: 0 | S49: 0 | T49: 0 | U49: 0
A50: 43 | B50: пров. Ординаторськай 10 | C50: 0 | D50: 0 | E50: 0 | F50: 0 | G50: 0 | H50: 0 | I50: 0 | J50: 0 | K50: 0 | L50: 0 | M50: 0 | N50: 0 | O50: 0 | P50: 0 | Q50: 0 | R50: 0 | S50: 0 | T50: 0 | U50: 0
A51: 44 | B51: вул. Целінна 89 | C51: 0 | D51: 0 | E51: 0 | F51: 0 | G51: 0 | H51: 0 | I51: 0 | J51: 0 | K51: 0 | L51: 0 | M51: 0 | N51: 0 | O51: 0 | P51: 0 | Q51: 0 | R51: 0 | S51: 0 | T51: 0 | U51: 0
A52: 45 | B52: вул. Целінна 91 | C52: 0 | D52: 0 | E52: 0 | F52: 0 | G52: 0 | H52: 0 | I52: 0 | J52: 0 | K52: 0 | L52: 0 | M52: 0 | N52: 0 | O52: 0 | P52: 0 | Q52: 0 | R52: 0 | S52: 0 | T52: 0 | U52: 0
A53: 46 | B53: вул.Василівська 35а | C53: 0 | D53: 0 | E53: 0 | F53: 0 | G53: 0 | H53: 0 | I53: 0 | J53: 0 | K53: 0 | L53: 0 | M53: 0 | N53: 0 | O53: 0 | P53: 0 | Q53: 0 | R53: 0 | S53: 0 | T53: 0 | U53: 0
A54: 47 | B54: вул.Василівська 35б | C54: 0 | D54: 0 | E54: 0 | F54: 0 | G54: 0 | H54: 0 | I54: 0 | J54: 0 | K54: 0 | L54: 0 | M54: 0 | N54: 0 | O54: 0 | P54: 0 | Q54: 0 | R54: 0 | S54: 0 | T54: 0 | U54: 0
A55: 48 | B55: вул. Банківська34 | C55: 0 | D55: 0 | E55: 0 | F55: 0 | G55: 0 | H55: 0 | I55: 0 | J55: 0 | K55: 0 | L55: 0 | M55: 0 | N55: 0 | O55: 0 | P55: 0 | Q55: 0 | R55: 0 | S55: 0 | T55: 0 | U55: 0
A56: 49 | B56: вул. Банківська 42 | C56: 0 | D56: 0 | E56: 0 | F56: 0 | G56: 0 | H56: 0 | I56: 0 | J56: 0 | K56: 0 | L56: 0 | M56: 0 | N56: 0 | O56: 0 | P56: 0 | Q56: 0 | R56: 0 | S56: 0 | T56: 0 | U56: 0
A57: 50 | B57: вул.Надії 9 | C57: 0 | D57: 0 | E57: 0 | F57: 0 | G57: 0 | H57: 0 | I57: 0 | J57: 0 | K57: 0 | L57: 0 | M57: 0 | N57: 0 | O57: 0 | P57: 0 | Q57: 0 | R57: 0 | S57: 0 | T57: 0 | U57: 0
A58: 51 | B58: вул. Університетська 1 А | C58: 0 | D58: 0 | E58: 0 | F58: 0 | G58: 0 | H58: 0 | I58: 0 | J58: 0 | K58: 0 | L58: 0 | M58: 0 | N58: 0 | O58: 0 | P58: 0 | Q58: 0 | R58: 0 | S58: 0 | T58: 0 | U58: 0
... A60: 53 | B60: вул. Університетська 9 | C60: 0 | D60: 0 | E60: 0 | F60: 0 | G60: 0 | H60: 0 | I60: 0 | J60: 0 | K60: 0 | L60: 0 | M60: 0 | N60: 0 | O60: 0 | P60: 0 | Q60: 0 | R60: 0 | S60: 0 | T60: 0 | U60: 0
B61: Середній тариф | C61: =AVERAGE(C8:C60) -> 0.53263585 | D61: =AVERAGE(D8:D60) -> 0.067194208 | E61: =AVERAGE(E8:E60) -> 0.28426972 | F61: =AVERAGE(F8:F60) -> 0.058346852 | G61: =AVERAGE(G8:G60) -> 0.20483559 | H61: =AVERAGE(H8:H60) -> 0.19172419 | I61: =AVERAGE(I8:I60) -> 0.081785837 | J61: =AVERAGE(J8:J60) -> 0.44896674 | ... U61: =AVERAGE(U8:U60) -> 3.1624305
B63: Начальник управління ЖКГ В.Г.Башкаєв
B65: Керуючий справами виконкому | N65: О.А.Огаркова

Sheet ТОВ "Ліра ЛТД"
Q1: Додаток №6 до рішення виконавчого комітету Слов'янської міської ради від___18.07.2018_______№__438______
B2: Тарифи
A3: на послуги з утримання будинків і споруд та прибудинкової території будинків, які знаходяться на обслуговуванні ТОВ "Ліра ЛТД" м. Слов'янськ
A4: № п/п | B4: Будинок | C4: 1. Прибирання прибудинкової території | D4: 2. Прибирання підвалів та технічних приміщень житлового будинку | E4: 3.Технічне обслуговування ліфтів | F4: 4. Енергопостачання ліфтів | G4: 5. Поточний ремонт конструктивних елементів, інженерних систем і технічних пристроїв будинків та елементів зовнішнього благоустрою, розташованих на прибудинковій теріторії | L4: 6. Дератизація | M4: 7. Дезінсекція | N4: 8. Обслуговування димовентиляційних каналів | O4: 9. Технічне обслуговування внутнішньобудинкових систем тепло-, водопостачання, водовідведення і зливної каналізації. | R4: 10. Прибирання і вивезення снігу, посипання частини прибудинкової території призначеної для проходу та проїзду, протиожеледними сумішами | S4: 11. Освітлення місць загального користування | T4: Загальні планові витрати, без ПДВ | U4: Вартість 1 м.кв. з рентабельністю та ПДВ
G5: Поточний ремонт центрального опалення | H5: Поточний ремонт гарячого та холодного водопостачання та водовідведення | I5: Поточний ремонт електричних мереж | J5: Поточний ремонт конструктивних елементів | K5: Поточний ремонт рулонної та штферної покрівлі | O5: ТО центрального опалення | P5: ТО гарячого та холодного водопостачання та водовідведення | Q5: ТО зливової каналізації
C6: грн./м2 | D6: грн./м2 | E6: грн./м2 | F6: грн./м2 | G6: грн./м2 | H6: грн./м2 | I6: грн./м2 | J6: грн./м2 | K6: грн./м2 | L6: грн./м2 | M6: грн./м2 | N6: грн./м2 | O6: грн./м2 | P6: грн./м2 | Q6: грн./м2 | R6: грн./м2 | S6: грн./м2 | T6: грн./м2 | U6: грн/1 м.кв
A7: 1 | B7: вул.Батюка 18 А | C7: 0.80347174 | D7: 0.11713658 | E7: - | F7: - | G7: 0.50159474 | H7: 0.33412488 | I7: 0.22641897 | J7: 0.57722962 | K7: 0.44619835 | L7: 0.011587732 | M7: 0.022284101 | N7: 0.08938755 | O7: 0.44432053 | P7: 0.29462977 | Q7: 0.034951434 | R7: 0.12264049 | S7: 0.19414834 | T7: 4.2201248 | U7: 4.8742442
A8: 2 | B8: вул.Батюка 44 | C8: 0.73689179 | D8: 0.061969785 | E8: - | F8: - | G8: 0.43975718 | H8: 0.41784666 | I8: 0.2516398 | J8: 0.68154876 | K8: 0.40360873 | L8: 0.0092104767 | M8: 0.017712455 | N8: 0.11157326 | O8: 0.38954384 | P8: 0.36845525 | Q8: 0.043709226 | R8: 0.11403958 | S8: 0.19599922 | T8: 4.243506 | U8: 4.9012494
A9: 3 | B9: вул.Батюка 48 | C9: 0.30588459 | D9: 0.019651618 | E9: 1.0280617 | F9: 0.2228835 | G9: 0.46575058 | H9: 0.3163889 | I9: 0.098947443 | J9: 0.58606239 | K9: 0.22032094 | L9: 0.0029207907 | M9: 0.0056169051 | N9: 0.086264761 | O9: 0.41256921 | P9: 0.27899026 | Q9: 0.033096146 | R9: 0.056881406 | S9: 0.1061504 | T9: 4.2464416 | U9: 4.90464
A10: 4 | B10: вул.Батюка 48 (для мешканців 1-го поверху) | C10: 0.30588459 | D10: 0.019651618 | E10: - | F10: - | G10: 0.46575058 | H10: 0.3163889 | I10: 0.098947443 | J10: 0.58606239 | K10: 0.22032094 | L10: 0.0029207907 | M10: 0.0056169051 | N10: 0.086264761 | O10: 0.41256921 | P10: 0.27899026 | Q10: 0.033096146 | R10: 0.056881406 | S10: 0.1061504 | T10: 2.9954963 | U10: 3.4597983
A11: 5 | B11: вул.Батюка 54 | C11: 0.26203405 | D11: 0.036331486 | E11: 1.0609518 | F11: 0.22838904 | G11: 0.48949138 | H11: 0.33106801 | I11: 0.11073128 | J11: 0.479508 | K11: 0.22713007 | L11: 0.0053998945 | M11: 0.010384413 | N11: 0.090661953 | O11: 0.43359918 | P11: 0.29193424 | Q11: 0.034631668 | R11: 0.055708892 | S11: 0.098796807 | T11: 4.2467521 | U11: 4.9049987
A12: 6 | B12: вул. Батюка 54 (для мешканців 1-го поверху) | C12: 0.26203405 | D12: 0.036331486 | E12: - | F12: - | G12: 0.48949138 | H12: 0.33106801 | I12: 0.11073128 | J12: 0.479508 | K12: 0.22713007 | L12: 0.0053998945 | M12: 0.010384413 | N12: 0.090661953 | O12: 0.43359918 | P12: 0.29193424 | Q12: 0.034631668 | R12: 0.055708892 | S12: 0.098796807 | T12: 2.9574113 | U12: 3.4158101
A13: 7 | B13: вул.Батюка 58 | C13: 0.6378031 | D13: 0.081025675 | E13: - | F13: - | G13: 0.43763949 | H13: 0.33404509 | I13: 0.27189326 | J13: 0.68131167 | K13: 0.54905566 | L13: 0.0091173669 | M13: 0.017533398 | N13: 0.11228357 | O13: 0.38766796 | P13: 0.29455941 | Q13: 0.034943087 | R13: 0.14629213 | S13: 0.1690996 | T13: 4.1642705 | U13: 4.8097324
A14: 8 | B14: вул.Батюка 60 | C14: 0.50644596 | D14: 0.089125334 | E14: - | F14: - | G14: 0.46643133 | H14: 0.47624694 | I14: 0.2292021 | J14: 0.55656989 | K14: 0.59677771 | L14: 0.013246565 | M14: 0.025474164 | N14: 0.11101328 | O14: 0.41317223 | P14: 0.41995234 | Q14: 0.04981824 | R14: 0.094430333 | S14: 0.1972089 | T14: 4.2451153 | U14: 4.9031082
A15: 9 | B15: вул.Батюка 62 | C15: 0.72148971 | D15: 0.061423399 | E15: - | F15: - | G15: 0.43727541 | H15: 0.3337672 | I15: 0.25021967 | J15: 0.81385142 | K15: 0.51060376 | L15: 0.0091292682 | M15: 0.017556285 | N15: 0.11219016 | O15: 0.38734546 | P15: 0.29431437 | Q15: 0.034914018 | R15: 0.093591135 | S15: 0.15560502 | T15: 4.2332763 | U15: 4.8894341
A16: 10 | B16: вул.Батюка 64 | C16: 0.56809164 | D16: 0.078662137 | E16: - | F16: - | G16: 0.43726558 | H16: 0.33375969 | I16: 0.25021405 | J16: 0.92792188 | K16: 0.58599937 | L16: 0.009129063 | M16: 0.01755589 | N16: 0.11094111 | O16: 0.38733675 | P16: 0.29430775 | Q16: 0.034913233 | R16: 0.13538863 | S16: 0.070669864 | T16: 4.2421566 | U16: 4.8996909
A17: 11 | B17: вул.Бульварна 5 | C17: 0.90932761 | D17: 0.061708546 | E17: - | F17: - | G17: 0.44213657 | H17: 0.33747766 | I17: 0.25300134 | J17: 0.59548659 | K17: 0.34590191 | L17: 0.0091716492 | M17: 0.017637787 | N17: 0.11217695 | O17: 0.39165155 | P17: 0.29758623 | Q17: 0.035302154 | R17: 0.13689681 | S17: 0.25283774 | T17: 4.1983011 | U17: 4.8490378
A18: 12 | B18: вул.Бульварна 8 | C18: 0.66417129 | D18: 0.066717149 | E18: - | F18: - | G18: 0.60999959 | H18: 0.40633608 | I18: 0.23067285 | J18: 0.59143256 | K18: 0.31644673 | L18: 0.0099160703 | M18: 0.019069366 | N18: 0.081529516 | O18: 0.54034726 | P18: 0.35830527 | Q18: 0.042505152 | R18: 0.06202725 | S18: 0.19619016 | T18: 4.1956663 | U18: 4.8459946
A19: 13 | B19: вул.Бульварна 8А | C19: 0.72768229 | D19: 0.055802604 | E19: - | F19: - | G19: 0.59731504 | H19: 0.40274932 | I19: 0.21300101 | J19: 0.5562601 | K19: 0.36150232 | L19: 0.0082938578 | M19: 0.015949726 | N19: 0.10478752 | O19: 0.52911108 | P19: 0.35514249 | Q19: 0.042129956 | R19: 0.12401817 | S19: 0.1185795 | T19: 4.212325 | U19: 4.8652354
A20: 14 | B20: вул.Бульварна 9 | C20: 0.71896251 | D20: 0.0614498 | E20: - | F20: - | G20: 0.43839911 | H20: 0.3346249 | I20: 0.24369517 | J20: 0.58381853 | K20: 0.68506734 | L20: 0.0091331921 | M20: 0.017563831 | N20: 0.1112287 | O20: 0.38834084 | P20: 0.29507068 | Q20: 0.035003739 | R20: 0.10788882 | S20: 0.18207315 | T20: 4.2123203 | U20: 4.86523
A21: 15 | B21: вул.Бульварна 11 | C21: 0.6950675 | D21: 0.061770335 | E21: - | F21: - | G21: 0.44257928 | H21: 0.33781557 | I21: 0.25325467 | J21: 0.52910725 | K21: 0.68382537 | L21: 0.0091808327 | M21: 0.017655448 | N21: 0.11228927 | O21: 0.39204371 | P21: 0.29788421 | Q21: 0.035337502 | R21: 0.092242872 | S21: 0.2634406 | T21: 4.2234944 | U21: 4.8781361
A22: 16 | B22: вул.Бульварна 13 | C22: 0.82992162 | D22: 0.061853382 | E22: - | F22: - | G22: 0.4431743 | H22: 0.33826975 | I22: 0.2528706 | J22: 0.46275296 | K22: 0.56498178 | L22: 0.0091931759 | M22: 0.017679185 | N22: 0.11370362 | O22: 0.39257079 | P22: 0.2982847 | Q22: 0.035385012 | R22: 0.12238613 | S22: 0.26185161 | T22: 4.2048786 | U22: 4.8566348
A23: 17 | B23: вул.Ясна 25 | C23: 0.76090043 | D23: 0.06159652 | E23: - | F23: - | G23: 0.44133391 | H23: 0.336865 | I23: 0.25398514 | J23: 0.54765454 | K23: 0.59154618 | L23: 0.0091549988 | M23: 0.017605767 | N23: 0.11323143 | O23: 0.39094053 | P23: 0.29704599 | Q23: 0.035238066 | R23: 0.097113149 | S23: 0.26548315 | T23: 4.2196948 | U23: 4.8737475
A24: 18 | B24: вул.Олімпійська 11 | C24: 0.77436502 | D24: 0.10328843 | E24: - | F24: - | G24: 0.33140622 | H24: 0.37262014 | I24: 0.2516119 | J24: 0.54053656 | K24: 0.74447372 | L24: 0.0087572728 | M24: 0.016840909 | N24: 0.15186552 | O24: 0.24114256 | P24: 0.32857471 | Q24: 0.038978265 | R24: 0.26690112 | S24: - | T24: 4.1713623 | U24: 4.8179235
A25: 19 | B25: вул.Банківська ,89 | C25: 0.29766118 | D25: 0.042699862 | E25: 0.54243867 | F25: 0.66265794 | G25: 0.23374254 | H25: 0.21628751 | I25: 0.12666438 | J25: 0.55350874 | K25: 0.74452358 | L25: 0.0063464167 | M25: 0.012204648 | N25: 0.17538733 | O25: 0.20705283 | P25: 0.19072132 | Q25: 0.02262495 | R25: 0.20537938 | S25: - | T25: 4.2399013 | U25: 4.897086
A26: 20 | B26: вул.Банківська ,89 (для мешканців 1-го поверху) | C26: 0.29766118 | D26: 0.042699862 | E26: - | F26: - | G26: 0.23374254 | H26: 0.21628751 | I26: 0.12666438 | J26: 0.55350874 | K26: 0.74452358 | L26: 0.0063464167 | M26: 0.012204648 | N26: 0.17538733 | O26: 0.20705283 | P26: 0.19072132 | Q26: 0.02262495 | R26: 0.20537938 | S26: - | T26: 3.0348047 | U26: 3.5051994
A27: 21 | B27: вул.Лозановича 8 | C27: 0.86495016 | D27: 0.07991027 | E27: - | F27: - | G27: 0.23832179 | H27: 0.22631186 | I27: 0.20093304 | J27: 0.91352029 | K27: 0.6174234 | L27: 0.010284861 | M27: 0.019778578 | N27: 0.15888261 | O27: 0.2111092 | P27: 0.19956075 | Q27: 0.023673556 | R27: 0.24566824 | S27: 0.13686324 | T27: 4.1471918 | U27: 4.7900066
A28: 22 | B28: вул.Лозановича 12 | C28: 0.90387258 | D28: 0.095576664 | E28: - | F28: - | G28: 0.412128 | H28: 0.18260917 | I28: 0.1781163 | J28: 0.68645787 | K28: 0.64402295 | L28: 0.010489964 | M28: 0.020173007 | N28: 0.15211697 | O28: 0.33553312 | P28: 0.16102392 | Q28: 0.019101997 | R28: 0.22251853 | S28: 0.158502 | T28: 4.182243 | U28: 4.8304907
A29: 23 | B29: вул.Шевченко 15 | C29: 0.69277562 | D29: 0.083950715 | E29: - | F29: - | G29: 0.22209163 | H29: 0.37086441 | I29: 0.27293918 | J29: 0.094819514 | K29: 0.15082645 | L29: 0.01247747 | M29: 0.023995134 | N29: 0.082555796 | O29: 0.68192475 | P29: 0.84711687 | Q29: 0.19397303 | R29: 0.36642448 | S29: 0.14929841 | T29: 4.2460334 | U29: 4.9041686
A30: 24 | B30: вул.Шевченко 19 | C30: 0.65470566 | D30: 0.047422319 | E30: - | F30: - | G30: 0.42054308 | H30: 0.70086572 | I30: 0.2066842 | J30: 0.11644436 | K30: 0.60076537 | L30: 0.0070483085 | M30: 0.013554439 | N30: 0.041771843 | O30: 0.37252369 | P30: 0.61802014 | Q30: 0.073314689 | R30: 0.18229534 | S30: 0.16854504 | T30: 4.2245042 | U30: 4.8793024
A31: 25 | B31: вул.Василівська 47 | C31: 0.40414424 | D31: 0.056569979 | E31: - | F31: - | G31: 0.45624157 | H31: 0.53229907 | I31: 0.28455906 | J31: 0.42607238 | K31: 0.57608111 | L31: 0.0084079116 | M31: 0.016169061 | N31: 0.18450051 | O31: 0.40414598 | P31: 0.46937885 | Q31: 0.055681623 | R31: 0.063752141 | S31: 0.30861415 | T31: 4.2466176 | U31: 4.9048434
A32: 26 | B32: вул.Василівська 49 | C32: 0.35490521 | D32: 0.072623831 | E32: - | F32: - | G32: 0.35552298 | H32: 0.41479024 | I32: 0.21428715 | J32: 0.67403918 | K32: 0.54092149 | L32: 0.010793972 | M32: 0.020757638 | N32: 0.15595466 | O32: 0.31492787 | P32: 0.36576011 | Q32: 0.043389507 | R32: 0.13967054 | S32: 0.55295152 | T32: 4.2312959 | U32: 4.8871468
A33: 27 | B33: вул.Василівська 51а | C33: 0.72174235 | D33: 0.066928609 | E33: - | F33: - | G33: 0.38094835 | H33: 0.4829136 | I33: 0.2076491 | J33: 0.50607732 | K33: 0.50005661 | L33: 0.0099474994 | M33: 0.019129806 | N33: 0.15973542 | O33: 0.33745006 | P33: 0.42583098 | Q33: 0.050515612 | R33: 0.1452322 | S33: 0.17602422 | T33: 4.1901817 | U33: 4.8396599
A34: 28 | B34: вул.Василівська 53 а | C34: 0.7240959 | D34: 0.068995632 | E34: - | F34: - | G34: 0.38341016 | H34: 0.48603434 | I34: 0.21952835 | J34: 0.50934775 | K34: 0.51308537 | L34: 0.010254718 | M34: 0.019720611 | N34: 0.15617432 | O34: 0.33963077 | P34: 0.42858283 | Q34: 0.050842059 | R34: 0.12464338 | S34: 0.19364671 | T34: 4.2279929 | U34: 4.8833318
A35: 29 | B35: вул.Василівська 56 | C35: 0.87778968 | D35: 0.072492702 | E35: - | F35: - | G35: 0.40331412 | H35: 0.30675949 | I35: 0.19212936 | J35: 0.5357895 | K35: 0.34810869 | L35: 0.010774482 | M35: 0.020720158 | N35: 0.19085678 | O35: 0.35726201 | P35: 0.45083183 | Q35: 0.053481422 | R35: 0.10416655 | S35: 0.29733953 | T35: 4.2218163 | U35: 4.8761978
A36: 30 | B36: вул.Василівська 58 | C36: 0.68159541 | D36: 0.073650655 | E36: - | F36: - | G36: 0.40316186 | H36: 0.51107281 | I36: 0.20683043 | J36: 0.44442345 | K36: 0.43153761 | L36: 0.010946587 | M36: 0.021051129 | N36: 0.18595474 | O36: 0.35712714 | P36: 0.45066164 | Q36: 0.053461232 | R36: 0.12314177 | S36: 0.26457468 | T36: 4.2191911 | U36: 4.8731658
A37: 31 | B37: вул.Василівська 60 | C37: 0.60178558 | D37: 0.071716639 | E37: - | F37: - | G37: 0.41264027 | H37: 0.52308823 | I37: 0.21169306 | J37: 0.58316913 | K37: 0.41141749 | L37: 0.010659137 | M37: 0.020498341 | N37: 0.19774189 | O37: 0.36552326 | P37: 0.46125677 | Q37: 0.054718115 | R37: 0.10819708 | S37: 0.17172575 | T37: 4.2058307 | U37: 4.8577345
A38: 32 | B38: вул.Василівська 62 | C38: 0.66589647 | D38: 0.070475692 | E38: - | F38: - | G38: 0.40316186 | H38: 0.51107281 | I38: 0.20683043 | J38: 0.55837818 | K38: 0.41284146 | L38: 0.010474697 | M38: 0.020143648 | N38: 0.19078473 | O38: 0.35712714 | P38: 0.45066164 | Q38: 0.053461232 | R38: 0.11182359 | S38: 0.17303792 | T38: 4.1961715 | U38: 4.8465781
A39: 33 | B39: вул.Трунова 22 | C39: 0.80430268 | D39: - | E39: - | F39: - | G39: 0.46008379 | H39: 0.48876364 | I39: 0.14835146 | J39: 0.55899439 | K39: 0.38795757 | L39: - | M39: 0 | N39: 0.090843403 | O39: 0.40754948 | P39: 0.43098951 | Q39: 0.051127561 | R39: 0.28878752 | S39: - | T39: 4.117751 | U39: 4.7560024
A40: 34 | B40: вул.Добровольського 6 | C40: 0.48712646 | D40: 0.13193321 | E40: - | F40: - | G40: 0.54687297 | H40: - | I40: 0.15485302 | J40: 0.67788102 | K40: 0.45872533 | L40: 0.013014069 | M40: 0.025027056 | N40: 0.050626719 | O40: 0.4844287 | P40: 0.32860638 | Q40: 0.038982022 | R40: 0.24913173 | S40: 0.51191158 | T40: 4.1591203 | U40: 4.8037839
A41: 35 | B41: вул.Корольова 23 | C41: 0.59090879 | D41: 0.072069878 | E41: - | F41: - | G41: 0.47474224 | H41: 0.50433584 | I41: 0.16036742 | J41: 0.56226288 | K41: 0.42219679 | L41: 0.010711638 | M41: 0.020599305 | N41: 0.1882698 | O41: 0.42053416 | P41: 0.444721 | Q41: 0.052756504 | R41: 0.12866666 | S41: 0.10876484 | T41: 4.1619077 | U41: 4.8070034
A42: 36 | B42: вул.Корольова 25 | C42: 0.58121577 | D42: 0.072374402 | E42: - | F42: - | G42: 0.47708006 | H42: 0.50681939 | I42: 0.16665113 | J42: 0.56503169 | K42: 0.41553077 | L42: 0.010756899 | M42: - | N42: 0.19159182 | O42: 0.42260505 | P42: 0.44691099 | Q42: 0.053016299 | R42: 0.10505646 | S42: 0.19421615 | T42: 4.2088569 | U42: 4.8612297
A43: 37 | B43: вул.Ком'яхова 33 | C43: 0.88401349 | D43: 0.057801363 | E43: - | F43: - | G43: 0.28450544 | H43: 0.46558499 | I43: 0.17061797 | J43: 0.59562377 | K43: 0.55616405 | L43: 0.0085909303 | M43: 0.01652102 | N43: 0.092968029 | O43: 0.2520194 | P43: 0.41055069 | Q43: 0.048702937 | R43: 0.04033393 | S43: 0.28566308 | T43: 4.1696611 | U43: 4.8159586
A44: 38 | B44: вул.Ком'яхова 39 | C44: 0.75147823 | D44: - | E44: - | F44: - | G44: 0.10979914 | H44: 0.73235326 | I44: 0.060864226 | J44: 0.029031607 | K44: 0.15543192 | L44: - | M44: - | N44: 0.15918869 | O44: 0.48630903 | P44: 0.64578571 | Q44: 0.076608473 | R44: 0.084553156 | S44: 0.95164382 | T44: 4.2430473 | U44: 4.9007196
A45: 39 | B45: вул.Ком'яхова 43 | C45: 0.26411852 | D45: - | E45: - | F45: - | G45: 0.090020813 | H45: 0.65398921 | I45: 0.050430588 | J45: 0.036082304 | K45: 0.032821938 | L45: - | M45: - | N45: 0.1318998 | O45: 0.39870928 | P45: 0.64076073 | Q45: 0.076012367 | R45: 0.15299572 | S45: 1.6628011 | T45: 4.1906424 | U45: 4.8401919
A46: 40 | B46: вул.Ком'яхова 45 | C46: 0.81380176 | D46: - | E46: - | F46: - | G46: 0.068574283 | H46: 0.25516725 | I46: 0.040860066 | J46: 0.33842748 | K46: 0.17854153 | L46: - | M46: - | N46: 0.10686836 | O46: 0.30372091 | P46: 0.2250053 | Q46: 0.026692 | R46: 0.18832022 | S46: 1.6754329 | T46: 4.221412 | U46: 4.8757309
A47: 41 | B47: вул.Ком'яхова 47 | C47: 1.3311949 | D47: - | E47: - | F47: - | G47: 0.070315305 | H47: 0.31898014 | I47: 0.060709281 | J47: 0.33048379 | K47: 0.26347116 | L47: - | M47: - | N47: 0.14555148 | O47: 0.31143203 | P47: 0.28127521 | Q47: 0.033367205 | R47: 0.084337905 | S47: 0.87518318 | T47: 4.1063016 | U47: 4.7427784
A48: 42 | B48: вул.Ком'яхова 51 | C48: 0.52942224 | D48: - | E48: - | F48: - | G48: 0.45426666 | H48: 0.35144696 | I48: 0.19704476 | J48: 0.81165685 | K48: 0.68324432 | L48: - | M48: - | N48: 0.076012551 | O48: 0.21907943 | P48: 0.3099043 | Q48: 0.036763425 | R48: 0.03975662 | S48: 0.12245185 | T48: 3.83105 | U48: 4.4248627
A49: 43 | B49: вул.Святогірська 3 | C49: 0.66763062 | D49: - | E49: - | F49: - | G49: 0.37137341 | H49: 0.41929522 | I49: 0.044334197 | J49: 0.16582356 | K49: 0.74039945 | L49: - | M49: - | N49: 0.12368518 | O49: 0.32896843 | P49: 0.36973258 | Q49: 0.043860754 | R49: 0.11086107 | S49: 0.8477333 | T49: 4.2336978 | U49: 4.8899209
A50: 44 | B50: вул.Святогірська 4 | C50: 0.65115066 | D50: 0.18840434 | E50: - | F50: - | G50: 0.40373622 | H50: 0.53995803 | I50: 0.0563495 | J50: 0.21497417 | K50: 0.40867616 | L50: 0.028002256 | M50: 0.053850491 | N50: 0.16077878 | O50: 0.35763591 | P50: 0.47613249 | Q50: 0.056482796 | R50: 0.1230732 | S50: 0.52533309 | T50: 4.2445381 | U50: 4.9024415
A51: 45 | B51: вул.Святогірська 5 | C51: 0.53903487 | D51: - | E51: - | F51: - | G51: 0.43530177 | H51: 0.58041548 | I51: 0.041235564 | J51: 0.094688755 | K51: 0.5789588 | L51: - | M51: - | N51: 0.13481309 | O51: 0.38559718 | P51: 0.51180768 | Q51: 0.060714884 | R51: 0.094772704 | S51: 0.77889962 | T51: 4.2362404 | U51: 4.8928577
A52: 46 | B52: вул.Святогірська 6 | C52: 0.44782927 | D52: - | E52: - | F52: - | G52: 0.56568354 | H52: 0.40417581 | I52: 0.060341567 | J52: 0.25999301 | K52: 0.26202338 | L52: - | M52: - | N52: 0.15782169 | O52: 0.5010914 | P52: 0.35640036 | Q52: 0.042279175 | R52: 0.10601659 | S52: 1.0775153 | T52: 4.2411711 | U52: 4.8985526
A53: 47 | B53: вул.Святогірська 7 | C53: 0.62032576 | D53: - | E53: - | F53: - | G53: 0.31443285 | H53: 0.42009673 | I53: 0.041895949 | J53: 0.60782498 | K53: 0.79480455 | L53: - | M53: - | N53: 0.19923216 | O53: 0.27852958 | P53: 0.37043935 | Q53: 0.043944597 | R53: 0.12449678 | S53: 0.24225183 | T53: 4.0582751 | U53: 4.6873078
A54: 48 | B54: вул.Святогірська 8 | C54: 0.42804371 | D54: 0.18611505 | E54: - | F54: - | G54: 0.46023108 | H54: 0.37268015 | I54: 0.052869313 | J54: 0.30107993 | K54: 0.87828152 | L54: 0.027662002 | M54: 0.053196157 | N54: 0.13827822 | O54: 0.40767995 | P54: 0.32862763 | Q54: 0.038984543 | R54: 0.082087318 | S54: 0.4790194 | T54: 4.234836 | U54: 4.8912355
A55: 49 | B55: пров.Маломіський 5 | C55: 0.76610429 | D55: 0.09282627 | E55: - | F55: - | G55: 0.3619597 | H55: 0.41790544 | I55: 0.29853353 | J55: 0.26279808 | K55: 0.49785531 | L55: 0.01379663 | M55: 0.026531981 | N55: 0.16034412 | O55: 0.32062962 | P55: 0.36850708 | Q55: 0.043715375 | R55: 0.07187996 | S55: 0.47253797 | T55: 4.1759254 | U55: 4.8231938
A56: 50 | B56: вул.Марапульця 26 | C56: 1.0977287 | D56: 0.082234471 | E56: - | F56: - | G56: 0.25685918 | H56: 0.29399771 | I56: 0.075324811 | J56: 0.40552531 | K56: 0.69839664 | L56: 0.012222387 | M56: 0.02350459 | N56: 0.19700995 | O56: 0.22752991 | P56: 0.25924582 | Q56: 0.030753895 | R56: 0.10156423 | S56: 0.422768 | T56: 4.1846656 | U56: 4.8332888
A57: 51 | B57: вул.Марапульця 28 | C57: 0.47737591 | D57: - | E57: - | F57: - | G57: 0.40374694 | H57: 0.21245072 | I57: 0.12982573 | J57: 0.089780514 | K57: 0.11176586 | L57: - | M57: - | N57: 0.1131852 | O57: 0.51092201 | P57: 0.93669031 | Q57: 0.111118 | R57: 0.15383232 | S57: 0.95148046 | T57: 4.202174 | U57: 4.853511
A58: 52 | B58: вул.Марапульця 34 | C58: 0.8394542 | D58: - | E58: - | F58: - | G58: 0.39118008 | H58: 0.57445421 | I58: 0.099583689 | J58: 0.16110454 | K58: 0.50978526 | L58: - | M58: - | N58: 0.1532108 | O58: 0.34651348 | P58: 0.50655106 | Q58: 0.0600913 | R58: 0.1378639 | S58: 0.45863544 | T58: 4.238428 | U58: 4.8953843
A59: 53 | B59: вул.Марапульця 36 | C59: 0.90556535 | D59: - | E59: - | F59: - | G59: 0.35370071 | H59: 0.48838778 | I59: 0.09801274 | J59: 0.15856309 | K59: 0.47143859 | L59: - | M59: - | N59: 0.1206351 | O59: 0.32980386 | P59: 0.43065808 | Q59: 0.051088243 | R59: 0.35053012 | S59: 0.48498877 | T59: 4.2433724 | U59: 4.9010952
A60: 54 | B60: пров.Горовий 1а | C60: 0.72068889 | D60: 0.033746491 | E60: - | F60: - | G60: 0.39863757 | H60: 0.45193887 | I60: 0.30249357 | J60: 0.26014446 | K60: 0.47362819 | L60: 0.0050156905 | M60: 0.0096455587 | N60: 0.19779088 | O60: 0.35311945 | P60: 0.3985176 | Q60: 0.047275472 | R60: 0.075702644 | S60: 0.51440646 | T60: 4.2427518 | U60: 4.9003783
A61: 55 | B61: вул. Ярослава Мудрого,3 | C61: 0.48770143 | D61: 0.093925333 | E61: - | F61: - | G61: 0.37056839 | H61: 0.47373629 | I61: 0.24649766 | J61: 0.52814874 | K61: 0.57649764 | L61: 0.0092942127 | M61: 0.017873486 | N61: 0.13132936 | O61: 0.32825532 | P61: 0.41773847 | Q61: 0.049555612 | R61: 0.23710396 | S61: 0.23550072 | T61: 4.2037266 | U61: 4.8553042
A62: 56 | B62: вул.Корольова ,22 | C62: 1.0595788 | D62: - | E62: - | F62: - | G62: 0.47077638 | H62: 0.32163692 | I62: 0.20529038 | J62: 0.22583803 | K62: 0.44006449 | L62: - | M62: - | N62: 0.13609716 | O62: 0.41702115 | P62: 0.56723589 | Q62: 0.06729024 | R62: 0.19082655 | S62: 0.11862487 | T62: 4.2202808 | U62: 4.8744243
A63: 57 | B63: вул.Шевченко,17 | C63: 0.6602392 | D63: 0.086501075 | E63: - | F63: - | G63: 0.22360914 | H63: 0.46582617 | I63: 0.21230127 | J63: 0.06182223 | K63: 0.12567925 | L63: 0.012856526 | M63: 0.024724088 | N63: 0.10778733 | O63: 0.9903825 | P63: 0.49291603 | Q63: 0.19491266 | R63: 0.29819659 | S63: 0.27904253 | T63: 4.2367966 | U63: 4.8935001
A64: 58 | B64: вул.Бульварна,7 | C64: 0.70130992 | D64: 0.061052043 | E64: - | F64: - | G64: 0.43743278 | H64: 0.33388731 | I64: 0.25030972 | J64: 0.6619678 | K64: 0.54923962 | L64: 0.0090740741 | M64: 0.017450142 | N64: 0.11223053 | O64: 0.38748485 | P64: 0.29442028 | Q64: 0.034926583 | R64: 0.14271648 | S64: 0.098322846 | T64: 4.091825 | U64: 4.7260578
A65: 59 | B65: вул.Батюка,40 | C65: 0.43076787 | D65: 0.10583419 | E65: - | F65: - | G65: 0.42584047 | H65: 0.22791209 | I65: 0.23552427 | J65: 0.43775742 | K65: 0.75778805 | L65: 0.0079955081 | M65: 0.015375977 | N65: 0.069269883 | O65: 0.37721621 | P65: 0.20097182 | Q65: 0.023840949 | R65: 0.23252467 | S65: 0.13237771 | T65: 3.6809971 | U65: 4.2515517
A66: 60 | B66: вул.Ком'яхова,49 | C66: 1.281582 | D66: - | E66: - | F66: - | G66: 0.3372398 | H66: 0.33178178 | I66: 0.040849829 | J66: 0.32580424 | K66: 0.4235602 | L66: - | M66: - | N66: 0.13355199 | O66: 0.29873233 | P66: 0.29256364 | Q66: 0.034706332 | R66: 0.085123451 | S66: 0.65251153 | T66: 4.2380072 | U66: 4.8948983
A67: 61 | B67: вул.Лозановича,6 | C67: 1.1132728 | D67: - | E67: - | F67: - | G67: 0.24550157 | H67: 0.23312982 | I67: 0.16366369 | J67: 0.82440346 | K67: 0.58231765 | L67: - | M67: - | N67: 0.16366917 | O67: 0.21746917 | P67: 0.2055728 | Q67: 0.054680861 | R67: 0.21212037 | S67: 0.16799469 | T67: 4.1837961 | U67: 4.8322845
A68: 62 | B68: вул.Ком'яхова, 6 | C68: - | D68: - | E68: - | F68: - | G68: - | H68: - | I68: - | J68: - | K68: - | L68: - | M68: - | N68: - | O68: - | P68: - | Q68: - | R68: - | S68: - | T68: 0 | U68: 0
A69: 63 | B69: вул.Ком'яхова, 21 | C69: - | D69: - | E69: - | F69: - | G69: - | H69: - | I69: - | J69: - | K69: - | L69: - | M69: - | N69: - | O69: - | P69: - | Q69: - | R69: - | S69: - | T69: 0 | U69: 0
A70: 64 | B70: вул.Ком'яхова, 21а | C70: - | D70: - | E70: - | F70: - | G70: - | H70: - | I70: - | J70: - | K70: - | L70: - | M70: - | N70: - | O70: - | P70: - | Q70: - | R70: - | S70: - | T70: 0 | U70: 0
A71: 65 | B71: пров. Солов'яненко Анатолія, 1 | C71: - | D71: - | E71: - | F71: - | G71: - | H71: - | I71: - | J71: - | K71: - | L71: - | M71: - | N71: - | O71: - | P71: - | Q71: - | R71: - | S71: - | T71: 0 | U71: 0
A72: 66 | B72: пров. Солов'яненко Анатолія, 2 | C72: - | D72: - | E72: - | F72: - | G72: - | H72: - | I72: - | J72: - | K72: - | L72: - | M72: - | N72: - | O72: - | P72: - | Q72: - | R72: - | S72: - | T72: 0 | U72: 0
A73: 67 | B73: пров. Солов'яненко Анатолія (Дыбенко), 3 | C73: - | D73: - | E73: - | F73: - | G73: - | H73: - | I73: - | J73: - | K73: - | L73: - | M73: - | N73: - | O73: - | P73: - | Q73: - | R73: - | S73: - | T73: 0 | U73: 0
A74: 68 | B74: вул. Шнурківська, 108 | C74: - | D74: - | E74: - | F74: - | G74: - | H74: - | I74: - | J74: - | K74: - | L74: - | M74: - | N74: - | O74: - | P74: - | Q74: - | R74: - | S74: - | T74: 0 | U74: 0
A75: 69 | B75: вул. Шнурківська, 5 | C75: - | D75: - | E75: - | F75: - | G75: - | H75: - | I75: - | J75: - | K75: - | L75: - | M75: - | N75: - | O75: - | P75: - | Q75: - | R75: - | S75: - | T75: 0 | U75: 0
A76: 70 | B76: вул. Золочевського, 1 | C76: - | D76: - | E76: - | F76: - | G76: - | H76: - | I76: - | J76: - | K76: - | L76: - | M76: - | N76: - | O76: - | P76: - | Q76: - | R76: - | S76: - | T76: 0 | U76: 0
A77: 71 | B77: вул. Золочевського, 4 | C77: - | D77: - | E77: - | F77: - | G77: - | H77: - | I77: - | J77: - | K77: - | L77: - | M77: - | N77: - | O77: - | P77: - | Q77: - | R77: - | S77: - | T77: 0 | U77: 0
A78: 72 | B78: вул.Колонтаівська, 21 | C78: - | D78: - | E78: - | F78: - | G78: - | H78: - | I78: - | J78: - | K78: - | L78: - | M78: - | N78: - | O78: - | P78: - | Q78: - | R78: - | S78: - | T78: 0 | U78: 0
A79: 73 | B79: вул.Приозерна, 80 | C79: - | D79: - | E79: - | F79: - | G79: - | H79: - | I79: - | J79: - | K79: - | L79: - | M79: - | N79: - | O79: - | P79: - | Q79: - | R79: - | S79: - | T79: 0 | U79: 0
... A85: 79 | B85: вул.Т.Набережна, 43 | C85: - | D85: - | E85: - | F85: - | G85: - | H85: - | I85: - | J85: - | K85: - | L85: - | M85: - | N85: - | O85: - | P85: - | Q85: - | R85: - | S85: - | T85: 0 | U85: 0
B86: Середній тариф | C86: =AVERAGE(C7:C85) -> 0.66995046 | D86: =AVERAGE(D7:D85) -> 0.074356165 | E86: =AVERAGE(E7:E85) -> 0.87715072 | F86: =AVERAGE(F7:F85) -> 0.37131016 | G86: =AVERAGE(G7:G85) -> 0.38688254 | H86: =AVERAGE(H7:H85) -> 0.39856378 | I86: =AVERAGE(I7:I85) -> 0.17332022 | J86: =AVERAGE(J7:J85) -> 0.46697865 | ... U86: =AVERAGE(U7:U85) -> 3.6850001
B88: Начальник управління ЖКГ В.Г.Башкаєв
B90: Керуючий справами виконкому | P90: О.А.Огаркова

Sheet ТОВ "Цидило и К"
Q1: Додаток №7 до рішення виконавчого комітету Слов'янської міської ради від___18.07.2018_______№____438____
B2: Тарифи
A3: на послуги з утримання будинків і споруд та прибудинкової території будинків, які знаходяться на обслуговуванні ТОВ "Цидило и К" м. Слов'янськ
A4: № п/п | B4: Будинок | C4: 1. Прибирання прибудинкової території | D4: 2. Прибирання підвалів та технічних приміщень житлового будинку | E4: 3.Технічне обслуговування ліфтів | F4: 4. Енергопостачання ліфтів | G4: 5. Поточний ремонт конструктивних елементів, інженерних систем і технічних пристроїв будинків та елементів зовнішнього благоустрою, розташованих на прибудинковій теріторії | L4: 6. Дератизація | M4: 7. Дезінсекція | N4: 8. Обслуговування димовентиляційних каналів | O4: 9. Технічне обслуговування внутнішньобудинкових систем тепло-, водопостачання, водовідведення і зливної каналізації. | R4: 10. Прибирання і вивезення снігу, посипання частини прибудинкової території призначеної для проходу та проїзду, протиожеледними сумішами | S4: 11. Освітлення місць загального користування | T4: Загальні планові витрати, без ПДВ | U4: Вартість 1 м.кв. з рентабельністю та ПДВ
G5: Поточний ремонт центрального опалення | H5: Поточний ремонт гарячого та холодного водопостачання та водовідведення | I5: Поточний ремонт електричних мереж | J5: Поточний ремонт конструктивних елементів | K5: Поточний ремонт рулонної та штферної покрівлі | O5: ТО центрального опалення | P5: ТО гарячого та холодного водопостачання та водовідведення | Q5: ТО зливової каналізації
C6: грн./м2 | D6: грн./м2 | E6: грн./м2 | F6: грн./м2 | G6: грн./м2 | H6: грн./м2 | I6: грн./м2 | J6: грн./м2 | K6: грн./м2 | L6: грн./м2 | M6: грн./м2 | N6: грн./м2 | O6: грн./м2 | P6: грн./м2 | Q6: грн./м2 | R6: грн./м2 | S6: грн./м2 | T6: грн./м2 | U6: грн/1 м.кв
A7: 1 | B7: вул.Вільна 1 | C7: 1.0159477 | D7: 0.052631663 | E7: - | F7: - | G7: 0.24531238 | H7: 0.26806529 | I7: 0.083404667 | J7: 0.38873011 | K7: 0.39063738 | L7: 0.0091412328 | M7: 0.017579294 | N7: 0.14075269 | O7: 0.34278948 | P7: 0.33493643 | Q7: - | R7: 0.055633624 | S7: 0.2274868 | T7: 3.5730487 | U7: 4.7164243
A8: 2 | B8: вул.Вільна 2 | C8: 1.4259542 | D8: 0.044245314 | E8: - | F8: - | G8: 0.22698327 | H8: 0.24803614 | I8: 0.077172885 | J8: 0.31928578 | K8: 0.33099462 | L8: 0.011721016 | M8: 0.022540416 | N8: 0.12209627 | O8: 0.31717713 | P8: 0.30991084 | Q8: - | R8: 0.050763247 | S8: 0.17636296 | T8: 3.683244 | U8: 4.8618821
A9: 3 | B9: вул.Вільна 3 | C9: 1.4828048 | D9: 0.045707387 | E9: - | F9: - | G9: 0.2029576 | H9: 0.22178207 | I9: 0.069004306 | J9: 0.52553481 | K9: 0.32319129 | L9: 0.011970573 | M9: 0.023020332 | N9: 0.12736809 | O9: 0.28360464 | P9: 0.27710747 | Q9: - | R9: 0.040281132 | S9: 0.053908747 | T9: 3.6882433 | U9: 4.8684811
A10: 4 | B10: вул.Вільна 4 | C10: 1.4357351 | D10: 0.050967599 | E10: - | F10: - | G10: 0.2351966 | H10: 0.25701126 | I10: 0.079965363 | J10: 0.26332087 | K10: 0.32144998 | L10: 0.011723544 | M10: 0.022545278 | N10: 0.12440571 | O10: 0.32865409 | P10: 0.32112487 | Q10: - | R10: 0.14057167 | S10: 0.097658784 | T10: 3.6903308 | U10: 4.8712366
A11: 5 | B11: вул.Вільна 5 | C11: 1.8629224 | D11: 0.052458389 | E11: - | F11: - | G11: 0.15601899 | H11: 0.15218064 | I11: 0.071023232 | J11: 0.3710017 | K11: 0.35698725 | L11: 0.011780737 | M11: 0.022655263 | N11: 0.12485202 | O11: 0.21801455 | P11: 0.19014338 | Q11: - | R11: 0.021457578 | S11: 0.078530861 | T11: 3.690027 | U11: 4.8708356
A12: 6 | B12: вул.Вільна 6 | C12: 0.93302427 | D12: 0.090177616 | E12: - | F12: - | G12: 0.26753784 | H12: 0.37521135 | I12: 0.07782775 | J12: 0.32199513 | K12: 0.33157501 | L12: 0.011410154 | M12: 0.021942603 | N12: 0.12313234 | O12: 0.37384642 | P12: 0.46881097 | Q12: - | R12: 0.13681395 | S12: 0.072019084 | T12: 3.6053245 | U12: 4.7590283
A13: 7 | B13: вул.Вільна 8 | C13: 0.75617129 | D13: 0.058922286 | E13: - | F13: - | G13: 0.27749911 | H13: 0.22778393 | I13: 0.10630755 | J13: 0.34288321 | K13: 0.43424118 | L13: 0.018251362 | M13: 0.035098774 | N13: 0.10465194 | O13: 0.38776589 | P13: 0.28460654 | Q13: 0.50906981 | R13: 0.081790659 | S13: 0.038227263 | T13: 3.6632708 | U13: 4.8355174
A14: 8 | B14: вул.Вільна 9 | C14: 1.4413524 | D14: 0.048644652 | E14: - | F14: - | G14: 0.21245444 | H14: 0.23215975 | I14: 0.072233174 | J14: 0.33666233 | K14: 0.36416904 | L14: 0.01181543 | M14: 0.022721981 | N14: 0.12316961 | O14: 0.29687514 | P14: 0.29007395 | Q14: - | R14: 0.0289547 | S14: 0.085389579 | T14: 3.5666762 | U14: 4.7080126
A15: 9 | B15: пров.Батюка 3 | C15: 1.404881 | D15: 0.047413768 | E15: - | F15: - | G15: 0.22693137 | H15: 0.24797943 | I15: 0.077155239 | J15: 0.31921277 | K15: 0.32782623 | L15: 0.0011786133 | M15: 0.002266564 | N15: 0.12206835 | O15: 0.31710461 | P15: 0.30983998 | Q15: - | R15: 0.040730996 | S15: 0.11659366 | T15: 3.5611826 | U15: 4.700761
A16: 10 | B16: пров.Батюка 5 | C16: 1.3260309 | D16: 0.044752629 | E16: - | F16: - | G16: 0.26203153 | H16: 0.28473879 | I16: 0.076225945 | J16: 0.31536802 | K16: 0.30336257 | L16: 0.013432019 | M16: 0.025830807 | N16: 0.1205981 | O16: 0.36615214 | P16: 0.35576928 | Q16: - | R16: 0.029761169 | S16: 0.17590512 | T16: 3.699959 | U16: 4.8839458
A17: 11 | B17: пров.Батюка 6 | C17: 0.94739318 | D17: 0.048133467 | E17: - | F17: - | G17: 0.22690406 | H17: 0.24794959 | I17: 0.077145954 | J17: 0.31917435 | K17: 0.30687675 | L17: 0.0090523293 | M17: 0.017408326 | N17: 0.12205366 | O17: 0.31706645 | P17: 0.30980269 | Q17: - | R17: 0.071628668 | S17: 0.1873922 | T17: 3.2079817 | U17: 4.2345358
A18: 12 | B18: пров.Батюка 7 | C18: 1.6278882 | D18: 0.05655482 | E18: - | F18: - | G18: 0.2012219 | H18: 0.22096164 | I18: 0.077086402 | J18: 0.31892797 | K18: 0.3075227 | L18: 0.010889841 | M18: 0.020942001 | N18: 0.12195944 | O18: 0.28117925 | P18: 0.27608238 | Q18: - | R18: 0.046782075 | S18: 0.12333536 | T18: 3.691334 | U18: 4.8725609
A19: 13 | B19: пров.Батюка 8 | C19: 1.3746083 | D19: 0.051235012 | E19: - | F19: - | G19: 0.22667221 | H19: 0.24769623 | I19: 0.077067127 | J19: 0.31884822 | K19: 0.31332994 | L19: 0.011001719 | M19: 0.021157152 | N19: 0.12192894 | O19: 0.31674247 | P19: 0.30948614 | Q19: - | R19: 0.064662651 | S19: 0.11709161 | T19: 3.5715278 | U19: 4.7144167
A20: 14 | B20: пров.Батюка12 | C20: 1.4815356 | D20: 0.059611449 | E20: - | F20: - | G20: 0.22491211 | H20: 0.24577288 | I20: 0.076468703 | J20: 0.25180658 | K20: 0.30739387 | L20: 0.012986355 | M20: 0.024973759 | N20: 0.12098217 | O20: 0.31428297 | P20: 0.30708298 | Q20: - | R20: 0.061314194 | S20: 0.17057897 | T20: 3.6597026 | U20: 4.8308074
A21: 15 | B21: пров.Парковий 1 | C21: 1.2901695 | D21: 0.043542331 | E21: - | F21: - | G21: 0.22815325 | H21: 0.24931463 | I21: 0.077570669 | J21: 0.3438552 | K21: 0.32870297 | L21: 0.011639866 | M21: 0.022384358 | N21: 0.11863475 | O21: 0.31881201 | P21: 0.31150826 | Q21: - | R21: 0.029261336 | S21: 0.12450543 | T21: 3.4980545 | U21: 4.617432
A22: 16 | B22: пров.Парковий 3 | C22: 1.1990223 | D22: 0.12426444 | E22: - | F22: - | G22: 0.2614774 | H22: 0.28572963 | I22: 0.088900673 | J22: 0.037531317 | K22: 0.35533243 | L22: 0.013493219 | M22: 0.025948498 | N22: 0.11252077 | O22: 0.36537782 | P22: 0.35700728 | Q22: - | R22: 0.26585051 | S22: 0.19020579 | T22: 3.6826621 | U22: 4.861114
A23: 17 | B23: пров.Парковий 4 | C23: 1.6328677 | D23: 0.074243853 | E23: - | F23: - | G23: 0.22391058 | H23: 0.24467845 | I23: 0.076128188 | J23: 0.04820871 | K23: 0.30602505 | L23: 0.01082137 | M23: 0.020810326 | N23: 0.11843605 | O23: 0.31288347 | P23: 0.30571555 | Q23: - | R23: 0.049428341 | S23: 0.22285158 | T23: 3.6470092 | U23: 4.8140522
A24: 18 | B24: пров.Парковий 5 | C24: 1.0398219 | D24: 0.13418441 | E24: - | F24: - | G24: 0.28108733 | H24: 0.30715839 | I24: 0.095567925 | J24: 0.04034604 | K24: 0.39511519 | L24: 0.014505165 | M24: 0.027894549 | N24: 0.12095945 | O24: 0.39277993 | P24: 0.38378163 | Q24: - | R24: 0.28578841 | S24: 0.11869624 | T24: 3.6376866 | U24: 4.8017463
A25: 19 | B25: пров.Парковий 6 | C25: 1.6284943 | D25: 0.071739559 | E25: - | F25: - | G25: 0.22438219 | H25: 0.24519381 | I25: 0.076288532 | J25: 0.21900646 | K25: 0.30929072 | L25: 0.010813223 | M25: 0.020794659 | N25: 0.12069712 | O25: 0.31354248 | P25: 0.30635946 | Q25: - | R25: 0.049532449 | S25: 0.10208125 | T25: 3.6982162 | U25: 4.8816454
... A34: 28 | B34: вул.Батюка 2"а" | C34: 1.4022456 | D34: 0.03601365 | E34: - | F34: - | G34: 0.19073205 | H34: 0.16529177 | I34: 0.077142241 | J34: 0.36258198 | K34: 0.37989631 | L34: 0.013452699 | M34: 0.025870575 | N34: 0.12204778 | O34: 0.26652115 | P34: 0.20652519 | Q34: - | R34: 0.026386728 | S34: 0.1300227 | T34: 3.4047305 | U34: 4.4942442
A35: 29 | B35: вул.Батюка 2"б" | C35: 1.3673598 | D35: 0.046147454 | E35: - | F35: - | G35: 0.12870046 | H35: 0.14019941 | I35: 0.087242064 | J35: 0.40661534 | K35: 0.36668772 | L35: 0.011410492 | M35: 0.021943254 | N35: 0.15528021 | O35: 0.17984076 | P35: 0.17517332 | Q35: 0.46372674 | R35: 0.042200045 | S35: 0.069895217 | T35: 3.6624223 | U35: 4.8343975
A36: 30 | B36: вул.Батюка 6 | C36: 1.5547718 | D36: 0.046215203 | E36: - | F36: - | G36: 0.2272798 | H36: 0.21335639 | I36: 0.066382777 | J36: 0.30939497 | K36: 0.3829538 | L36: 0.01135427 | M36: 0.021835135 | N36: 0.14003345 | O36: 0.31759148 | P36: 0.26657993 | Q36: - | R36: 0.025228869 | S36: 0.071901922 | T36: 3.6548798 | U36: 4.8244414
A37: 31 | B37: вул.Батюка 10 | C37: 1.4751027 | D37: 0.049783702 | E37: - | F37: - | G37: 0.2046493 | H37: 0.22363067 | I37: 0.069579473 | J37: 0.32429404 | K37: 0.40060029 | L37: 0.01191515 | M37: 0.02291375 | N37: 0.12842973 | O37: 0.28596855 | P37: 0.27941722 | Q37: - | R37: 0.038042111 | S37: 0.075060506 | T37: 3.5893872 | U37: 4.7379911
A38: 32 | B38: вул.Батюка 12 | C38: 1.3895078 | D38: 0.054737114 | E38: - | F38: - | G38: 0.24470115 | H38: 0.26739737 | I38: 0.083196853 | J38: 0.14189824 | K38: 0.52272007 | L38: 0.014128968 | M38: 0.027171092 | N38: 0.14040199 | O38: 0.34193537 | P38: 0.33410189 | Q38: - | R38: 0.056577662 | S38: 0.066404526 | T38: 3.6848801 | U38: 4.8640418
A39: 33 | B39: вул.Батюка 14 | C39: 1.5756263 | D39: 0.046956126 | E39: - | F39: - | G39: 0.19408948 | H39: 0.21209143 | I39: 0.065989203 | J39: 0.30756061 | K39: 0.4146056 | L39: 0.011273571 | M39: 0.021679945 | N39: 0.13920322 | O39: 0.2712127 | P39: 0.26499942 | Q39: - | R39: 0.024509094 | S39: 0.059082675 | T39: 3.6088794 | U39: 4.7637208
A40: 34 | B40: вул.Батюка 16 | C40: 1.5895032 | D40: 0.047365713 | E40: - | F40: - | G40: 0.19592263 | H40: 0.2140946 | I40: 0.066612461 | J40: 0.31046547 | K40: 0.41852149 | L40: 0.011326019 | M40: 0.021780805 | N40: 0.14051797 | O40: 0.27377426 | P40: 0.26750229 | Q40: - | R40: 0.017396704 | S40: 0.10502582 | T40: 3.6798094 | U40: 4.8573485
A41: 35 | B41: вул.Батюка 18 | C41: 1.5767734 | D41: 0.046986377 | E41: - | F41: - | G41: 0.19435355 | H41: 0.21237999 | I41: 0.066078985 | J41: 0.30797906 | K41: 0.41516969 | L41: 0.011235312 | M41: 0.02160637 | N41: 0.13939261 | O41: 0.27158169 | P41: 0.26535996 | Q41: - | R41: 0.01725738 | S41: 0.076334776 | T41: 3.6224892 | U41: 4.7816857
A42: 36 | B42: вул.Батюка 24 | C42: 1.4898362 | D42: 0.060152635 | E42: - | F42: - | G42: 0.2310212 | H42: 0.25244859 | I42: 0.078545755 | J42: 0.25864619 | K42: 0.31439402 | L42: 0.011133164 | M42: 0.021409931 | N42: 0.1242683 | O42: 0.32281957 | P42: 0.31542401 | Q42: - | R42: 0.040053408 | S42: 0.11509293 | T42: 3.6352459 | U42: 4.7985246
A43: 37 | B43: вул.Батюка 30 | C43: 1.3486387 | D43: 0.04551563 | E43: - | F43: - | G43: 0.24783143 | H43: 0.26930813 | I43: 0.072095082 | J43: 0.33601872 | K43: 0.39367073 | L43: 0.01194878 | M43: 0.022978424 | N43: 0.12673623 | O43: 0.34630949 | P43: 0.3364893 | Q43: - | R43: 0.037853176 | S43: 0.1091044 | T43: 3.7044983 | U43: 4.8899377
A44: 38 | B44: вул.Батюка 34 | C44: 1.6233743 | D44: 0.051748027 | E44: - | F44: - | G44: 0.18940266 | H44: 0.20798293 | I44: 0.072558548 | J44: 0.33817883 | K44: 0.39620146 | L44: 0.012025593 | M44: 0.023126141 | N44: 0.012755096 | O44: 0.26466352 | P44: 0.25986602 | Q44: - | R44: 0.058382673 | S44: 0.1247793 | T44: 3.635045 | U44: 4.7982595
A45: 39 | B45: вул.Бульварна 2 | C45: 1.4623556 | D45: 0.04712014 | E45: - | F45: - | G45: 0.20906364 | H45: 0.22845445 | I45: 0.071080323 | J45: 0.33128916 | K45: 0.29921714 | L45: 0.01217937 | M45: 0.023421865 | N45: 0.12089143 | O45: 0.29213697 | P45: 0.28544433 | Q45: - | R45: 0.044767774 | S45: 0.13428628 | T45: 3.5617085 | U45: 4.7014553
A46: 40 | B46: вул.Бульварна 10 | C46: 1.4151874 | D46: 0.044107598 | E46: - | F46: - | G46: 0.22803323 | H46: 0.24918348 | I46: 0.077529863 | J46: 0.40258991 | K46: 0.36312192 | L46: 0.011020613 | M46: 0.021193487 | N46: 0.12266104 | O46: 0.31864429 | P46: 0.31134439 | Q46: - | R46: 0.023940905 | S46: 0.063976515 | T46: 3.6525347 | U46: 4.8213458
A47: 41 | B47: пров.Виноградний 3 | C47: 0.3704888 | D47: 0.01175527 | E47: 0.98554325 | F47: 0.12028966 | G47: 0.18402782 | H47: 0.18142901 | I47: 0.17408738 | J47: 0.40055827 | K47: 0.16437208 | L47: 0.0064727697 | M47: 0.012447634 | N47: 0.10175788 | O47: 0.25715295 | P47: 0.226688 | Q47: 0.25666248 | R47: 0.023882457 | S47: 0.071898091 | T47: 3.5495138 | U47: 4.6853582
A48: 42 | B48: пров.Виноградний 3 (для мешканців 1-го поверху) | C48: 0.3704888 | D48: 0.01175527 | E48: - | F48: - | G48: 0.18402782 | H48: 0.18142901 | I48: 0.17408738 | J48: 0.40055827 | K48: 0.16437208 | L48: 0.0064727697 | M48: 0.012447634 | N48: 0.10175788 | O48: 0.25715295 | P48: 0.226688 | Q48: 0.25666248 | R48: 0.023882457 | S48: 0.071898091 | T48: 2.4436809 | U48: 3.2256588
A49: 43 | B49: пров.Виноградний 9 | C49: 0.52655543 | D49: 0.017770884 | E49: 0.91108486 | F49: 0.17747132 | G49: 0.18566893 | H49: 0.18303916 | I49: 0.17564114 | J49: 0.39251778 | K49: 0.16579154 | L49: 0.0065288221 | M49: 0.012555427 | N49: 0.10266096 | O49: 0.25944616 | P49: 0.226688 | Q49: 0.22194884 | R49: 0.039387791 | S49: 0.064684548 | T49: 3.6694416 | U49: 4.8436629
A50: 44 | B50: пров.Виноградний 9 (для мешканців 1-го поверху) | C50: 0.52655543 | D50: 0.017770884 | E50: - | F50: - | G50: 0.18566893 | H50: 0.18303916 | I50: 0.17564114 | J50: 0.39251778 | K50: 0.16579154 | L50: 0.0065288221 | M50: 0.012555427 | N50: 0.10266096 | O50: 0.25944616 | P50: 0.226688 | Q50: 0.22194884 | R50: 0.039387791 | S50: 0.064684548 | T50: 2.5808854 | U50: 3.4067687
A51: 45 | B51: п.Арматурний 60 | C51: 0.5164633 | D51: 0.019020635 | E51: - | F51: - | G51: 0.23726543 | H51: 0.53866268 | I51: 0.15171794 | J51: 0.10684247 | K51: 0.76612673 | L51: 0.019193115 | M51: 0.036909837 | N51: 0.10677302 | O51: 0.331545 | P51: 0.67303661 | Q51: - | R51: 0.18904594 | S51: 0 | T51: 3.6926027 | U51: 4.8742356
A52: 46 | B52: п.Арматурний 60 "а" | C52: 0.61133071 | D52: 0.021127159 | E52: - | F52: - | G52: 0.24624745 | H52: 0.55905453 | I52: 0.15746144 | J52: 0.11088714 | K52: 0.7051149 | L52: 0.013102262 | M52: 0.025196657 | N52: 0.11081507 | O52: 0.34409611 | P52: 0.69851538 | Q52: - | R52: 0.10174055 | S52: 0 | T52: 3.7046894 | U52: 4.8901899
B53: Середній тариф | C53: =AVERAGE(C7:C52) -> 1.2766357 | D53: =AVERAGE(D7:D52) -> 0.050128893 | E53: =AVERAGE(E7:E52) -> 0.94831406 | F53: =AVERAGE(F7:F52) -> 0.14888049 | G53: =AVERAGE(G7:G52) -> 0.22057031 | H53: =AVERAGE(H7:H52) -> 0.24970167 | I53: =AVERAGE(I7:I52) -> 0.088574299 | J53: =AVERAGE(J7:J52) -> 0.30119394 | ... U53: =AVERAGE(U7:U52) -> 4.7059146
B55: Начальник управління ЖКГ В.Г.Башкаєв Керуючий справами виконкому О.А.Огаркова
